Workbook

Sheet BACHEO
B1: INFORME SEMANAL DE LOS TRABAJOS DEL DPTO. MANTENIMIENTO DE OBRAS VIALES Y PUENTES (GESTIÓN 2026)
B3: SOL. N° | C3: Nº DE SEMANA | D3: FECHA | E3: GRUPO / CUADRILLA N° | F3: TURNO | G3: UBICACIÓN | H3: DIST.N° | I3: ACTIVIDAD PRINCIPAL | J3: DETALLE DE LOS TRABAJOS | K3: CANT EJECUTADA | L3: UNIDAD | M3: MATERIAL UTILIZADO | T3: OBSERVACIONES
M4: losetas pza. | N4: cap. Asfaltica Bolsa | O4: arena m3 | P4: ripio m3 | Q4: capa base m3 | R4: ladrillos pza | S4: cemento kg.
B5: 1 | C5: 43 | D5: 46325 | E5: 1 | F5: Dia | G5: Calle campero entre calle vaca diez y Av. Uruguay | H5: 11 | I5: Reposición de pavimento articulado | J5: Se realizo el trabajo de reposicion de pavimento articulado losetas | K5: =3.5*2.2+2*1+1.5*1 -> 11.2 | L5: m²
B6: 2 | C6: 43 | D6: 46325 | E6: 1 | F6: Dia | G6: Calle Suarez Arana entre calle campero y calle Avaroa | H6: 11 | I6: Reposición de pavimento articulado | J6: Se realizo el trabajo de reposicion de pavimento articulado losetas | K6: =2*2+3*1+2*1.5 -> 10 | L6: m²
B7: 3 | C7: 43 | D7: 46325 | E7: 2 | F7: Noche | G7: Calle 8 la plata entre av. Sam Martin y av. la Salle | H7: 1 | I7: Reposición de pavimento articulado | J7: Se realizo el trabajo de reposicion de pavimento articulado losetas | K7: =7*3 -> 21 | L7: m²
B8: 4 | C8: 43 | D8: 46325 | E8: 3 | F8: Dia | G8: Av. clara cuta zona mercado los pozos barrio universitario | H8: 5 | I8: Picado de pavimento rígido y colocado de pavimento articulado | J8: Se realizo el trabajo de reposicion de pavimento articulado losetas | K8: =3*1.8 -> 5.4 | L8: m²
B9: 5 | C9: 43 | D9: 46325 | E9: 4 | F9: Dia | G9: Av. los vallecitos frente Facultad de agronomía | H9: 5 | I9: Reposición de pavimento articulado | J9: Se realizo el trabajo de reposicion de pavimento articulado losetas | K9: 12.96 | L9: m²
B10: 6 | C10: 44 | D10: 46329 | E10: 1 | F10: Dia | G10: Calle Beni entre 2do y 1er anillo | H10: 11 | I10: Reposición de pavimento articulado | J10: Se realizo el trabajo de reposicion de pavimento articulado losetas | K10: =(6*8)+1*1 -> 49 | L10: m²
B11: 7 | C11: 44 | D11: 46329 | E11: 2 | F11: Noche | G11: Av. Ana barba entre calle chóferes del chaco y av. Omar Chávez | H11: 11 | I11: Reposición de pavimento articulado | J11: Se realizo el trabajo de reposicion de pavimento articulado losetas | K11: =3*1.8+2.1*1.8+2.6*2+1*1 -> 15.38 | L11: m²
B12: 8 | C12: 44 | D12: 46329 | E12: 3 | F12: Dia | G12: Av. Beni y 5to anillo al frente de saguapac | H12: 5 | I12: Reposición de pavimento articulado | J12: Se realizo el trabajo de reposicion de pavimento articulado losetas | K12: =1.4*0.5 -> 0.7 | L12: m²
B13: 9 | C13: 44 | D13: 46329 | E13: 3 | F13: Dia | G13: Av. clara cuta zona mercado los pozos barrio universitario | H13: 5 | I13: Reposición de pavimento articulado | J13: Se realizo el trabajo de reposicion de pavimento articulado losetas | K13: =1.8*3 -> 5.4 | L13: m²
B14: 10 | C14: 44 | D14: 46329 | E14: 4 | F14: Dia | G14: Av. los vallecitos frente Facultad de agronomía | H14: 5 | I14: Reposición de pavimento articulado | J14: Se realizo el trabajo de reposicion de pavimento articulado losetas | K14: 18.4 | L14: m²
B15: 11 | C15: 44 | D15: 46330 | E15: 1 | F15: Dia | G15: Calle Beni entre. 2 do y 1er anillo | H15: 11 | I15: Reposición de pavimento articulado | J15: Se realizo el trabajo de reposicion de pavimento articulado losetas | K15: =13*5.3 -> 68.9 | L15: m²
B16: 12 | C16: 44 | D16: 46330 | E16: 2 | F16: Noche | G16: Barrio San Isidro. Parque urbano la nueva Santa Cruz | H16: 8 | I16: Retiro de letrero en mal estado | J16: Se realizo el retiro de un letrero en mal estado | K16: 1 | L16: pto.
B17: 13 | C17: 44 | D17: 46330 | E17: 3 | F17: Dia | G17: Av. 18 de Marzo 2 cuadra antes del obelisco zona del plan 3000 | H17: 8 | I17: Calafateado de unión de losetas y cordones | J17: Se realizo el colocado de cento en las uniones del los cordones y las losetas | K17: =3*1.2 -> 3.6 | L17: m²
B18: 14 | C18: 44 | D18: 46330 | E18: 4 | F18: Dia | G18: Av. los vallecitos frente Facultad de agronomía | H18: 5 | I18: Reposición de pavimento articulado | J18: Se realizo el trabajo de reposicion de pavimento articulado losetas | K18: 35 | L18: m²
B19: 15 | C19: 44 | D19: 46331 | E19: 1 | F19: Dia | G19: Av. mamerto Cuellar Esquina calle Tte. Aponte | H19: 11 | I19: Reposición de pavimento articulado | J19: Se realizo el trabajo de reposicion de pavimento articulado losetas | K19: =4*2.3 -> 9.2 | L19: m²
B20: 16 | C20: 44 | D20: 46331 | E20: 1 | F20: Dia | G20: Calle Canadá esquina Av. Cristóbal de Mendoza 2do. Anillo | H20: 11 | I20: Reposición de pavimento articulado | J20: Se realizo el trabajo de reposicion de pavimento articulado losetas | K20: =2*1 -> 2 | L20: m²
B21: 17 | C21: 44 | D21: 46331 | E21: 1 | F21: Dia | G21: Calle Canadá esquina Av. Cristóbal de Mendoza 2do. Anillo | H21: 11 | I21: Limpieza de cámara de sumidero | J21: Se realizo la limpieza de camara de sumideros | K21: 1 | L21: pto.
B22: 18 | C22: 44 | D22: 46331 | E22: 2 | F22: Noche | G22: Calle 27de mayo entre av. Viedma y calle Félix romero | H22: 11 | I22: Hundimiento en pavimento articulado por tubo de alcantarillado roto de saguapac | J22: Se realizo la verificacion de un hundimiento a consecuencia de un tubo roto de saguapac | K22: 1 | L22: pto.
B23: 19 | C23: 44 | D23: 46331 | E23: 2 | F23: Noche | G23: Calle 27de mayo entre av. Viedma y calle Félix romero | H23: 11 | I23: Reposición de pavimento articulado | J23: Se realizo el trabajo de reposicion de pavimento articulado losetas | K23: 7.2 | L23: m²
B26: CANTIDAD DE TRABAJO REALIZADOS
B27: REP DE LOSETAS EN PAVIMENTO ARTICULADO (M2) | K27: =+K5+K6+K7+K8+K9+K10+K11+K12+K13+K14+K18+K19+K20+K23 -> 202.84
B28: RETIRO DE LETRERO | K28: =+K16 -> 1
B29: LIMPIEZA DE CAMARA DE SUMIDERO | K29: =+K21 -> 1
L30: =+UPPER(B30)

Sheet INFORME DIARIO MAQUINARIA
B1: CRONOGRAMA DE AVANCE DE MAQUINARIAS SECRETARIA DE OBRAS PUBLICAS - DIRECCION DE MANTENIMIENTO - DEPARTAMENTO DE MANTENIMIENTO DE OBRAS VIALES Y PUENTES | L1: DATOS Y PRODUCCION | Q1: TIEMPOS Y RECORRIDOS TOTALES | Z1: TIEMPO Y RECORRIDOS EFECTIVO | AI1: COMBUSTIBLE (L) | AN1: RENDIMIENTO COMBUSTIBLE | AQ1: RENDIMIENTO PRODUCCION | AS1: EFICIENCIA | AT1: FISCALIZACION Y OBSERVACIONES
B2: FECHA | C2: DIA | D2: CAN. | E2: MAQUINARIA/EQUIPO | F2: OPERADOR/CHOFER | G2: D.M. | H2: BARRIO | I2: UV | J2: AREA DE APOYO | K2: TRABAJOS REALIZADOS | L2: PERFILADO DE VIAS ML | M2: CARGUIO RETRO M3 | N2: N° VIAJES | O2: ACARREO VOLQUETA M3 | P2: ML CANAL | Q2: HORA INICIAL | R2: HORA FINAL | S2: HORA TOTAL | T2: HOROMETRO INICIAL | U2: HOROMETRO FINAL | V2: HOMOMETRO TOTAL | W2: ODOMETRO INICIAL | X2: ODOMETRO FINAL | Y2: ODOMETRO TOTAL | Z2: HORA INICIAL2 | AA2: HORA FINAL2 | AB2: HORA EFECTIVA | AC2: HOROMETRO INICIAL EFECTIVO | AD2: HOROMETRO FINAL EFECTIVO | AE2: HOROMETRO TOTAL EFECTIVO | AF2: ODOMETRO INICIAL EFECTIVO | AG2: ODOMETRO FINAL EFECTIVO | AH2: ODOMETRO TOTAL EFECTIVO | AI2: CAPACIDAD DE TANQUE | AJ2: CARGUIO DE COMBUSTIBLE | AK2: INICIAL | AL2: FINAL | AM2: CONSUMIDO | AN2: L/H | AO2: KM/L | AP2: KM/H | AQ2: ML/H | AR2: M3/H | AS2: % | AT2: OBSERVACIONES | AU2: ESTADO DEL EQUIPO | AV2: INSPECTOR | AW2: UBICACIÓN | AX2: PRESIDENTE DE BARRIO | AY2: NUMERO TELEFONICO | AZ2: FISCAL
B3: 46149 | C3: JUEVES | D3: 1 | E3: MOTONIVELADORA #48 | F3: LEONARDO MORENO | G3: 12 | H3: EL TRIUNFO | I3: 178 | K3: MANTENIMIENTO DE VIAS NO PAVIMENTADAS | L3: 1250 | S3: ='INFORME DIARIO MAQUINARIA'!$R3-'INFORME DIARIO MAQUINARIA'!$Q3 -> 0 | T3: 1858.1 | U3: 1864.9 | V3: =IF(U3-T3=0,"",U3-T3) -> 6.8 | Y3: =IF(X3-W3=0,"",X3-W3) | AB3: ='INFORME DIARIO MAQUINARIA'!$AA3-'INFORME DIARIO MAQUINARIA'!$Z3 -> 0 | AE3: =IF(AD3-AC3=0,"",AD3-AC3) | AH3: =IF(AG3-AF3=0,"",AG3-AF3) | AM3: =IF((AK3+AJ3)-AL3=0,"",(AK3+AJ3)-AL3) | AN3: =IF(OR(AM3="",V3="",V3=0),"",ROUND(AM3/V3,2)) | AO3: =IF(OR(Y3="",AM3="",AM3=0),"",ROUND(Y3/AM3,2)) | AP3: =IF(OR(AM3="",Y3="",Y3=0),"",ROUND(AM3/Y3,2)) | AQ3: =IF(OR(L3="",V3="",V3=0),"",ROUND(L3/V3,1)) -> 183.8 | AR3: =IF(OR('INFORME DIARIO MAQUINARIA'!$O3="",'INFORME DIARIO MAQUINARIA'!$AH3="",'INFORME DIARIO MAQUINARIA'!$AH3=0),"",ROUND('INFORME DIARIO MAQUINARIA'!$O3/'INFORME DIARIO MAQUINARIA'!$AH3,1)) | AS3: =IFERROR(IF(OR(V3="",AE3="",V3<=0,AE3<0),"",AE3/V3),"")
B4: 46149 | C4: JUEVES | D4: 1 | E4: MOTONIVELADORA #44 | F4: ROLY OSINAGA | G4: 12 | H4: MAGISTERIO SUR | I4: 184 | K4: MANTENIMIENTO DE VIAS NO PAVIMENTADAS | L4: 1100 | S4: ='INFORME DIARIO MAQUINARIA'!$R4-'INFORME DIARIO MAQUINARIA'!$Q4 -> 0 | V4: =IF(U4-T4=0,"",U4-T4) | Y4: =IF(X4-W4=0,"",X4-W4) | AB4: ='INFORME DIARIO MAQUINARIA'!$AA4-'INFORME DIARIO MAQUINARIA'!$Z4 -> 0 | AE4: =IF(AD4-AC4=0,"",AD4-AC4) | AH4: =IF(AG4-AF4=0,"",AG4-AF4) | AM4: =IF((AK4+AJ4)-AL4=0,"",(AK4+AJ4)-AL4) | AN4: =IF(OR(AM4="",V4="",V4=0),"",ROUND(AM4/V4,2)) | AO4: =IF(OR(Y4="",AM4="",AM4=0),"",ROUND(Y4/AM4,2)) | AP4: =IF(OR(AM4="",Y4="",Y4=0),"",ROUND(AM4/Y4,2)) | AQ4: =IF(OR(L4="",V4="",V4=0),"",ROUND(L4/V4,1)) | AR4: =IF(OR('INFORME DIARIO MAQUINARIA'!$O4="",'INFORME DIARIO MAQUINARIA'!$AH4="",'INFORME DIARIO MAQUINARIA'!$AH4=0),"",ROUND('INFORME DIARIO MAQUINARIA'!$O4/'INFORME DIARIO MAQUINARIA'!$AH4,1)) | AS4: =IFERROR(IF(OR(V4="",AE4="",V4<=0,AE4<0),"",AE4/V4),"")
B5: 46149 | C5: JUEVES | D5: 1 | E5: RETROEXCAVADORA #33 | F5: ELEODORO ALBA | G5: 12 | H5: MAGISTERIO SUR | I5: 184 | K5: CARGUIO DE MATERIAL DE RELLENO | M5: 252 | S5: ='INFORME DIARIO MAQUINARIA'!$R5-'INFORME DIARIO MAQUINARIA'!$Q5 -> 0 | V5: =IF(U5-T5=0,"",U5-T5) | Y5: =IF(X5-W5=0,"",X5-W5) | AB5: ='INFORME DIARIO MAQUINARIA'!$AA5-'INFORME DIARIO MAQUINARIA'!$Z5 -> 0 | AE5: =IF(AD5-AC5=0,"",AD5-AC5) | AH5: =IF(AG5-AF5=0,"",AG5-AF5) | AM5: =IF((AK5+AJ5)-AL5=0,"",(AK5+AJ5)-AL5) | AN5: =IF(OR(AM5="",V5="",V5=0),"",ROUND(AM5/V5,2)) | AO5: =IF(OR(Y5="",AM5="",AM5=0),"",ROUND(Y5/AM5,2)) | AP5: =IF(OR(AM5="",Y5="",Y5=0),"",ROUND(AM5/Y5,2)) | AQ5: =IF(OR(L5="",V5="",V5=0),"",ROUND(L5/V5,1)) | AR5: =IF(OR('INFORME DIARIO MAQUINARIA'!$O5="",'INFORME DIARIO MAQUINARIA'!$AH5="",'INFORME DIARIO MAQUINARIA'!$AH5=0),"",ROUND('INFORME DIARIO MAQUINARIA'!$O5/'INFORME DIARIO MAQUINARIA'!$AH5,1)) | AS5: =IFERROR(IF(OR(V5="",AE5="",V5<=0,AE5<0),"",AE5/V5),"")
B6: 46149 | C6: JUEVES | D6: 1 | E6: VOLQUETA 2843 IRU | F6: FELIX RENGEL | G6: 12 | H6: MAGISTERIO SUR | I6: 184 | K6: TRASLADO DE MATERIAL DE RELLENO | N6: 12 | O6: 144 | S6: ='INFORME DIARIO MAQUINARIA'!$R6-'INFORME DIARIO MAQUINARIA'!$Q6 -> 0 | V6: =IF(U6-T6=0,"",U6-T6) | Y6: =IF(X6-W6=0,"",X6-W6) | AB6: ='INFORME DIARIO MAQUINARIA'!$AA6-'INFORME DIARIO MAQUINARIA'!$Z6 -> 0 | AE6: =IF(AD6-AC6=0,"",AD6-AC6) | AH6: =IF(AG6-AF6=0,"",AG6-AF6) | AM6: =IF((AK6+AJ6)-AL6=0,"",(AK6+AJ6)-AL6) | AN6: =IF(OR(AM6="",V6="",V6=0),"",ROUND(AM6/V6,2)) | AO6: =IF(OR(Y6="",AM6="",AM6=0),"",ROUND(Y6/AM6,2)) | AP6: =IF(OR(AM6="",Y6="",Y6=0),"",ROUND(AM6/Y6,2)) | AQ6: =IF(OR(L6="",V6="",V6=0),"",ROUND(L6/V6,1)) | AR6: =IF(OR('INFORME DIARIO MAQUINARIA'!$O6="",'INFORME DIARIO MAQUINARIA'!$AH6="",'INFORME DIARIO MAQUINARIA'!$AH6=0),"",ROUND('INFORME DIARIO MAQUINARIA'!$O6/'INFORME DIARIO MAQUINARIA'!$AH6,1)) | AS6: =IFERROR(IF(OR(V6="",AE6="",V6<=0,AE6<0),"",AE6/V6),"")
B7: 46149 | C7: JUEVES | D7: 1 | E7: VOLQUETA 6327 ECU | F7: RAMON DAZA | G7: 12 | H7: TRIUNFO | I7: 178 | K7: TRASLADO DE MATERIAL DE RELLENO | N7: 9 | O7: 108 | S7: ='INFORME DIARIO MAQUINARIA'!$R7-'INFORME DIARIO MAQUINARIA'!$Q7 -> 0 | V7: =IF(U7-T7=0,"",U7-T7) | Y7: =IF(X7-W7=0,"",X7-W7) | AB7: ='INFORME DIARIO MAQUINARIA'!$AA7-'INFORME DIARIO MAQUINARIA'!$Z7 -> 0 | AE7: =IF(AD7-AC7=0,"",AD7-AC7) | AH7: =IF(AG7-AF7=0,"",AG7-AF7) | AM7: =IF((AK7+AJ7)-AL7=0,"",(AK7+AJ7)-AL7) | AN7: =IF(OR(AM7="",V7="",V7=0),"",ROUND(AM7/V7,2)) | AO7: =IF(OR(Y7="",AM7="",AM7=0),"",ROUND(Y7/AM7,2)) | AP7: =IF(OR(AM7="",Y7="",Y7=0),"",ROUND(AM7/Y7,2)) | AQ7: =IF(OR(L7="",V7="",V7=0),"",ROUND(L7/V7,1)) | AR7: =IF(OR('INFORME DIARIO MAQUINARIA'!$O7="",'INFORME DIARIO MAQUINARIA'!$AH7="",'INFORME DIARIO MAQUINARIA'!$AH7=0),"",ROUND('INFORME DIARIO MAQUINARIA'!$O7/'INFORME DIARIO MAQUINARIA'!$AH7,1)) | AS7: =IFERROR(IF(OR(V7="",AE7="",V7<=0,AE7<0),"",AE7/V7),"")
B8: 46149 | C8: JUEVES | D8: 1 | E8: RETROEXCAVADORA #17 | F8: ROLANDO RIOJA | G8: 13 | H8: ESCUDERO PUNTO DE ACOPIO | K8: CARGUIO DE MATERIAL PARA RELLENO | M8: 204 | S8: ='INFORME DIARIO MAQUINARIA'!$R8-'INFORME DIARIO MAQUINARIA'!$Q8 -> 0 | V8: =IF(U8-T8=0,"",U8-T8) | Y8: =IF(X8-W8=0,"",X8-W8) | AB8: ='INFORME DIARIO MAQUINARIA'!$AA8-'INFORME DIARIO MAQUINARIA'!$Z8 -> 0 | AE8: =IF(AD8-AC8=0,"",AD8-AC8) | AH8: =IF(AG8-AF8=0,"",AG8-AF8) | AM8: =IF((AK8+AJ8)-AL8=0,"",(AK8+AJ8)-AL8) | AN8: =IF(OR(AM8="",V8="",V8=0),"",ROUND(AM8/V8,2)) | AO8: =IF(OR(Y8="",AM8="",AM8=0),"",ROUND(Y8/AM8,2)) | AP8: =IF(OR(AM8="",Y8="",Y8=0),"",ROUND(AM8/Y8,2)) | AQ8: =IF(OR(L8="",V8="",V8=0),"",ROUND(L8/V8,1)) | AR8: =IF(OR('INFORME DIARIO MAQUINARIA'!$O8="",'INFORME DIARIO MAQUINARIA'!$AH8="",'INFORME DIARIO MAQUINARIA'!$AH8=0),"",ROUND('INFORME DIARIO MAQUINARIA'!$O8/'INFORME DIARIO MAQUINARIA'!$AH8,1)) | AS8: =IFERROR(IF(OR(V8="",AE8="",V8<=0,AE8<0),"",AE8/V8),"")
B9: 46149 | C9: JUEVES | D9: 1 | E9: MOTONIVELADORA #33 | F9: EDIL CARBAJAL | G9: 13 | H9: RECREO CENTRAL | I9: 418 | K9: MANTENIMIENTO DE VIAS NO PAVIMENTADAS | L9: 2000 | S9: ='INFORME DIARIO MAQUINARIA'!$R9-'INFORME DIARIO MAQUINARIA'!$Q9 -> 0 | V9: =IF(U9-T9=0,"",U9-T9) | Y9: =IF(X9-W9=0,"",X9-W9) | AB9: ='INFORME DIARIO MAQUINARIA'!$AA9-'INFORME DIARIO MAQUINARIA'!$Z9 -> 0 | AE9: =IF(AD9-AC9=0,"",AD9-AC9) | AH9: =IF(AG9-AF9=0,"",AG9-AF9) | AM9: =IF((AK9+AJ9)-AL9=0,"",(AK9+AJ9)-AL9) | AN9: =IF(OR(AM9="",V9="",V9=0),"",ROUND(AM9/V9,2)) | AO9: =IF(OR(Y9="",AM9="",AM9=0),"",ROUND(Y9/AM9,2)) | AP9: =IF(OR(AM9="",Y9="",Y9=0),"",ROUND(AM9/Y9,2)) | AQ9: =IF(OR(L9="",V9="",V9=0),"",ROUND(L9/V9,1)) | AR9: =IF(OR('INFORME DIARIO MAQUINARIA'!$O9="",'INFORME DIARIO MAQUINARIA'!$AH9="",'INFORME DIARIO MAQUINARIA'!$AH9=0),"",ROUND('INFORME DIARIO MAQUINARIA'!$O9/'INFORME DIARIO MAQUINARIA'!$AH9,1)) | AS9: =IFERROR(IF(OR(V9="",AE9="",V9<=0,AE9<0),"",AE9/V9),"")
B10: 46149 | C10: JUEVES | D10: 1 | E10: VOLQUETA 6327 EIT | F10: HERNAN CANDIA | G10: 13 | H10: VILLS CAROLINA | I10: 240 | K10: TRANSPORTE DE MAERIAL PARA RELLENO | N10: 6 | O10: 72 | S10: ='INFORME DIARIO MAQUINARIA'!$R10-'INFORME DIARIO MAQUINARIA'!$Q10 -> 0 | V10: =IF(U10-T10=0,"",U10-T10) | Y10: =IF(X10-W10=0,"",X10-W10) | AB10: ='INFORME DIARIO MAQUINARIA'!$AA10-'INFORME DIARIO MAQUINARIA'!$Z10 -> 0 | AE10: =IF(AD10-AC10=0,"",AD10-AC10) | AH10: =IF(AG10-AF10=0,"",AG10-AF10) | AM10: =IF((AK10+AJ10)-AL10=0,"",(AK10+AJ10)-AL10) | AN10: =IF(OR(AM10="",V10="",V10=0),"",ROUND(AM10/V10,2)) | AO10: =IF(OR(Y10="",AM10="",AM10=0),"",ROUND(Y10/AM10,2)) | AP10: =IF(OR(AM10="",Y10="",Y10=0),"",ROUND(AM10/Y10,2)) | AQ10: =IF(OR(L10="",V10="",V10=0),"",ROUND(L10/V10,1)) | AR10: =IF(OR('INFORME DIARIO MAQUINARIA'!$O10="",'INFORME DIARIO MAQUINARIA'!$AH10="",'INFORME DIARIO MAQUINARIA'!$AH10=0),"",ROUND('INFORME DIARIO MAQUINARIA'!$O10/'INFORME DIARIO MAQUINARIA'!$AH10,1)) | AS10: =IFERROR(IF(OR(V10="",AE10="",V10<=0,AE10<0),"",AE10/V10),"")
B11: 46149 | C11: JUEVES | D11: 1 | E11: VOLQUETA 6327 EFG | F11: FERNANDO OLLER | G11: 13 | H11: VILLA CAROLINA | I11: 240 | K11: TRANSPORTE DE MAERIAL PARA RELLENO | N11: 7 | O11: 84 | S11: ='INFORME DIARIO MAQUINARIA'!$R11-'INFORME DIARIO MAQUINARIA'!$Q11 -> 0 | V11: =IF(U11-T11=0,"",U11-T11) | Y11: =IF(X11-W11=0,"",X11-W11) | AB11: ='INFORME DIARIO MAQUINARIA'!$AA11-'INFORME DIARIO MAQUINARIA'!$Z11 -> 0 | AE11: =IF(AD11-AC11=0,"",AD11-AC11) | AH11: =IF(AG11-AF11=0,"",AG11-AF11) | AM11: =IF((AK11+AJ11)-AL11=0,"",(AK11+AJ11)-AL11) | AN11: =IF(OR(AM11="",V11="",V11=0),"",ROUND(AM11/V11,2)) | AO11: =IF(OR(Y11="",AM11="",AM11=0),"",ROUND(Y11/AM11,2)) | AP11: =IF(OR(AM11="",Y11="",Y11=0),"",ROUND(AM11/Y11,2)) | AQ11: =IF(OR(L11="",V11="",V11=0),"",ROUND(L11/V11,1)) | AR11: =IF(OR('INFORME DIARIO MAQUINARIA'!$O11="",'INFORME DIARIO MAQUINARIA'!$AH11="",'INFORME DIARIO MAQUINARIA'!$AH11=0),"",ROUND('INFORME DIARIO MAQUINARIA'!$O11/'INFORME DIARIO MAQUINARIA'!$AH11,1)) | AS11: =IFERROR(IF(OR(V11="",AE11="",V11<=0,AE11<0),"",AE11/V11),"")
B12: 46149 | C12: JUEVES | D12: 1 | E12: VOLQUETA 2254 ILF | F12: CARLOS SUAREZ | G12: 13 | H12: PANIAGUA | K12: TRANSPORTE DE MAERIAL PARA RELLENO | N12: 4 | O12: 48 | S12: ='INFORME DIARIO MAQUINARIA'!$R12-'INFORME DIARIO MAQUINARIA'!$Q12 -> 0 | V12: =IF(U12-T12=0,"",U12-T12) | Y12: =IF(X12-W12=0,"",X12-W12) | AB12: ='INFORME DIARIO MAQUINARIA'!$AA12-'INFORME DIARIO MAQUINARIA'!$Z12 -> 0 | AE12: =IF(AD12-AC12=0,"",AD12-AC12) | AH12: =IF(AG12-AF12=0,"",AG12-AF12) | AM12: =IF((AK12+AJ12)-AL12=0,"",(AK12+AJ12)-AL12) | AN12: =IF(OR(AM12="",V12="",V12=0),"",ROUND(AM12/V12,2)) | AO12: =IF(OR(Y12="",AM12="",AM12=0),"",ROUND(Y12/AM12,2)) | AP12: =IF(OR(AM12="",Y12="",Y12=0),"",ROUND(AM12/Y12,2)) | AQ12: =IF(OR(L12="",V12="",V12=0),"",ROUND(L12/V12,1)) | AR12: =IF(OR('INFORME DIARIO MAQUINARIA'!$O12="",'INFORME DIARIO MAQUINARIA'!$AH12="",'INFORME DIARIO MAQUINARIA'!$AH12=0),"",ROUND('INFORME DIARIO MAQUINARIA'!$O12/'INFORME DIARIO MAQUINARIA'!$AH12,1)) | AS12: =IFERROR(IF(OR(V12="",AE12="",V12<=0,AE12<0),"",AE12/V12),"")
B13: 46149 | C13: JUEVES | D13: 1 | E13: MOTONIVELADORA #35 | F13: JUSTO ARIAS | G13: 13 | H13: VILLA CAROLINA | K13: MANTENIMIENTO DE VIAS NO PAVIMENTADAS | L13: 1800 | S13: ='INFORME DIARIO MAQUINARIA'!$R13-'INFORME DIARIO MAQUINARIA'!$Q13 -> 0 | V13: =IF(U13-T13=0,"",U13-T13) | Y13: =IF(X13-W13=0,"",X13-W13) | AB13: ='INFORME DIARIO MAQUINARIA'!$AA13-'INFORME DIARIO MAQUINARIA'!$Z13 -> 0 | AE13: =IF(AD13-AC13=0,"",AD13-AC13) | AH13: =IF(AG13-AF13=0,"",AG13-AF13) | AM13: =IF((AK13+AJ13)-AL13=0,"",(AK13+AJ13)-AL13) | AN13: =IF(OR(AM13="",V13="",V13=0),"",ROUND(AM13/V13,2)) | AO13: =IF(OR(Y13="",AM13="",AM13=0),"",ROUND(Y13/AM13,2)) | AP13: =IF(OR(AM13="",Y13="",Y13=0),"",ROUND(AM13/Y13,2)) | AQ13: =IF(OR(L13="",V13="",V13=0),"",ROUND(L13/V13,1)) | AR13: =IF(OR('INFORME DIARIO MAQUINARIA'!$O13="",'INFORME DIARIO MAQUINARIA'!$AH13="",'INFORME DIARIO MAQUINARIA'!$AH13=0),"",ROUND('INFORME DIARIO MAQUINARIA'!$O13/'INFORME DIARIO MAQUINARIA'!$AH13,1)) | AS13: =IFERROR(IF(OR(V13="",AE13="",V13<=0,AE13<0),"",AE13/V13),"")
B14: 46149 | C14: JUEVES | D14: 1 | E14: VOLQUETA 2135 PKN | F14: HERNAN BEJARANO | K14: APOYO A GRUPO OPERATIVO | N14: 1 | S14: ='INFORME DIARIO MAQUINARIA'!$R14-'INFORME DIARIO MAQUINARIA'!$Q14 -> 0 | V14: =IF(U14-T14=0,"",U14-T14) | Y14: =IF(X14-W14=0,"",X14-W14) | AB14: ='INFORME DIARIO MAQUINARIA'!$AA14-'INFORME DIARIO MAQUINARIA'!$Z14 -> 0 | AE14: =IF(AD14-AC14=0,"",AD14-AC14) | AH14: =IF(AG14-AF14=0,"",AG14-AF14) | AM14: =IF((AK14+AJ14)-AL14=0,"",(AK14+AJ14)-AL14) | AN14: =IF(OR(AM14="",V14="",V14=0),"",ROUND(AM14/V14,2)) | AO14: =IF(OR(Y14="",AM14="",AM14=0),"",ROUND(Y14/AM14,2)) | AP14: =IF(OR(AM14="",Y14="",Y14=0),"",ROUND(AM14/Y14,2)) | AQ14: =IF(OR(L14="",V14="",V14=0),"",ROUND(L14/V14,1)) | AR14: =IF(OR('INFORME DIARIO MAQUINARIA'!$O14="",'INFORME DIARIO MAQUINARIA'!$AH14="",'INFORME DIARIO MAQUINARIA'!$AH14=0),"",ROUND('INFORME DIARIO MAQUINARIA'!$O14/'INFORME DIARIO MAQUINARIA'!$AH14,1)) | AS14: =IFERROR(IF(OR(V14="",AE14="",V14<=0,AE14<0),"",AE14/V14),"")
B15: 46150 | C15: VIERNES | J15: SIN OPERACIONES | K15: NO SE REALIZO ACTIVIDAD MOTIVO CONDICIONES CLIMATICAS | S15: ='INFORME DIARIO MAQUINARIA'!$R15-'INFORME DIARIO MAQUINARIA'!$Q15 -> 0 | V15: =IF(U15-T15=0,"",U15-T15) | Y15: =IF(X15-W15=0,"",X15-W15) | AB15: ='INFORME DIARIO MAQUINARIA'!$AA15-'INFORME DIARIO MAQUINARIA'!$Z15 -> 0 | AE15: =IF(AD15-AC15=0,"",AD15-AC15) | AH15: =IF(AG15-AF15=0,"",AG15-AF15) | AM15: =IF((AK15+AJ15)-AL15=0,"",(AK15+AJ15)-AL15) | AN15: =IF(OR(AM15="",V15="",V15=0),"",ROUND(AM15/V15,2)) | AO15: =IF(OR(Y15="",AM15="",AM15=0),"",ROUND(Y15/AM15,2)) | AP15: =IF(OR(AM15="",Y15="",Y15=0),"",ROUND(AM15/Y15,2)) | AQ15: =IF(OR(L15="",V15="",V15=0),"",ROUND(L15/V15,1)) | AR15: =IF(OR('INFORME DIARIO MAQUINARIA'!$O15="",'INFORME DIARIO MAQUINARIA'!$AH15="",'INFORME DIARIO MAQUINARIA'!$AH15=0),"",ROUND('INFORME DIARIO MAQUINARIA'!$O15/'INFORME DIARIO MAQUINARIA'!$AH15,1)) | AS15: =IFERROR(IF(OR(V15="",AE15="",V15<=0,AE15<0),"",AE15/V15),"")
B16: 46153 | C16: LUNES | D16: 1 | E16: MOTONIVELADORA #47 | F16: RUBEN SUAREZ | G16: 8 | H16: BARRIO LAS ORQUIDEAS | I16: 163 | K16: MANTENIMIENTO DE VIAS NO PAVIMENTADAS | L16: 1710 | S16: ='INFORME DIARIO MAQUINARIA'!$R16-'INFORME DIARIO MAQUINARIA'!$Q16 -> 0 | V16: =IF(U16-T16=0,"",U16-T16) | Y16: =IF(X16-W16=0,"",X16-W16) | AB16: ='INFORME DIARIO MAQUINARIA'!$AA16-'INFORME DIARIO MAQUINARIA'!$Z16 -> 0 | AE16: =IF(AD16-AC16=0,"",AD16-AC16) | AH16: =IF(AG16-AF16=0,"",AG16-AF16) | AM16: =IF((AK16+AJ16)-AL16=0,"",(AK16+AJ16)-AL16) | AN16: =IF(OR(AM16="",V16="",V16=0),"",ROUND(AM16/V16,2)) | AO16: =IF(OR(Y16="",AM16="",AM16=0),"",ROUND(Y16/AM16,2)) | AP16: =IF(OR(AM16="",Y16="",Y16=0),"",ROUND(AM16/Y16,2)) | AQ16: =IF(OR(L16="",V16="",V16=0),"",ROUND(L16/V16,1)) | AR16: =IF(OR('INFORME DIARIO MAQUINARIA'!$O16="",'INFORME DIARIO MAQUINARIA'!$AH16="",'INFORME DIARIO MAQUINARIA'!$AH16=0),"",ROUND('INFORME DIARIO MAQUINARIA'!$O16/'INFORME DIARIO MAQUINARIA'!$AH16,1)) | AS16: =IFERROR(IF(OR(V16="",AE16="",V16<=0,AE16<0),"",AE16/V16),"")
B17: 46153 | C17: LUNES | D17: 1 | E17: RETROEXCAVADORA #33 | F17: ELEODORO ALBA | G17: 8 | H17: BARRIO LAS ORQUIDEAS | I17: 163 | K17: CARGUIO DE MATERIAL PARA RELLENO | M17: 72 | S17: ='INFORME DIARIO MAQUINARIA'!$R17-'INFORME DIARIO MAQUINARIA'!$Q17 -> 0 | V17: =IF(U17-T17=0,"",U17-T17) | Y17: =IF(X17-W17=0,"",X17-W17) | AB17: ='INFORME DIARIO MAQUINARIA'!$AA17-'INFORME DIARIO MAQUINARIA'!$Z17 -> 0 | AE17: =IF(AD17-AC17=0,"",AD17-AC17) | AH17: =IF(AG17-AF17=0,"",AG17-AF17) | AM17: =IF((AK17+AJ17)-AL17=0,"",(AK17+AJ17)-AL17) | AN17: =IF(OR(AM17="",V17="",V17=0),"",ROUND(AM17/V17,2)) | AO17: =IF(OR(Y17="",AM17="",AM17=0),"",ROUND(Y17/AM17,2)) | AP17: =IF(OR(AM17="",Y17="",Y17=0),"",ROUND(AM17/Y17,2)) | AQ17: =IF(OR(L17="",V17="",V17=0),"",ROUND(L17/V17,1)) | AR17: =IF(OR('INFORME DIARIO MAQUINARIA'!$O17="",'INFORME DIARIO MAQUINARIA'!$AH17="",'INFORME DIARIO MAQUINARIA'!$AH17=0),"",ROUND('INFORME DIARIO MAQUINARIA'!$O17/'INFORME DIARIO MAQUINARIA'!$AH17,1)) | AS17: =IFERROR(IF(OR(V17="",AE17="",V17<=0,AE17<0),"",AE17/V17),"")
B18: 46153 | C18: LUNES | D18: 1 | E18: VOLQUETA 6327 ECU | F18: RAMON DAZA | G18: 8 | H18: BARRIO LAS ORQUIDEAS | I18: 163 | K18: TRANSPORTE DE MATERIAL PARA RELLENO | N18: 6 | O18: 72 | S18: ='INFORME DIARIO MAQUINARIA'!$R18-'INFORME DIARIO MAQUINARIA'!$Q18 -> 0 | V18: =IF(U18-T18=0,"",U18-T18) | Y18: =IF(X18-W18=0,"",X18-W18) | AB18: ='INFORME DIARIO MAQUINARIA'!$AA18-'INFORME DIARIO MAQUINARIA'!$Z18 -> 0 | AE18: =IF(AD18-AC18=0,"",AD18-AC18) | AH18: =IF(AG18-AF18=0,"",AG18-AF18) | AM18: =IF((AK18+AJ18)-AL18=0,"",(AK18+AJ18)-AL18) | AN18: =IF(OR(AM18="",V18="",V18=0),"",ROUND(AM18/V18,2)) | AO18: =IF(OR(Y18="",AM18="",AM18=0),"",ROUND(Y18/AM18,2)) | AP18: =IF(OR(AM18="",Y18="",Y18=0),"",ROUND(AM18/Y18,2)) | AQ18: =IF(OR(L18="",V18="",V18=0),"",ROUND(L18/V18,1)) | AR18: =IF(OR('INFORME DIARIO MAQUINARIA'!$O18="",'INFORME DIARIO MAQUINARIA'!$AH18="",'INFORME DIARIO MAQUINARIA'!$AH18=0),"",ROUND('INFORME DIARIO MAQUINARIA'!$O18/'INFORME DIARIO MAQUINARIA'!$AH18,1)) | AS18: =IFERROR(IF(OR(V18="",AE18="",V18<=0,AE18<0),"",AE18/V18),"")
B19: 46154 | C19: MARTES | D19: 1 | E19: MOTONIVELADORA #47 | F19: RUBEN SUAREZ | G19: 8 | H19: BARRIO 27 DE MAYO | I19: 1149 | K19: MANTENIMIENTO DE VIAS NO PAVIMENTADAS | L19: 1560 | S19: ='INFORME DIARIO MAQUINARIA'!$R19-'INFORME DIARIO MAQUINARIA'!$Q19 -> 0 | V19: =IF(U19-T19=0,"",U19-T19) | Y19: =IF(X19-W19=0,"",X19-W19) | AB19: ='INFORME DIARIO MAQUINARIA'!$AA19-'INFORME DIARIO MAQUINARIA'!$Z19 -> 0 | AE19: =IF(AD19-AC19=0,"",AD19-AC19) | AH19: =IF(AG19-AF19=0,"",AG19-AF19) | AM19: =IF((AK19+AJ19)-AL19=0,"",(AK19+AJ19)-AL19) | AN19: =IF(OR(AM19="",V19="",V19=0),"",ROUND(AM19/V19,2)) | AO19: =IF(OR(Y19="",AM19="",AM19=0),"",ROUND(Y19/AM19,2)) | AP19: =IF(OR(AM19="",Y19="",Y19=0),"",ROUND(AM19/Y19,2)) | AQ19: =IF(OR(L19="",V19="",V19=0),"",ROUND(L19/V19,1)) | AR19: =IF(OR('INFORME DIARIO MAQUINARIA'!$O19="",'INFORME DIARIO MAQUINARIA'!$AH19="",'INFORME DIARIO MAQUINARIA'!$AH19=0),"",ROUND('INFORME DIARIO MAQUINARIA'!$O19/'INFORME DIARIO MAQUINARIA'!$AH19,1)) | AS19: =IFERROR(IF(OR(V19="",AE19="",V19<=0,AE19<0),"",AE19/V19),"")
B20: 46154 | C20: MARTES | D20: 1 | E20: RETROEXCAVADORA #12 | F20: PABLO ARIAS | G20: 8 | H20: BARRIO 27 DE MAYO | I20: 149 | K20: CARGUIO DE MATERIAL PARA RELLENO | N20: 3 | O20: 24 | S20: ='INFORME DIARIO MAQUINARIA'!$R20-'INFORME DIARIO MAQUINARIA'!$Q20 -> 0 | V20: =IF(U20-T20=0,"",U20-T20) | Y20: =IF(X20-W20=0,"",X20-W20) | AB20: ='INFORME DIARIO MAQUINARIA'!$AA20-'INFORME DIARIO MAQUINARIA'!$Z20 -> 0 | AE20: =IF(AD20-AC20=0,"",AD20-AC20) | AH20: =IF(AG20-AF20=0,"",AG20-AF20) | AM20: =IF((AK20+AJ20)-AL20=0,"",(AK20+AJ20)-AL20) | AN20: =IF(OR(AM20="",V20="",V20=0),"",ROUND(AM20/V20,2)) | AO20: =IF(OR(Y20="",AM20="",AM20=0),"",ROUND(Y20/AM20,2)) | AP20: =IF(OR(AM20="",Y20="",Y20=0),"",ROUND(AM20/Y20,2)) | AQ20: =IF(OR(L20="",V20="",V20=0),"",ROUND(L20/V20,1)) | AR20: =IF(OR('INFORME DIARIO MAQUINARIA'!$O20="",'INFORME DIARIO MAQUINARIA'!$AH20="",'INFORME DIARIO MAQUINARIA'!$AH20=0),"",ROUND('INFORME DIARIO MAQUINARIA'!$O20/'INFORME DIARIO MAQUINARIA'!$AH20,1)) | AS20: =IFERROR(IF(OR(V20="",AE20="",V20<=0,AE20<0),"",AE20/V20),"")
B21: 46154 | C21: MARTES | D21: 1 | E21: RETROEXCAVADORA #12 | F21: PABLO ARIAS | G21: 8 | H21: AV. 5TO ANILLO SAN AURELIO | I21: 104 | K21: CARGUIO DE MATERIAL PARA RELLENO | M21: 108 | S21: ='INFORME DIARIO MAQUINARIA'!$R21-'INFORME DIARIO MAQUINARIA'!$Q21 -> 0 | V21: =IF(U21-T21=0,"",U21-T21) | Y21: =IF(X21-W21=0,"",X21-W21) | AB21: ='INFORME DIARIO MAQUINARIA'!$AA21-'INFORME DIARIO MAQUINARIA'!$Z21 -> 0 | AE21: =IF(AD21-AC21=0,"",AD21-AC21) | AH21: =IF(AG21-AF21=0,"",AG21-AF21) | AM21: =IF((AK21+AJ21)-AL21=0,"",(AK21+AJ21)-AL21) | AN21: =IF(OR(AM21="",V21="",V21=0),"",ROUND(AM21/V21,2)) | AO21: =IF(OR(Y21="",AM21="",AM21=0),"",ROUND(Y21/AM21,2)) | AP21: =IF(OR(AM21="",Y21="",Y21=0),"",ROUND(AM21/Y21,2)) | AQ21: =IF(OR(L21="",V21="",V21=0),"",ROUND(L21/V21,1)) | AR21: =IF(OR('INFORME DIARIO MAQUINARIA'!$O21="",'INFORME DIARIO MAQUINARIA'!$AH21="",'INFORME DIARIO MAQUINARIA'!$AH21=0),"",ROUND('INFORME DIARIO MAQUINARIA'!$O21/'INFORME DIARIO MAQUINARIA'!$AH21,1)) | AS21: =IFERROR(IF(OR(V21="",AE21="",V21<=0,AE21<0),"",AE21/V21),"")
B22: 46154 | C22: MARTES | D22: 1 | E22: VOLQUETA 6327 ECU | F22: RAMON DAZA | G22: 8 | H22: BARRIO 27 DE MAYO | I22: 149 | K22: TRANSPORTE DE MATERIAL PARA RELLENO | N22: 2 | O22: 24 | S22: ='INFORME DIARIO MAQUINARIA'!$R22-'INFORME DIARIO MAQUINARIA'!$Q22 -> 0 | V22: =IF(U22-T22=0,"",U22-T22) | Y22: =IF(X22-W22=0,"",X22-W22) | AB22: ='INFORME DIARIO MAQUINARIA'!$AA22-'INFORME DIARIO MAQUINARIA'!$Z22 -> 0 | AE22: =IF(AD22-AC22=0,"",AD22-AC22) | AH22: =IF(AG22-AF22=0,"",AG22-AF22) | AM22: =IF((AK22+AJ22)-AL22=0,"",(AK22+AJ22)-AL22) | AN22: =IF(OR(AM22="",V22="",V22=0),"",ROUND(AM22/V22,2)) | AO22: =IF(OR(Y22="",AM22="",AM22=0),"",ROUND(Y22/AM22,2)) | AP22: =IF(OR(AM22="",Y22="",Y22=0),"",ROUND(AM22/Y22,2)) | AQ22: =IF(OR(L22="",V22="",V22=0),"",ROUND(L22/V22,1)) | AR22: =IF(OR('INFORME DIARIO MAQUINARIA'!$O22="",'INFORME DIARIO MAQUINARIA'!$AH22="",'INFORME DIARIO MAQUINARIA'!$AH22=0),"",ROUND('INFORME DIARIO MAQUINARIA'!$O22/'INFORME DIARIO MAQUINARIA'!$AH22,1)) | AS22: =IFERROR(IF(OR(V22="",AE22="",V22<=0,AE22<0),"",AE22/V22),"")
B23: 46154 | C23: MARTES | D23: 1 | E23: VOLQUETA 6327 ECU | F23: RAMON DAZA | G23: 8 | H23: AV. 5TO ANILLO SAN AURELIO | I23: 104 | K23: TRANSPORTE DE MATERIAL PARA RELLENO | N23: 5 | O23: 60 | S23: ='INFORME DIARIO MAQUINARIA'!$R23-'INFORME DIARIO MAQUINARIA'!$Q23 -> 0 | V23: =IF(U23-T23=0,"",U23-T23) | Y23: =IF(X23-W23=0,"",X23-W23) | AB23: ='INFORME DIARIO MAQUINARIA'!$AA23-'INFORME DIARIO MAQUINARIA'!$Z23 -> 0 | AE23: =IF(AD23-AC23=0,"",AD23-AC23) | AH23: =IF(AG23-AF23=0,"",AG23-AF23) | AM23: =IF((AK23+AJ23)-AL23=0,"",(AK23+AJ23)-AL23) | AN23: =IF(OR(AM23="",V23="",V23=0),"",ROUND(AM23/V23,2)) | AO23: =IF(OR(Y23="",AM23="",AM23=0),"",ROUND(Y23/AM23,2)) | AP23: =IF(OR(AM23="",Y23="",Y23=0),"",ROUND(AM23/Y23,2)) | AQ23: =IF(OR(L23="",V23="",V23=0),"",ROUND(L23/V23,1)) | AR23: =IF(OR('INFORME DIARIO MAQUINARIA'!$O23="",'INFORME DIARIO MAQUINARIA'!$AH23="",'INFORME DIARIO MAQUINARIA'!$AH23=0),"",ROUND('INFORME DIARIO MAQUINARIA'!$O23/'INFORME DIARIO MAQUINARIA'!$AH23,1)) | AS23: =IFERROR(IF(OR(V23="",AE23="",V23<=0,AE23<0),"",AE23/V23),"")
B24: 46154 | C24: MARTES | D24: 1 | E24: VOLQUETA 6327 EFG | F24: FERNANDO OLLER | G24: 13 | H24: LOMA GRANDE | K24: TRANSPORTE DE MATERIAL PARA RELLENO | N24: 5 | O24: 60 | S24: ='INFORME DIARIO MAQUINARIA'!$R24-'INFORME DIARIO MAQUINARIA'!$Q24 -> 0 | V24: =IF(U24-T24=0,"",U24-T24) | Y24: =IF(X24-W24=0,"",X24-W24) | AB24: ='INFORME DIARIO MAQUINARIA'!$AA24-'INFORME DIARIO MAQUINARIA'!$Z24 -> 0 | AE24: =IF(AD24-AC24=0,"",AD24-AC24) | AH24: =IF(AG24-AF24=0,"",AG24-AF24) | AM24: =IF((AK24+AJ24)-AL24=0,"",(AK24+AJ24)-AL24) | AN24: =IF(OR(AM24="",V24="",V24=0),"",ROUND(AM24/V24,2)) | AO24: =IF(OR(Y24="",AM24="",AM24=0),"",ROUND(Y24/AM24,2)) | AP24: =IF(OR(AM24="",Y24="",Y24=0),"",ROUND(AM24/Y24,2)) | AQ24: =IF(OR(L24="",V24="",V24=0),"",ROUND(L24/V24,1)) | AR24: =IF(OR('INFORME DIARIO MAQUINARIA'!$O24="",'INFORME DIARIO MAQUINARIA'!$AH24="",'INFORME DIARIO MAQUINARIA'!$AH24=0),"",ROUND('INFORME DIARIO MAQUINARIA'!$O24/'INFORME DIARIO MAQUINARIA'!$AH24,1)) | AS24: =IFERROR(IF(OR(V24="",AE24="",V24<=0,AE24<0),"",AE24/V24),"")
B25: 46154 | C25: MARTES | D25: 1 | E25: RETROEXCAVADORA #17 | F25: ROLANDO RIOJA | G25: 13 | H25: ESCUDORO | K25: CARGUIO DE MATERIAL PARA RELLENO | M25: 120 | S25: ='INFORME DIARIO MAQUINARIA'!$R25-'INFORME DIARIO MAQUINARIA'!$Q25 -> 0 | V25: =IF(U25-T25=0,"",U25-T25) | Y25: =IF(X25-W25=0,"",X25-W25) | AB25: ='INFORME DIARIO MAQUINARIA'!$AA25-'INFORME DIARIO MAQUINARIA'!$Z25 -> 0 | AE25: =IF(AD25-AC25=0,"",AD25-AC25) | AH25: =IF(AG25-AF25=0,"",AG25-AF25) | AM25: =IF((AK25+AJ25)-AL25=0,"",(AK25+AJ25)-AL25) | AN25: =IF(OR(AM25="",V25="",V25=0),"",ROUND(AM25/V25,2)) | AO25: =IF(OR(Y25="",AM25="",AM25=0),"",ROUND(Y25/AM25,2)) | AP25: =IF(OR(AM25="",Y25="",Y25=0),"",ROUND(AM25/Y25,2)) | AQ25: =IF(OR(L25="",V25="",V25=0),"",ROUND(L25/V25,1)) | AR25: =IF(OR('INFORME DIARIO MAQUINARIA'!$O25="",'INFORME DIARIO MAQUINARIA'!$AH25="",'INFORME DIARIO MAQUINARIA'!$AH25=0),"",ROUND('INFORME DIARIO MAQUINARIA'!$O25/'INFORME DIARIO MAQUINARIA'!$AH25,1)) | AS25: =IFERROR(IF(OR(V25="",AE25="",V25<=0,AE25<0),"",AE25/V25),"")
B26: 46154 | C26: MARTES | D26: 1 | E26: RETROEXCAVADORA #33 | F26: ELEODORO ALBA | G26: 13 | H26: LOMA GRANDE | K26: CARGUIO DE MATERIAL PARA RELLENO | M26: 132 | S26: ='INFORME DIARIO MAQUINARIA'!$R26-'INFORME DIARIO MAQUINARIA'!$Q26 -> 0 | V26: =IF(U26-T26=0,"",U26-T26) | Y26: =IF(X26-W26=0,"",X26-W26) | AB26: ='INFORME DIARIO MAQUINARIA'!$AA26-'INFORME DIARIO MAQUINARIA'!$Z26 -> 0 | AE26: =IF(AD26-AC26=0,"",AD26-AC26) | AH26: =IF(AG26-AF26=0,"",AG26-AF26) | AM26: =IF((AK26+AJ26)-AL26=0,"",(AK26+AJ26)-AL26) | AN26: =IF(OR(AM26="",V26="",V26=0),"",ROUND(AM26/V26,2)) | AO26: =IF(OR(Y26="",AM26="",AM26=0),"",ROUND(Y26/AM26,2)) | AP26: =IF(OR(AM26="",Y26="",Y26=0),"",ROUND(AM26/Y26,2)) | AQ26: =IF(OR(L26="",V26="",V26=0),"",ROUND(L26/V26,1)) | AR26: =IF(OR('INFORME DIARIO MAQUINARIA'!$O26="",'INFORME DIARIO MAQUINARIA'!$AH26="",'INFORME DIARIO MAQUINARIA'!$AH26=0),"",ROUND('INFORME DIARIO MAQUINARIA'!$O26/'INFORME DIARIO MAQUINARIA'!$AH26,1)) | AS26: =IFERROR(IF(OR(V26="",AE26="",V26<=0,AE26<0),"",AE26/V26),"")
B27: 46154 | C27: MARTES | D27: 1 | E27: MOTONIVELADORA #13 | F27: LEONARDO MORENO | G27: 13 | H27: ESCUDORO | K27: MANTENIMIENTO DE VIAS NO PAVIMENTADAS | L27: 850 | S27: ='INFORME DIARIO MAQUINARIA'!$R27-'INFORME DIARIO MAQUINARIA'!$Q27 -> 0 | V27: =IF(U27-T27=0,"",U27-T27) | Y27: =IF(X27-W27=0,"",X27-W27) | AB27: ='INFORME DIARIO MAQUINARIA'!$AA27-'INFORME DIARIO MAQUINARIA'!$Z27 -> 0 | AE27: =IF(AD27-AC27=0,"",AD27-AC27) | AH27: =IF(AG27-AF27=0,"",AG27-AF27) | AM27: =IF((AK27+AJ27)-AL27=0,"",(AK27+AJ27)-AL27) | AN27: =IF(OR(AM27="",V27="",V27=0),"",ROUND(AM27/V27,2)) | AO27: =IF(OR(Y27="",AM27="",AM27=0),"",ROUND(Y27/AM27,2)) | AP27: =IF(OR(AM27="",Y27="",Y27=0),"",ROUND(AM27/Y27,2)) | AQ27: =IF(OR(L27="",V27="",V27=0),"",ROUND(L27/V27,1)) | AR27: =IF(OR('INFORME DIARIO MAQUINARIA'!$O27="",'INFORME DIARIO MAQUINARIA'!$AH27="",'INFORME DIARIO MAQUINARIA'!$AH27=0),"",ROUND('INFORME DIARIO MAQUINARIA'!$O27/'INFORME DIARIO MAQUINARIA'!$AH27,1)) | AS27: =IFERROR(IF(OR(V27="",AE27="",V27<=0,AE27<0),"",AE27/V27),"")
B28: 46154 | C28: MARTES | D28: 1 | E28: EXCAVADORA DOOSAN | F28: IVER FLORES | G28: 13 | H28: AV. RADIAL 12 FINAL | J28: CANALES NO REVESTIDO | K28: LIMPIEZA DE CANAL NO REVESTIDO | P28: 200 | S28: ='INFORME DIARIO MAQUINARIA'!$R28-'INFORME DIARIO MAQUINARIA'!$Q28 -> 0 | V28: =IF(U28-T28=0,"",U28-T28) | Y28: =IF(X28-W28=0,"",X28-W28) | AB28: ='INFORME DIARIO MAQUINARIA'!$AA28-'INFORME DIARIO MAQUINARIA'!$Z28 -> 0 | AE28: =IF(AD28-AC28=0,"",AD28-AC28) | AH28: =IF(AG28-AF28=0,"",AG28-AF28) | AM28: =IF((AK28+AJ28)-AL28=0,"",(AK28+AJ28)-AL28) | AN28: =IF(OR(AM28="",V28="",V28=0),"",ROUND(AM28/V28,2)) | AO28: =IF(OR(Y28="",AM28="",AM28=0),"",ROUND(Y28/AM28,2)) | AP28: =IF(OR(AM28="",Y28="",Y28=0),"",ROUND(AM28/Y28,2)) | AQ28: =IF(OR(L28="",V28="",V28=0),"",ROUND(L28/V28,1)) | AR28: =IF(OR('INFORME DIARIO MAQUINARIA'!$O28="",'INFORME DIARIO MAQUINARIA'!$AH28="",'INFORME DIARIO MAQUINARIA'!$AH28=0),"",ROUND('INFORME DIARIO MAQUINARIA'!$O28/'INFORME DIARIO MAQUINARIA'!$AH28,1)) | AS28: =IFERROR(IF(OR(V28="",AE28="",V28<=0,AE28<0),"",AE28/V28),"")
B29: 46154 | C29: MARTES | D29: 1 | E29: VOLQUETA 6327 EBR | F29: EMILIANO VARGAS | G29: 13 | H29: LOMA GRANDE | K29: TRANSPORTE DE MATERIAL PARA RELLENO | N29: 6 | O29: 72 | S29: ='INFORME DIARIO MAQUINARIA'!$R29-'INFORME DIARIO MAQUINARIA'!$Q29 -> 0 | V29: =IF(U29-T29=0,"",U29-T29) | Y29: =IF(X29-W29=0,"",X29-W29) | AB29: ='INFORME DIARIO MAQUINARIA'!$AA29-'INFORME DIARIO MAQUINARIA'!$Z29 -> 0 | AE29: =IF(AD29-AC29=0,"",AD29-AC29) | AH29: =IF(AG29-AF29=0,"",AG29-AF29) | AM29: =IF((AK29+AJ29)-AL29=0,"",(AK29+AJ29)-AL29) | AN29: =IF(OR(AM29="",V29="",V29=0),"",ROUND(AM29/V29,2)) | AO29: =IF(OR(Y29="",AM29="",AM29=0),"",ROUND(Y29/AM29,2)) | AP29: =IF(OR(AM29="",Y29="",Y29=0),"",ROUND(AM29/Y29,2)) | AQ29: =IF(OR(L29="",V29="",V29=0),"",ROUND(L29/V29,1)) | AR29: =IF(OR('INFORME DIARIO MAQUINARIA'!$O29="",'INFORME DIARIO MAQUINARIA'!$AH29="",'INFORME DIARIO MAQUINARIA'!$AH29=0),"",ROUND('INFORME DIARIO MAQUINARIA'!$O29/'INFORME DIARIO MAQUINARIA'!$AH29,1)) | AS29: =IFERROR(IF(OR(V29="",AE29="",V29<=0,AE29<0),"",AE29/V29),"")
B30: 46154 | C30: MARTES | D30: 1 | E30: VOLQUETA 6327 EGK | F30: GOEL ROSSEL | G30: 13 | H30: LOMA GRANDE | K30: TRANSPORTE DE MATERIAL PARA RELLENO | N30: 5 | O30: 60 | S30: ='INFORME DIARIO MAQUINARIA'!$R30-'INFORME DIARIO MAQUINARIA'!$Q30 -> 0 | V30: =IF(U30-T30=0,"",U30-T30) | Y30: =IF(X30-W30=0,"",X30-W30) | AB30: ='INFORME DIARIO MAQUINARIA'!$AA30-'INFORME DIARIO MAQUINARIA'!$Z30 -> 0 | AE30: =IF(AD30-AC30=0,"",AD30-AC30) | AH30: =IF(AG30-AF30=0,"",AG30-AF30) | AM30: =IF((AK30+AJ30)-AL30=0,"",(AK30+AJ30)-AL30) | AN30: =IF(OR(AM30="",V30="",V30=0),"",ROUND(AM30/V30,2)) | AO30: =IF(OR(Y30="",AM30="",AM30=0),"",ROUND(Y30/AM30,2)) | AP30: =IF(OR(AM30="",Y30="",Y30=0),"",ROUND(AM30/Y30,2)) | AQ30: =IF(OR(L30="",V30="",V30=0),"",ROUND(L30/V30,1)) | AR30: =IF(OR('INFORME DIARIO MAQUINARIA'!$O30="",'INFORME DIARIO MAQUINARIA'!$AH30="",'INFORME DIARIO MAQUINARIA'!$AH30=0),"",ROUND('INFORME DIARIO MAQUINARIA'!$O30/'INFORME DIARIO MAQUINARIA'!$AH30,1)) | AS30: =IFERROR(IF(OR(V30="",AE30="",V30<=0,AE30<0),"",AE30/V30),"")
B31: 46154 | C31: MARTES | D31: 1 | E31: MOTONIVELADORA #49 | F31: ELVIS RIVERO | G31: 13 | H31: LOMA GRANDE | K31: MANTENIMIENTO DE VIAS NO PAVIMENTADAS | L31: 1200 | S31: ='INFORME DIARIO MAQUINARIA'!$R31-'INFORME DIARIO MAQUINARIA'!$Q31 -> 0 | V31: =IF(U31-T31=0,"",U31-T31) | Y31: =IF(X31-W31=0,"",X31-W31) | AB31: ='INFORME DIARIO MAQUINARIA'!$AA31-'INFORME DIARIO MAQUINARIA'!$Z31 -> 0 | AE31: =IF(AD31-AC31=0,"",AD31-AC31) | AH31: =IF(AG31-AF31=0,"",AG31-AF31) | AM31: =IF((AK31+AJ31)-AL31=0,"",(AK31+AJ31)-AL31) | AN31: =IF(OR(AM31="",V31="",V31=0),"",ROUND(AM31/V31,2)) | AO31: =IF(OR(Y31="",AM31="",AM31=0),"",ROUND(Y31/AM31,2)) | AP31: =IF(OR(AM31="",Y31="",Y31=0),"",ROUND(AM31/Y31,2)) | AQ31: =IF(OR(L31="",V31="",V31=0),"",ROUND(L31/V31,1)) | AR31: =IF(OR('INFORME DIARIO MAQUINARIA'!$O31="",'INFORME DIARIO MAQUINARIA'!$AH31="",'INFORME DIARIO MAQUINARIA'!$AH31=0),"",ROUND('INFORME DIARIO MAQUINARIA'!$O31/'INFORME DIARIO MAQUINARIA'!$AH31,1)) | AS31: =IFERROR(IF(OR(V31="",AE31="",V31<=0,AE31<0),"",AE31/V31),"")
B32: 46154 | C32: MARTES | D32: 1 | E32: VOLQUETA 6327 EIT | F32: HERNAN CANDIA | G32: 13 | H32: RECREO 1 | K32: CARGUIO DE MATERIAL PARA RELLENO | N32: 5 | O32: 60 | S32: ='INFORME DIARIO MAQUINARIA'!$R32-'INFORME DIARIO MAQUINARIA'!$Q32 -> 0 | V32: =IF(U32-T32=0,"",U32-T32) | Y32: =IF(X32-W32=0,"",X32-W32) | AB32: ='INFORME DIARIO MAQUINARIA'!$AA32-'INFORME DIARIO MAQUINARIA'!$Z32 -> 0 | AE32: =IF(AD32-AC32=0,"",AD32-AC32) | AH32: =IF(AG32-AF32=0,"",AG32-AF32) | AM32: =IF((AK32+AJ32)-AL32=0,"",(AK32+AJ32)-AL32) | AN32: =IF(OR(AM32="",V32="",V32=0),"",ROUND(AM32/V32,2)) | AO32: =IF(OR(Y32="",AM32="",AM32=0),"",ROUND(Y32/AM32,2)) | AP32: =IF(OR(AM32="",Y32="",Y32=0),"",ROUND(AM32/Y32,2)) | AQ32: =IF(OR(L32="",V32="",V32=0),"",ROUND(L32/V32,1)) | AR32: =IF(OR('INFORME DIARIO MAQUINARIA'!$O32="",'INFORME DIARIO MAQUINARIA'!$AH32="",'INFORME DIARIO MAQUINARIA'!$AH32=0),"",ROUND('INFORME DIARIO MAQUINARIA'!$O32/'INFORME DIARIO MAQUINARIA'!$AH32,1)) | AS32: =IFERROR(IF(OR(V32="",AE32="",V32<=0,AE32<0),"",AE32/V32),"")
B33: 46154 | C33: MARTES | D33: 1 | E33: MOTONIVELADORA #33 | F33: EDIL CARBAJAL | G33: 14 | H33: BARRIO SAMARIA II | K33: MANTENIMIENTO DE VIAS NO PAVIMENTADAS | L33: 1680 | S33: ='INFORME DIARIO MAQUINARIA'!$R33-'INFORME DIARIO MAQUINARIA'!$Q33 -> 0 | V33: =IF(U33-T33=0,"",U33-T33) | Y33: =IF(X33-W33=0,"",X33-W33) | AB33: ='INFORME DIARIO MAQUINARIA'!$AA33-'INFORME DIARIO MAQUINARIA'!$Z33 -> 0 | AE33: =IF(AD33-AC33=0,"",AD33-AC33) | AH33: =IF(AG33-AF33=0,"",AG33-AF33) | AM33: =IF((AK33+AJ33)-AL33=0,"",(AK33+AJ33)-AL33) | AN33: =IF(OR(AM33="",V33="",V33=0),"",ROUND(AM33/V33,2)) | AO33: =IF(OR(Y33="",AM33="",AM33=0),"",ROUND(Y33/AM33,2)) | AP33: =IF(OR(AM33="",Y33="",Y33=0),"",ROUND(AM33/Y33,2)) | AQ33: =IF(OR(L33="",V33="",V33=0),"",ROUND(L33/V33,1)) | AR33: =IF(OR('INFORME DIARIO MAQUINARIA'!$O33="",'INFORME DIARIO MAQUINARIA'!$AH33="",'INFORME DIARIO MAQUINARIA'!$AH33=0),"",ROUND('INFORME DIARIO MAQUINARIA'!$O33/'INFORME DIARIO MAQUINARIA'!$AH33,1)) | AS33: =IFERROR(IF(OR(V33="",AE33="",V33<=0,AE33<0),"",AE33/V33),"")
B34: 46155 | C34: MIERCOLES | D34: 1 | E34: MOTONIVELADORA #44 | F34: ROLY OSINAGA | G34: 7 | H34: 15 DE MAYO | I34: 156 B | K34: MANTENIMIENTO DE CALLES Y VIAS NO PAVIMENTADAS | L34: 1500 | S34: ='INFORME DIARIO MAQUINARIA'!$R34-'INFORME DIARIO MAQUINARIA'!$Q34 -> 0 | V34: =IF(U34-T34=0,"",U34-T34) | Y34: =IF(X34-W34=0,"",X34-W34) | AB34: ='INFORME DIARIO MAQUINARIA'!$AA34-'INFORME DIARIO MAQUINARIA'!$Z34 -> 0 | AE34: =IF(AD34-AC34=0,"",AD34-AC34) | AH34: =IF(AG34-AF34=0,"",AG34-AF34) | AM34: =IF((AK34+AJ34)-AL34=0,"",(AK34+AJ34)-AL34) | AN34: =IF(OR(AM34="",V34="",V34=0),"",ROUND(AM34/V34,2)) | AO34: =IF(OR(Y34="",AM34="",AM34=0),"",ROUND(Y34/AM34,2)) | AP34: =IF(OR(AM34="",Y34="",Y34=0),"",ROUND(AM34/Y34,2)) | AQ34: =IF(OR(L34="",V34="",V34=0),"",ROUND(L34/V34,1)) | AR34: =IF(OR('INFORME DIARIO MAQUINARIA'!$O34="",'INFORME DIARIO MAQUINARIA'!$AH34="",'INFORME DIARIO MAQUINARIA'!$AH34=0),"",ROUND('INFORME DIARIO MAQUINARIA'!$O34/'INFORME DIARIO MAQUINARIA'!$AH34,1)) | AS34: =IFERROR(IF(OR(V34="",AE34="",V34<=0,AE34<0),"",AE34/V34),"")
B35: 46155 | C35: MIERCOLES | D35: 1 | E35: MOTONIVELADORA #35 | F35: JUSTO ARIAS | G35: 10 | H35: BAJO BENI | I35: 191 | K35: MANTENIMIENTO DE CALLES Y VIAS NO PAVIMENTADAS | L35: 1450 | S35: ='INFORME DIARIO MAQUINARIA'!$R35-'INFORME DIARIO MAQUINARIA'!$Q35 -> 0 | V35: =IF(U35-T35=0,"",U35-T35) | Y35: =IF(X35-W35=0,"",X35-W35) | AB35: ='INFORME DIARIO MAQUINARIA'!$AA35-'INFORME DIARIO MAQUINARIA'!$Z35 -> 0 | AE35: =IF(AD35-AC35=0,"",AD35-AC35) | AH35: =IF(AG35-AF35=0,"",AG35-AF35) | AM35: =IF((AK35+AJ35)-AL35=0,"",(AK35+AJ35)-AL35) | AN35: =IF(OR(AM35="",V35="",V35=0),"",ROUND(AM35/V35,2)) | AO35: =IF(OR(Y35="",AM35="",AM35=0),"",ROUND(Y35/AM35,2)) | AP35: =IF(OR(AM35="",Y35="",Y35=0),"",ROUND(AM35/Y35,2)) | AQ35: =IF(OR(L35="",V35="",V35=0),"",ROUND(L35/V35,1)) | AR35: =IF(OR('INFORME DIARIO MAQUINARIA'!$O35="",'INFORME DIARIO MAQUINARIA'!$AH35="",'INFORME DIARIO MAQUINARIA'!$AH35=0),"",ROUND('INFORME DIARIO MAQUINARIA'!$O35/'INFORME DIARIO MAQUINARIA'!$AH35,1)) | AS35: =IFERROR(IF(OR(V35="",AE35="",V35<=0,AE35<0),"",AE35/V35),"")
B36: 46155 | C36: MIÉRCOLES | D36: 1 | E36: RETROEXCAVADORA #12 | F36: PABLO ARIAS | G36: 10 | H36: BAJO BENI | I36: 191 | K36: CARGUIO DE MATERIAL PARA RELLENO | M36: 132 | S36: ='INFORME DIARIO MAQUINARIA'!$R36-'INFORME DIARIO MAQUINARIA'!$Q36 -> 0 | V36: =IF(U36-T36=0,"",U36-T36) | Y36: =IF(X36-W36=0,"",X36-W36) | AB36: ='INFORME DIARIO MAQUINARIA'!$AA36-'INFORME DIARIO MAQUINARIA'!$Z36 -> 0 | AE36: =IF(AD36-AC36=0,"",AD36-AC36) | AH36: =IF(AG36-AF36=0,"",AG36-AF36) | AM36: =IF((AK36+AJ36)-AL36=0,"",(AK36+AJ36)-AL36) | AN36: =IF(OR(AM36="",V36="",V36=0),"",ROUND(AM36/V36,2)) | AO36: =IF(OR(Y36="",AM36="",AM36=0),"",ROUND(Y36/AM36,2)) | AP36: =IF(OR(AM36="",Y36="",Y36=0),"",ROUND(AM36/Y36,2)) | AQ36: =IF(OR(L36="",V36="",V36=0),"",ROUND(L36/V36,1)) | AR36: =IF(OR('INFORME DIARIO MAQUINARIA'!$O36="",'INFORME DIARIO MAQUINARIA'!$AH36="",'INFORME DIARIO MAQUINARIA'!$AH36=0),"",ROUND('INFORME DIARIO MAQUINARIA'!$O36/'INFORME DIARIO MAQUINARIA'!$AH36,1)) | AS36: =IFERROR(IF(OR(V36="",AE36="",V36<=0,AE36<0),"",AE36/V36),"")
B37: 46155 | C37: MIÉRCOLES | D37: 1 | E37: VOLQUETA 6327 EFG | F37: FERNANDO OLLER | G37: 10 | H37: BAJO BENI | I37: 191 | K37: TRANSPORTE DE MATERIAL PARA RELLENO | N37: 5 | O37: 60 | S37: ='INFORME DIARIO MAQUINARIA'!$R37-'INFORME DIARIO MAQUINARIA'!$Q37 -> 0 | V37: =IF(U37-T37=0,"",U37-T37) | Y37: =IF(X37-W37=0,"",X37-W37) | AB37: ='INFORME DIARIO MAQUINARIA'!$AA37-'INFORME DIARIO MAQUINARIA'!$Z37 -> 0 | AE37: =IF(AD37-AC37=0,"",AD37-AC37) | AH37: =IF(AG37-AF37=0,"",AG37-AF37) | AM37: =IF((AK37+AJ37)-AL37=0,"",(AK37+AJ37)-AL37) | AN37: =IF(OR(AM37="",V37="",V37=0),"",ROUND(AM37/V37,2)) | AO37: =IF(OR(Y37="",AM37="",AM37=0),"",ROUND(Y37/AM37,2)) | AP37: =IF(OR(AM37="",Y37="",Y37=0),"",ROUND(AM37/Y37,2)) | AQ37: =IF(OR(L37="",V37="",V37=0),"",ROUND(L37/V37,1)) | AR37: =IF(OR('INFORME DIARIO MAQUINARIA'!$O37="",'INFORME DIARIO MAQUINARIA'!$AH37="",'INFORME DIARIO MAQUINARIA'!$AH37=0),"",ROUND('INFORME DIARIO MAQUINARIA'!$O37/'INFORME DIARIO MAQUINARIA'!$AH37,1)) | AS37: =IFERROR(IF(OR(V37="",AE37="",V37<=0,AE37<0),"",AE37/V37),"")
B38: 46155 | C38: MIÉRCOLES | D38: 1 | E38: VOLQUETA 6327 EHP | F38: WILDER NOGALES | G38: 10 | H38: BAJO BENI | I38: 191 | K38: TRANSPORTE DE MATERIAL PARA RELLENO | N38: 6 | O38: 72 | S38: ='INFORME DIARIO MAQUINARIA'!$R38-'INFORME DIARIO MAQUINARIA'!$Q38 -> 0 | V38: =IF(U38-T38=0,"",U38-T38) | Y38: =IF(X38-W38=0,"",X38-W38) | AB38: ='INFORME DIARIO MAQUINARIA'!$AA38-'INFORME DIARIO MAQUINARIA'!$Z38 -> 0 | AE38: =IF(AD38-AC38=0,"",AD38-AC38) | AH38: =IF(AG38-AF38=0,"",AG38-AF38) | AM38: =IF((AK38+AJ38)-AL38=0,"",(AK38+AJ38)-AL38) | AN38: =IF(OR(AM38="",V38="",V38=0),"",ROUND(AM38/V38,2)) | AO38: =IF(OR(Y38="",AM38="",AM38=0),"",ROUND(Y38/AM38,2)) | AP38: =IF(OR(AM38="",Y38="",Y38=0),"",ROUND(AM38/Y38,2)) | AQ38: =IF(OR(L38="",V38="",V38=0),"",ROUND(L38/V38,1)) | AR38: =IF(OR('INFORME DIARIO MAQUINARIA'!$O38="",'INFORME DIARIO MAQUINARIA'!$AH38="",'INFORME DIARIO MAQUINARIA'!$AH38=0),"",ROUND('INFORME DIARIO MAQUINARIA'!$O38/'INFORME DIARIO MAQUINARIA'!$AH38,1)) | AS38: =IFERROR(IF(OR(V38="",AE38="",V38<=0,AE38<0),"",AE38/V38),"")
B39: 46155 | C39: MIÉRCOLES | D39: 1 | E39: EXCAVADORA DOOSAN | F39: IVER FLORES | G39: 13 | H39: AV. RADIAL 12 FINAL | J39: CANAL NO REVESTIDO | K39: LIMPIEZA DE CANAL REVESTIDO CON CARGUIO Y TRANSPORTE DE MATERIAL PARA RELLENO | M39: 72 | P39: 450 | S39: ='INFORME DIARIO MAQUINARIA'!$R39-'INFORME DIARIO MAQUINARIA'!$Q39 -> 0 | V39: =IF(U39-T39=0,"",U39-T39) | Y39: =IF(X39-W39=0,"",X39-W39) | AB39: ='INFORME DIARIO MAQUINARIA'!$AA39-'INFORME DIARIO MAQUINARIA'!$Z39 -> 0 | AE39: =IF(AD39-AC39=0,"",AD39-AC39) | AH39: =IF(AG39-AF39=0,"",AG39-AF39) | AM39: =IF((AK39+AJ39)-AL39=0,"",(AK39+AJ39)-AL39) | AN39: =IF(OR(AM39="",V39="",V39=0),"",ROUND(AM39/V39,2)) | AO39: =IF(OR(Y39="",AM39="",AM39=0),"",ROUND(Y39/AM39,2)) | AP39: =IF(OR(AM39="",Y39="",Y39=0),"",ROUND(AM39/Y39,2)) | AQ39: =IF(OR(L39="",V39="",V39=0),"",ROUND(L39/V39,1)) | AR39: =IF(OR('INFORME DIARIO MAQUINARIA'!$O39="",'INFORME DIARIO MAQUINARIA'!$AH39="",'INFORME DIARIO MAQUINARIA'!$AH39=0),"",ROUND('INFORME DIARIO MAQUINARIA'!$O39/'INFORME DIARIO MAQUINARIA'!$AH39,1)) | AS39: =IFERROR(IF(OR(V39="",AE39="",V39<=0,AE39<0),"",AE39/V39),"")
B40: 46155 | C40: MIÉRCOLES | D40: 1 | E40: VOLQUETA 6327 EIT | F40: HERNAN CANDIA | G40: 13 | H40: AV. RADIAL 12 FINAL | K40: TRANSPORTE DE MATERIAL EXCEDENTE | N40: 6 | O40: 72 | S40: ='INFORME DIARIO MAQUINARIA'!$R40-'INFORME DIARIO MAQUINARIA'!$Q40 -> 0 | V40: =IF(U40-T40=0,"",U40-T40) | Y40: =IF(X40-W40=0,"",X40-W40) | AB40: ='INFORME DIARIO MAQUINARIA'!$AA40-'INFORME DIARIO MAQUINARIA'!$Z40 -> 0 | AE40: =IF(AD40-AC40=0,"",AD40-AC40) | AH40: =IF(AG40-AF40=0,"",AG40-AF40) | AM40: =IF((AK40+AJ40)-AL40=0,"",(AK40+AJ40)-AL40) | AN40: =IF(OR(AM40="",V40="",V40=0),"",ROUND(AM40/V40,2)) | AO40: =IF(OR(Y40="",AM40="",AM40=0),"",ROUND(Y40/AM40,2)) | AP40: =IF(OR(AM40="",Y40="",Y40=0),"",ROUND(AM40/Y40,2)) | AQ40: =IF(OR(L40="",V40="",V40=0),"",ROUND(L40/V40,1)) | AR40: =IF(OR('INFORME DIARIO MAQUINARIA'!$O40="",'INFORME DIARIO MAQUINARIA'!$AH40="",'INFORME DIARIO MAQUINARIA'!$AH40=0),"",ROUND('INFORME DIARIO MAQUINARIA'!$O40/'INFORME DIARIO MAQUINARIA'!$AH40,1)) | AS40: =IFERROR(IF(OR(V40="",AE40="",V40<=0,AE40<0),"",AE40/V40),"")
B41: 46155 | C41: MIÉRCOLES | D41: 1 | E41: MOTONIVELADORA #13 | F41: LEONARDO MORENO | G41: 13 | H41: RECREO 2 SUR ESTE | I41: VILLA 10 | K41: MANTENIMIENTO DE VIAS NO PAVIMENTADAS | L41: 900 | S41: ='INFORME DIARIO MAQUINARIA'!$R41-'INFORME DIARIO MAQUINARIA'!$Q41 -> 0 | V41: =IF(U41-T41=0,"",U41-T41) | Y41: =IF(X41-W41=0,"",X41-W41) | AB41: ='INFORME DIARIO MAQUINARIA'!$AA41-'INFORME DIARIO MAQUINARIA'!$Z41 -> 0 | AE41: =IF(AD41-AC41=0,"",AD41-AC41) | AH41: =IF(AG41-AF41=0,"",AG41-AF41) | AM41: =IF((AK41+AJ41)-AL41=0,"",(AK41+AJ41)-AL41) | AN41: =IF(OR(AM41="",V41="",V41=0),"",ROUND(AM41/V41,2)) | AO41: =IF(OR(Y41="",AM41="",AM41=0),"",ROUND(Y41/AM41,2)) | AP41: =IF(OR(AM41="",Y41="",Y41=0),"",ROUND(AM41/Y41,2)) | AQ41: =IF(OR(L41="",V41="",V41=0),"",ROUND(L41/V41,1)) | AR41: =IF(OR('INFORME DIARIO MAQUINARIA'!$O41="",'INFORME DIARIO MAQUINARIA'!$AH41="",'INFORME DIARIO MAQUINARIA'!$AH41=0),"",ROUND('INFORME DIARIO MAQUINARIA'!$O41/'INFORME DIARIO MAQUINARIA'!$AH41,1)) | AS41: =IFERROR(IF(OR(V41="",AE41="",V41<=0,AE41<0),"",AE41/V41),"")
B42: 46155 | C42: MIÉRCOLES | D42: 1 | E42: MOTONIVELADORA #49 | F42: ELVIS RIVERO | G42: 13 | H42: EL MIRADOR DEL RECREO | K42: MANTENIMIENTO DE VIAS NO PAVIMENTADAS | L42: 1200 | S42: ='INFORME DIARIO MAQUINARIA'!$R42-'INFORME DIARIO MAQUINARIA'!$Q42 -> 0 | V42: =IF(U42-T42=0,"",U42-T42) | Y42: =IF(X42-W42=0,"",X42-W42) | AB42: ='INFORME DIARIO MAQUINARIA'!$AA42-'INFORME DIARIO MAQUINARIA'!$Z42 -> 0 | AE42: =IF(AD42-AC42=0,"",AD42-AC42) | AH42: =IF(AG42-AF42=0,"",AG42-AF42) | AM42: =IF((AK42+AJ42)-AL42=0,"",(AK42+AJ42)-AL42) | AN42: =IF(OR(AM42="",V42="",V42=0),"",ROUND(AM42/V42,2)) | AO42: =IF(OR(Y42="",AM42="",AM42=0),"",ROUND(Y42/AM42,2)) | AP42: =IF(OR(AM42="",Y42="",Y42=0),"",ROUND(AM42/Y42,2)) | AQ42: =IF(OR(L42="",V42="",V42=0),"",ROUND(L42/V42,1)) | AR42: =IF(OR('INFORME DIARIO MAQUINARIA'!$O42="",'INFORME DIARIO MAQUINARIA'!$AH42="",'INFORME DIARIO MAQUINARIA'!$AH42=0),"",ROUND('INFORME DIARIO MAQUINARIA'!$O42/'INFORME DIARIO MAQUINARIA'!$AH42,1)) | AS42: =IFERROR(IF(OR(V42="",AE42="",V42<=0,AE42<0),"",AE42/V42),"")
B43: 46156 | C43: JUEVES | D43: 1 | E43: RETROEXCAVADORA #17 | F43: ROLANDO RIOJA | G43: 7 | H43: UNION TERRADO | I43: 156 A | J43: CANAL NO REVESTIDO | K43: LIMPIEZA DE CANAL NO REVESTIDO | P43: 100 | S43: ='INFORME DIARIO MAQUINARIA'!$R43-'INFORME DIARIO MAQUINARIA'!$Q43 -> 0 | V43: =IF(U43-T43=0,"",U43-T43) | Y43: =IF(X43-W43=0,"",X43-W43) | AB43: ='INFORME DIARIO MAQUINARIA'!$AA43-'INFORME DIARIO MAQUINARIA'!$Z43 -> 0 | AE43: =IF(AD43-AC43=0,"",AD43-AC43) | AH43: =IF(AG43-AF43=0,"",AG43-AF43) | AM43: =IF((AK43+AJ43)-AL43=0,"",(AK43+AJ43)-AL43) | AN43: =IF(OR(AM43="",V43="",V43=0),"",ROUND(AM43/V43,2)) | AO43: =IF(OR(Y43="",AM43="",AM43=0),"",ROUND(Y43/AM43,2)) | AP43: =IF(OR(AM43="",Y43="",Y43=0),"",ROUND(AM43/Y43,2)) | AQ43: =IF(OR(L43="",V43="",V43=0),"",ROUND(L43/V43,1)) | AR43: =IF(OR('INFORME DIARIO MAQUINARIA'!$O43="",'INFORME DIARIO MAQUINARIA'!$AH43="",'INFORME DIARIO MAQUINARIA'!$AH43=0),"",ROUND('INFORME DIARIO MAQUINARIA'!$O43/'INFORME DIARIO MAQUINARIA'!$AH43,1)) | AS43: =IFERROR(IF(OR(V43="",AE43="",V43<=0,AE43<0),"",AE43/V43),"")
B44: 46156 | C44: JUEVES | D44: 1 | E44: MOTONIVELADORA #44 | F44: ROLY OSINAGA | G44: 7 | H44: UNION TERRADO | I44: 156 A | K44: MANTENIMIENTO DE CALLES Y VIAS NO PAVIMENTADAS | L44: 1400 | S44: ='INFORME DIARIO MAQUINARIA'!$R44-'INFORME DIARIO MAQUINARIA'!$Q44 -> 0 | V44: =IF(U44-T44=0,"",U44-T44) | Y44: =IF(X44-W44=0,"",X44-W44) | AB44: ='INFORME DIARIO MAQUINARIA'!$AA44-'INFORME DIARIO MAQUINARIA'!$Z44 -> 0 | AE44: =IF(AD44-AC44=0,"",AD44-AC44) | AH44: =IF(AG44-AF44=0,"",AG44-AF44) | AM44: =IF((AK44+AJ44)-AL44=0,"",(AK44+AJ44)-AL44) | AN44: =IF(OR(AM44="",V44="",V44=0),"",ROUND(AM44/V44,2)) | AO44: =IF(OR(Y44="",AM44="",AM44=0),"",ROUND(Y44/AM44,2)) | AP44: =IF(OR(AM44="",Y44="",Y44=0),"",ROUND(AM44/Y44,2)) | AQ44: =IF(OR(L44="",V44="",V44=0),"",ROUND(L44/V44,1)) | AR44: =IF(OR('INFORME DIARIO MAQUINARIA'!$O44="",'INFORME DIARIO MAQUINARIA'!$AH44="",'INFORME DIARIO MAQUINARIA'!$AH44=0),"",ROUND('INFORME DIARIO MAQUINARIA'!$O44/'INFORME DIARIO MAQUINARIA'!$AH44,1)) | AS44: =IFERROR(IF(OR(V44="",AE44="",V44<=0,AE44<0),"",AE44/V44),"")
B45: 46156 | C45: JUEVES | D45: 1 | E45: VOLQUETA 2254 ILF | F45: CARLOS SUAREZ | G45: 7 | H45: UNION TERRADO | I45: 156 A | K45: TRASLADO DE MATERIAL DE RELLENO | N45: 4 | O45: 32 | S45: ='INFORME DIARIO MAQUINARIA'!$R45-'INFORME DIARIO MAQUINARIA'!$Q45 -> 0 | V45: =IF(U45-T45=0,"",U45-T45) | Y45: =IF(X45-W45=0,"",X45-W45) | AB45: ='INFORME DIARIO MAQUINARIA'!$AA45-'INFORME DIARIO MAQUINARIA'!$Z45 -> 0 | AE45: =IF(AD45-AC45=0,"",AD45-AC45) | AH45: =IF(AG45-AF45=0,"",AG45-AF45) | AM45: =IF((AK45+AJ45)-AL45=0,"",(AK45+AJ45)-AL45) | AN45: =IF(OR(AM45="",V45="",V45=0),"",ROUND(AM45/V45,2)) | AO45: =IF(OR(Y45="",AM45="",AM45=0),"",ROUND(Y45/AM45,2)) | AP45: =IF(OR(AM45="",Y45="",Y45=0),"",ROUND(AM45/Y45,2)) | AQ45: =IF(OR(L45="",V45="",V45=0),"",ROUND(L45/V45,1)) | AR45: =IF(OR('INFORME DIARIO MAQUINARIA'!$O45="",'INFORME DIARIO MAQUINARIA'!$AH45="",'INFORME DIARIO MAQUINARIA'!$AH45=0),"",ROUND('INFORME DIARIO MAQUINARIA'!$O45/'INFORME DIARIO MAQUINARIA'!$AH45,1)) | AS45: =IFERROR(IF(OR(V45="",AE45="",V45<=0,AE45<0),"",AE45/V45),"")
B46: 46156 | C46: JUEVES | D46: 1 | E46: RETROEXCAVADORA #16 | F46: JUAN CARLOS ROCA | G46: 7 | H46: UNION TERRADO | I46: 156 A | K46: CARGUIO FR MATERIAL PARA RELLENO | M46: 32 | S46: ='INFORME DIARIO MAQUINARIA'!$R46-'INFORME DIARIO MAQUINARIA'!$Q46 -> 0 | V46: =IF(U46-T46=0,"",U46-T46) | Y46: =IF(X46-W46=0,"",X46-W46) | AB46: ='INFORME DIARIO MAQUINARIA'!$AA46-'INFORME DIARIO MAQUINARIA'!$Z46 -> 0 | AE46: =IF(AD46-AC46=0,"",AD46-AC46) | AH46: =IF(AG46-AF46=0,"",AG46-AF46) | AM46: =IF((AK46+AJ46)-AL46=0,"",(AK46+AJ46)-AL46) | AN46: =IF(OR(AM46="",V46="",V46=0),"",ROUND(AM46/V46,2)) | AO46: =IF(OR(Y46="",AM46="",AM46=0),"",ROUND(Y46/AM46,2)) | AP46: =IF(OR(AM46="",Y46="",Y46=0),"",ROUND(AM46/Y46,2)) | AQ46: =IF(OR(L46="",V46="",V46=0),"",ROUND(L46/V46,1)) | AR46: =IF(OR('INFORME DIARIO MAQUINARIA'!$O46="",'INFORME DIARIO MAQUINARIA'!$AH46="",'INFORME DIARIO MAQUINARIA'!$AH46=0),"",ROUND('INFORME DIARIO MAQUINARIA'!$O46/'INFORME DIARIO MAQUINARIA'!$AH46,1)) | AS46: =IFERROR(IF(OR(V46="",AE46="",V46<=0,AE46<0),"",AE46/V46),"") | AT46: LA RETRO SE FREGO POR PROBLEMAS MECANICOS VINO LA RETRO 14 A REEMPLAZARLO
B47: 46156 | C47: JUEVES | D47: 1 | E47: MOTONIVELADORA #49 | F47: ELVIS RIVERO | G47: 7 | H47: FABRIL 18 DE MAYO | I47: 229 | K47: MANTENIMIENTO DE CALLES Y VIAS NO PAVIMENTADAS | L47: 1300 | S47: ='INFORME DIARIO MAQUINARIA'!$R47-'INFORME DIARIO MAQUINARIA'!$Q47 -> 0 | V47: =IF(U47-T47=0,"",U47-T47) | Y47: =IF(X47-W47=0,"",X47-W47) | AB47: ='INFORME DIARIO MAQUINARIA'!$AA47-'INFORME DIARIO MAQUINARIA'!$Z47 -> 0 | AE47: =IF(AD47-AC47=0,"",AD47-AC47) | AH47: =IF(AG47-AF47=0,"",AG47-AF47) | AM47: =IF((AK47+AJ47)-AL47=0,"",(AK47+AJ47)-AL47) | AN47: =IF(OR(AM47="",V47="",V47=0),"",ROUND(AM47/V47,2)) | AO47: =IF(OR(Y47="",AM47="",AM47=0),"",ROUND(Y47/AM47,2)) | AP47: =IF(OR(AM47="",Y47="",Y47=0),"",ROUND(AM47/Y47,2)) | AQ47: =IF(OR(L47="",V47="",V47=0),"",ROUND(L47/V47,1)) | AR47: =IF(OR('INFORME DIARIO MAQUINARIA'!$O47="",'INFORME DIARIO MAQUINARIA'!$AH47="",'INFORME DIARIO MAQUINARIA'!$AH47=0),"",ROUND('INFORME DIARIO MAQUINARIA'!$O47/'INFORME DIARIO MAQUINARIA'!$AH47,1)) | AS47: =IFERROR(IF(OR(V47="",AE47="",V47<=0,AE47<0),"",AE47/V47),"")
B48: 46156 | C48: JUEVES | D48: 1 | E48: VOLQUETA 6327 ECU | F48: RAMON DAZA | G48: 7 | H48: FABRIL 18 DE MAYO | I48: 229 | K48: TRANSPORTE DE MATERIAL PARA RELLENO | N48: 5 | O48: 60 | S48: ='INFORME DIARIO MAQUINARIA'!$R48-'INFORME DIARIO MAQUINARIA'!$Q48 -> 0 | V48: =IF(U48-T48=0,"",U48-T48) | Y48: =IF(X48-W48=0,"",X48-W48) | AB48: ='INFORME DIARIO MAQUINARIA'!$AA48-'INFORME DIARIO MAQUINARIA'!$Z48 -> 0 | AE48: =IF(AD48-AC48=0,"",AD48-AC48) | AH48: =IF(AG48-AF48=0,"",AG48-AF48) | AM48: =IF((AK48+AJ48)-AL48=0,"",(AK48+AJ48)-AL48) | AN48: =IF(OR(AM48="",V48="",V48=0),"",ROUND(AM48/V48,2)) | AO48: =IF(OR(Y48="",AM48="",AM48=0),"",ROUND(Y48/AM48,2)) | AP48: =IF(OR(AM48="",Y48="",Y48=0),"",ROUND(AM48/Y48,2)) | AQ48: =IF(OR(L48="",V48="",V48=0),"",ROUND(L48/V48,1)) | AR48: =IF(OR('INFORME DIARIO MAQUINARIA'!$O48="",'INFORME DIARIO MAQUINARIA'!$AH48="",'INFORME DIARIO MAQUINARIA'!$AH48=0),"",ROUND('INFORME DIARIO MAQUINARIA'!$O48/'INFORME DIARIO MAQUINARIA'!$AH48,1)) | AS48: =IFERROR(IF(OR(V48="",AE48="",V48<=0,AE48<0),"",AE48/V48),"")
B49: 46156 | C49: JUEVES | D49: 1 | E49: VOLQUETA 6327 ECU | F49: RAMON DAZA | G49: 7 | H49: UNION TERRADO | I49: 156 A | K49: TRANSPORTE DE MATERIAL PARA RELLENO | N49: 3 | O49: 36 | S49: ='INFORME DIARIO MAQUINARIA'!$R49-'INFORME DIARIO MAQUINARIA'!$Q49 -> 0 | V49: =IF(U49-T49=0,"",U49-T49) | Y49: =IF(X49-W49=0,"",X49-W49) | AB49: ='INFORME DIARIO MAQUINARIA'!$AA49-'INFORME DIARIO MAQUINARIA'!$Z49 -> 0 | AE49: =IF(AD49-AC49=0,"",AD49-AC49) | AH49: =IF(AG49-AF49=0,"",AG49-AF49) | AM49: =IF((AK49+AJ49)-AL49=0,"",(AK49+AJ49)-AL49) | AN49: =IF(OR(AM49="",V49="",V49=0),"",ROUND(AM49/V49,2)) | AO49: =IF(OR(Y49="",AM49="",AM49=0),"",ROUND(Y49/AM49,2)) | AP49: =IF(OR(AM49="",Y49="",Y49=0),"",ROUND(AM49/Y49,2)) | AQ49: =IF(OR(L49="",V49="",V49=0),"",ROUND(L49/V49,1)) | AR49: =IF(OR('INFORME DIARIO MAQUINARIA'!$O49="",'INFORME DIARIO MAQUINARIA'!$AH49="",'INFORME DIARIO MAQUINARIA'!$AH49=0),"",ROUND('INFORME DIARIO MAQUINARIA'!$O49/'INFORME DIARIO MAQUINARIA'!$AH49,1)) | AS49: =IFERROR(IF(OR(V49="",AE49="",V49<=0,AE49<0),"",AE49/V49),"")
B50: 46156 | C50: JUEVES | D50: 1 | E50: RETROEXCAVADORA #14 | F50: VICTOR LAVERAN | G50: 7 | H50: FABRIL 18 DE MAYO | I50: 229 | K50: CARGUIO DE MATERIAL PARA RELLENO | M50: 96 | S50: ='INFORME DIARIO MAQUINARIA'!$R50-'INFORME DIARIO MAQUINARIA'!$Q50 -> 0 | V50: =IF(U50-T50=0,"",U50-T50) | Y50: =IF(X50-W50=0,"",X50-W50) | AB50: ='INFORME DIARIO MAQUINARIA'!$AA50-'INFORME DIARIO MAQUINARIA'!$Z50 -> 0 | AE50: =IF(AD50-AC50=0,"",AD50-AC50) | AH50: =IF(AG50-AF50=0,"",AG50-AF50) | AM50: =IF((AK50+AJ50)-AL50=0,"",(AK50+AJ50)-AL50) | AN50: =IF(OR(AM50="",V50="",V50=0),"",ROUND(AM50/V50,2)) | AO50: =IF(OR(Y50="",AM50="",AM50=0),"",ROUND(Y50/AM50,2)) | AP50: =IF(OR(AM50="",Y50="",Y50=0),"",ROUND(AM50/Y50,2)) | AQ50: =IF(OR(L50="",V50="",V50=0),"",ROUND(L50/V50,1)) | AR50: =IF(OR('INFORME DIARIO MAQUINARIA'!$O50="",'INFORME DIARIO MAQUINARIA'!$AH50="",'INFORME DIARIO MAQUINARIA'!$AH50=0),"",ROUND('INFORME DIARIO MAQUINARIA'!$O50/'INFORME DIARIO MAQUINARIA'!$AH50,1)) | AS50: =IFERROR(IF(OR(V50="",AE50="",V50<=0,AE50<0),"",AE50/V50),"")
B51: 46156 | C51: JUEVES | D51: 1 | E51: VOLQUETA 6327 EHP | F51: WILDER NOGALES | G51: 10 | H51: 15 DE MAYO | I51: 189 A | K51: TRANSPORTE DE MATERIAL PARA RELLENO | N51: 5 | O51: 60 | S51: ='INFORME DIARIO MAQUINARIA'!$R51-'INFORME DIARIO MAQUINARIA'!$Q51 -> 0 | V51: =IF(U51-T51=0,"",U51-T51) | Y51: =IF(X51-W51=0,"",X51-W51) | AB51: ='INFORME DIARIO MAQUINARIA'!$AA51-'INFORME DIARIO MAQUINARIA'!$Z51 -> 0 | AE51: =IF(AD51-AC51=0,"",AD51-AC51) | AH51: =IF(AG51-AF51=0,"",AG51-AF51) | AM51: =IF((AK51+AJ51)-AL51=0,"",(AK51+AJ51)-AL51) | AN51: =IF(OR(AM51="",V51="",V51=0),"",ROUND(AM51/V51,2)) | AO51: =IF(OR(Y51="",AM51="",AM51=0),"",ROUND(Y51/AM51,2)) | AP51: =IF(OR(AM51="",Y51="",Y51=0),"",ROUND(AM51/Y51,2)) | AQ51: =IF(OR(L51="",V51="",V51=0),"",ROUND(L51/V51,1)) | AR51: =IF(OR('INFORME DIARIO MAQUINARIA'!$O51="",'INFORME DIARIO MAQUINARIA'!$AH51="",'INFORME DIARIO MAQUINARIA'!$AH51=0),"",ROUND('INFORME DIARIO MAQUINARIA'!$O51/'INFORME DIARIO MAQUINARIA'!$AH51,1)) | AS51: =IFERROR(IF(OR(V51="",AE51="",V51<=0,AE51<0),"",AE51/V51),"")
B52: 46156 | C52: JUEVES | D52: 1 | E52: MOTONIVELADORA #46 | F52: FREDY QUISPE | G52: 10 | H52: 15 DE MAYO | I52: 189 A | K52: MANTENIMIENTO DE CALLES Y VIAS NO PAVIMENTADAS | L52: 800 | S52: ='INFORME DIARIO MAQUINARIA'!$R52-'INFORME DIARIO MAQUINARIA'!$Q52 -> 0 | V52: =IF(U52-T52=0,"",U52-T52) | Y52: =IF(X52-W52=0,"",X52-W52) | AB52: ='INFORME DIARIO MAQUINARIA'!$AA52-'INFORME DIARIO MAQUINARIA'!$Z52 -> 0 | AE52: =IF(AD52-AC52=0,"",AD52-AC52) | AH52: =IF(AG52-AF52=0,"",AG52-AF52) | AM52: =IF((AK52+AJ52)-AL52=0,"",(AK52+AJ52)-AL52) | AN52: =IF(OR(AM52="",V52="",V52=0),"",ROUND(AM52/V52,2)) | AO52: =IF(OR(Y52="",AM52="",AM52=0),"",ROUND(Y52/AM52,2)) | AP52: =IF(OR(AM52="",Y52="",Y52=0),"",ROUND(AM52/Y52,2)) | AQ52: =IF(OR(L52="",V52="",V52=0),"",ROUND(L52/V52,1)) | AR52: =IF(OR('INFORME DIARIO MAQUINARIA'!$O52="",'INFORME DIARIO MAQUINARIA'!$AH52="",'INFORME DIARIO MAQUINARIA'!$AH52=0),"",ROUND('INFORME DIARIO MAQUINARIA'!$O52/'INFORME DIARIO MAQUINARIA'!$AH52,1)) | AS52: =IFERROR(IF(OR(V52="",AE52="",V52<=0,AE52<0),"",AE52/V52),"")
B53: 46156 | C53: JUEVES | D53: 1 | E53: MOTONIVELADORA #35 | F53: JUSTO ARIAS | G53: 10 | H53: 15 DE MAYO | I53: 189 A | K53: MANTENIMIENTO DE CALLES Y VIAS NO PAVIMENTADAS | L53: 400 | S53: ='INFORME DIARIO MAQUINARIA'!$R53-'INFORME DIARIO MAQUINARIA'!$Q53 -> 0 | V53: =IF(U53-T53=0,"",U53-T53) | Y53: =IF(X53-W53=0,"",X53-W53) | AB53: ='INFORME DIARIO MAQUINARIA'!$AA53-'INFORME DIARIO MAQUINARIA'!$Z53 -> 0 | AE53: =IF(AD53-AC53=0,"",AD53-AC53) | AH53: =IF(AG53-AF53=0,"",AG53-AF53) | AM53: =IF((AK53+AJ53)-AL53=0,"",(AK53+AJ53)-AL53) | AN53: =IF(OR(AM53="",V53="",V53=0),"",ROUND(AM53/V53,2)) | AO53: =IF(OR(Y53="",AM53="",AM53=0),"",ROUND(Y53/AM53,2)) | AP53: =IF(OR(AM53="",Y53="",Y53=0),"",ROUND(AM53/Y53,2)) | AQ53: =IF(OR(L53="",V53="",V53=0),"",ROUND(L53/V53,1)) | AR53: =IF(OR('INFORME DIARIO MAQUINARIA'!$O53="",'INFORME DIARIO MAQUINARIA'!$AH53="",'INFORME DIARIO MAQUINARIA'!$AH53=0),"",ROUND('INFORME DIARIO MAQUINARIA'!$O53/'INFORME DIARIO MAQUINARIA'!$AH53,1)) | AS53: =IFERROR(IF(OR(V53="",AE53="",V53<=0,AE53<0),"",AE53/V53),"")
B54: 46156 | C54: JUEVES | D54: 1 | E54: RETROEXCAVADORA #12 | F54: PABLO ARIAS | G54: 10 | H54: 15 DE MAYO | I54: 189 A | K54: CARGUIO DE MATERIAL PARA RELLENO | M54: 120 | S54: ='INFORME DIARIO MAQUINARIA'!$R54-'INFORME DIARIO MAQUINARIA'!$Q54 -> 0 | V54: =IF(U54-T54=0,"",U54-T54) | Y54: =IF(X54-W54=0,"",X54-W54) | AB54: ='INFORME DIARIO MAQUINARIA'!$AA54-'INFORME DIARIO MAQUINARIA'!$Z54 -> 0 | AE54: =IF(AD54-AC54=0,"",AD54-AC54) | AH54: =IF(AG54-AF54=0,"",AG54-AF54) | AM54: =IF((AK54+AJ54)-AL54=0,"",(AK54+AJ54)-AL54) | AN54: =IF(OR(AM54="",V54="",V54=0),"",ROUND(AM54/V54,2)) | AO54: =IF(OR(Y54="",AM54="",AM54=0),"",ROUND(Y54/AM54,2)) | AP54: =IF(OR(AM54="",Y54="",Y54=0),"",ROUND(AM54/Y54,2)) | AQ54: =IF(OR(L54="",V54="",V54=0),"",ROUND(L54/V54,1)) | AR54: =IF(OR('INFORME DIARIO MAQUINARIA'!$O54="",'INFORME DIARIO MAQUINARIA'!$AH54="",'INFORME DIARIO MAQUINARIA'!$AH54=0),"",ROUND('INFORME DIARIO MAQUINARIA'!$O54/'INFORME DIARIO MAQUINARIA'!$AH54,1)) | AS54: =IFERROR(IF(OR(V54="",AE54="",V54<=0,AE54<0),"",AE54/V54),"")
B55: 46156 | C55: JUEVES | D55: 1 | E55: VOLQUETA 6327 EFG | F55: FERNANDO OLLER | G55: 10 | H55: 15 DE MAYO | I55: 189 A | K55: TRANSPORTE DE MATERIAL PARA RELLENO | N55: 5 | O55: 60 | S55: ='INFORME DIARIO MAQUINARIA'!$R55-'INFORME DIARIO MAQUINARIA'!$Q55 -> 0 | V55: =IF(U55-T55=0,"",U55-T55) | Y55: =IF(X55-W55=0,"",X55-W55) | AB55: ='INFORME DIARIO MAQUINARIA'!$AA55-'INFORME DIARIO MAQUINARIA'!$Z55 -> 0 | AE55: =IF(AD55-AC55=0,"",AD55-AC55) | AH55: =IF(AG55-AF55=0,"",AG55-AF55) | AM55: =IF((AK55+AJ55)-AL55=0,"",(AK55+AJ55)-AL55) | AN55: =IF(OR(AM55="",V55="",V55=0),"",ROUND(AM55/V55,2)) | AO55: =IF(OR(Y55="",AM55="",AM55=0),"",ROUND(Y55/AM55,2)) | AP55: =IF(OR(AM55="",Y55="",Y55=0),"",ROUND(AM55/Y55,2)) | AQ55: =IF(OR(L55="",V55="",V55=0),"",ROUND(L55/V55,1)) | AR55: =IF(OR('INFORME DIARIO MAQUINARIA'!$O55="",'INFORME DIARIO MAQUINARIA'!$AH55="",'INFORME DIARIO MAQUINARIA'!$AH55=0),"",ROUND('INFORME DIARIO MAQUINARIA'!$O55/'INFORME DIARIO MAQUINARIA'!$AH55,1)) | AS55: =IFERROR(IF(OR(V55="",AE55="",V55<=0,AE55<0),"",AE55/V55),"")
B56: 46156 | C56: JUEVES | D56: 1 | E56: MOTONIVELADORA #48 | F56: FORTUNATO MERCADO | G56: 13 | H56: ZONA EL MESON PLATANITO | K56: MANTENIMIENTO DE VIAS NO PAVIMENTADAS | L56: 1400 | S56: ='INFORME DIARIO MAQUINARIA'!$R56-'INFORME DIARIO MAQUINARIA'!$Q56 -> 0 | V56: =IF(U56-T56=0,"",U56-T56) | Y56: =IF(X56-W56=0,"",X56-W56) | AB56: ='INFORME DIARIO MAQUINARIA'!$AA56-'INFORME DIARIO MAQUINARIA'!$Z56 -> 0 | AE56: =IF(AD56-AC56=0,"",AD56-AC56) | AH56: =IF(AG56-AF56=0,"",AG56-AF56) | AM56: =IF((AK56+AJ56)-AL56=0,"",(AK56+AJ56)-AL56) | AN56: =IF(OR(AM56="",V56="",V56=0),"",ROUND(AM56/V56,2)) | AO56: =IF(OR(Y56="",AM56="",AM56=0),"",ROUND(Y56/AM56,2)) | AP56: =IF(OR(AM56="",Y56="",Y56=0),"",ROUND(AM56/Y56,2)) | AQ56: =IF(OR(L56="",V56="",V56=0),"",ROUND(L56/V56,1)) | AR56: =IF(OR('INFORME DIARIO MAQUINARIA'!$O56="",'INFORME DIARIO MAQUINARIA'!$AH56="",'INFORME DIARIO MAQUINARIA'!$AH56=0),"",ROUND('INFORME DIARIO MAQUINARIA'!$O56/'INFORME DIARIO MAQUINARIA'!$AH56,1)) | AS56: =IFERROR(IF(OR(V56="",AE56="",V56<=0,AE56<0),"",AE56/V56),"")
B57: 46156 | C57: JUEVES | D57: 1 | E57: RETROEXCAVADORA #33 | F57: ELEODORO ALBA | G57: 13 | H57: ESCODORO/AV. RADIAL 2 FINAL | K57: CARGUIO DE MATERIAL DE RELLENO Y MATERIAL DE SEDIMIENTO | M57: 96 | S57: ='INFORME DIARIO MAQUINARIA'!$R57-'INFORME DIARIO MAQUINARIA'!$Q57 -> 0 | V57: =IF(U57-T57=0,"",U57-T57) | Y57: =IF(X57-W57=0,"",X57-W57) | AB57: ='INFORME DIARIO MAQUINARIA'!$AA57-'INFORME DIARIO MAQUINARIA'!$Z57 -> 0 | AE57: =IF(AD57-AC57=0,"",AD57-AC57) | AH57: =IF(AG57-AF57=0,"",AG57-AF57) | AM57: =IF((AK57+AJ57)-AL57=0,"",(AK57+AJ57)-AL57) | AN57: =IF(OR(AM57="",V57="",V57=0),"",ROUND(AM57/V57,2)) | AO57: =IF(OR(Y57="",AM57="",AM57=0),"",ROUND(Y57/AM57,2)) | AP57: =IF(OR(AM57="",Y57="",Y57=0),"",ROUND(AM57/Y57,2)) | AQ57: =IF(OR(L57="",V57="",V57=0),"",ROUND(L57/V57,1)) | AR57: =IF(OR('INFORME DIARIO MAQUINARIA'!$O57="",'INFORME DIARIO MAQUINARIA'!$AH57="",'INFORME DIARIO MAQUINARIA'!$AH57=0),"",ROUND('INFORME DIARIO MAQUINARIA'!$O57/'INFORME DIARIO MAQUINARIA'!$AH57,1)) | AS57: =IFERROR(IF(OR(V57="",AE57="",V57<=0,AE57<0),"",AE57/V57),"")
B58: 46156 | C58: JUEVES | D58: 1 | E58: VOLQUETA 6327 EGK | F58: GOEL ROSSEL | G58: 13 | H58: PANIAGUA | I58: 175 | K58: TRANSPORTE DE MATERIAL DE RELLENO | N58: 3 | O58: 36 | S58: ='INFORME DIARIO MAQUINARIA'!$R58-'INFORME DIARIO MAQUINARIA'!$Q58 -> 0 | V58: =IF(U58-T58=0,"",U58-T58) | Y58: =IF(X58-W58=0,"",X58-W58) | AB58: ='INFORME DIARIO MAQUINARIA'!$AA58-'INFORME DIARIO MAQUINARIA'!$Z58 -> 0 | AE58: =IF(AD58-AC58=0,"",AD58-AC58) | AH58: =IF(AG58-AF58=0,"",AG58-AF58) | AM58: =IF((AK58+AJ58)-AL58=0,"",(AK58+AJ58)-AL58) | AN58: =IF(OR(AM58="",V58="",V58=0),"",ROUND(AM58/V58,2)) | AO58: =IF(OR(Y58="",AM58="",AM58=0),"",ROUND(Y58/AM58,2)) | AP58: =IF(OR(AM58="",Y58="",Y58=0),"",ROUND(AM58/Y58,2)) | AQ58: =IF(OR(L58="",V58="",V58=0),"",ROUND(L58/V58,1)) | AR58: =IF(OR('INFORME DIARIO MAQUINARIA'!$O58="",'INFORME DIARIO MAQUINARIA'!$AH58="",'INFORME DIARIO MAQUINARIA'!$AH58=0),"",ROUND('INFORME DIARIO MAQUINARIA'!$O58/'INFORME DIARIO MAQUINARIA'!$AH58,1)) | AS58: =IFERROR(IF(OR(V58="",AE58="",V58<=0,AE58<0),"",AE58/V58),"")
B59: 46156 | C59: JUEVES | D59: 1 | E59: VOLQUETA 6327 EIT | F59: HERNAN CANDIA | G59: 13 | H59: ESCODORO/AV. RADIAL 2 FINAL | K59: TRANSPORTE DE MATERIAL DE RELLENO | N59: 5 | O59: 60 | S59: ='INFORME DIARIO MAQUINARIA'!$R59-'INFORME DIARIO MAQUINARIA'!$Q59 -> 0 | V59: =IF(U59-T59=0,"",U59-T59) | Y59: =IF(X59-W59=0,"",X59-W59) | AB59: ='INFORME DIARIO MAQUINARIA'!$AA59-'INFORME DIARIO MAQUINARIA'!$Z59 -> 0 | AE59: =IF(AD59-AC59=0,"",AD59-AC59) | AH59: =IF(AG59-AF59=0,"",AG59-AF59) | AM59: =IF((AK59+AJ59)-AL59=0,"",(AK59+AJ59)-AL59) | AN59: =IF(OR(AM59="",V59="",V59=0),"",ROUND(AM59/V59,2)) | AO59: =IF(OR(Y59="",AM59="",AM59=0),"",ROUND(Y59/AM59,2)) | AP59: =IF(OR(AM59="",Y59="",Y59=0),"",ROUND(AM59/Y59,2)) | AQ59: =IF(OR(L59="",V59="",V59=0),"",ROUND(L59/V59,1)) | AR59: =IF(OR('INFORME DIARIO MAQUINARIA'!$O59="",'INFORME DIARIO MAQUINARIA'!$AH59="",'INFORME DIARIO MAQUINARIA'!$AH59=0),"",ROUND('INFORME DIARIO MAQUINARIA'!$O59/'INFORME DIARIO MAQUINARIA'!$AH59,1)) | AS59: =IFERROR(IF(OR(V59="",AE59="",V59<=0,AE59<0),"",AE59/V59),"")
B60: 46156 | C60: JUEVES | D60: 1 | E60: MOTONIVELADORA #47 | F60: RUBEN SUAREZ | G60: 13 | H60: PASCANA | I60: 175 | K60: MANTENIMINENTO DE VIAS NO PAVIMENTADAS | L60: 2010 | S60: ='INFORME DIARIO MAQUINARIA'!$R60-'INFORME DIARIO MAQUINARIA'!$Q60 -> 0 | V60: =IF(U60-T60=0,"",U60-T60) | Y60: =IF(X60-W60=0,"",X60-W60) | AB60: ='INFORME DIARIO MAQUINARIA'!$AA60-'INFORME DIARIO MAQUINARIA'!$Z60 -> 0 | AE60: =IF(AD60-AC60=0,"",AD60-AC60) | AH60: =IF(AG60-AF60=0,"",AG60-AF60) | AM60: =IF((AK60+AJ60)-AL60=0,"",(AK60+AJ60)-AL60) | AN60: =IF(OR(AM60="",V60="",V60=0),"",ROUND(AM60/V60,2)) | AO60: =IF(OR(Y60="",AM60="",AM60=0),"",ROUND(Y60/AM60,2)) | AP60: =IF(OR(AM60="",Y60="",Y60=0),"",ROUND(AM60/Y60,2)) | AQ60: =IF(OR(L60="",V60="",V60=0),"",ROUND(L60/V60,1)) | AR60: =IF(OR('INFORME DIARIO MAQUINARIA'!$O60="",'INFORME DIARIO MAQUINARIA'!$AH60="",'INFORME DIARIO MAQUINARIA'!$AH60=0),"",ROUND('INFORME DIARIO MAQUINARIA'!$O60/'INFORME DIARIO MAQUINARIA'!$AH60,1)) | AS60: =IFERROR(IF(OR(V60="",AE60="",V60<=0,AE60<0),"",AE60/V60),"")
B61: 46156 | C61: JUEVES | D61: 1 | E61: MOTONIVELADORA #28 | F61: YIMMY GABRIEL | G61: 13 | H61: PANIAGUA | I61: 175 | K61: MANTENIMIENTO DE VIAS NO PAVIMENTADAS | L61: 600 | S61: ='INFORME DIARIO MAQUINARIA'!$R61-'INFORME DIARIO MAQUINARIA'!$Q61 -> 0 | V61: =IF(U61-T61=0,"",U61-T61) | Y61: =IF(X61-W61=0,"",X61-W61) | AB61: ='INFORME DIARIO MAQUINARIA'!$AA61-'INFORME DIARIO MAQUINARIA'!$Z61 -> 0 | AE61: =IF(AD61-AC61=0,"",AD61-AC61) | AH61: =IF(AG61-AF61=0,"",AG61-AF61) | AM61: =IF((AK61+AJ61)-AL61=0,"",(AK61+AJ61)-AL61) | AN61: =IF(OR(AM61="",V61="",V61=0),"",ROUND(AM61/V61,2)) | AO61: =IF(OR(Y61="",AM61="",AM61=0),"",ROUND(Y61/AM61,2)) | AP61: =IF(OR(AM61="",Y61="",Y61=0),"",ROUND(AM61/Y61,2)) | AQ61: =IF(OR(L61="",V61="",V61=0),"",ROUND(L61/V61,1)) | AR61: =IF(OR('INFORME DIARIO MAQUINARIA'!$O61="",'INFORME DIARIO MAQUINARIA'!$AH61="",'INFORME DIARIO MAQUINARIA'!$AH61=0),"",ROUND('INFORME DIARIO MAQUINARIA'!$O61/'INFORME DIARIO MAQUINARIA'!$AH61,1)) | AS61: =IFERROR(IF(OR(V61="",AE61="",V61<=0,AE61<0),"",AE61/V61),"")
B62: 46157 | C62: VIERNES | D62: 1 | E62: VOLQUETA 2254 ILF | F62: CARLOS SUAREZ | G62: 8 | H62: 5TO ANILLO Y AV. SAN AURELIO | I62: 104 | K62: TRANSPORTE DE MATERIAL DE RELLENO EXCEDENTE | N62: 6 | O62: 72 | S62: ='INFORME DIARIO MAQUINARIA'!$R62-'INFORME DIARIO MAQUINARIA'!$Q62 -> 0 | V62: =IF(U62-T62=0,"",U62-T62) | Y62: =IF(X62-W62=0,"",X62-W62) | AB62: ='INFORME DIARIO MAQUINARIA'!$AA62-'INFORME DIARIO MAQUINARIA'!$Z62 -> 0 | AE62: =IF(AD62-AC62=0,"",AD62-AC62) | AH62: =IF(AG62-AF62=0,"",AG62-AF62) | AM62: =IF((AK62+AJ62)-AL62=0,"",(AK62+AJ62)-AL62) | AN62: =IF(OR(AM62="",V62="",V62=0),"",ROUND(AM62/V62,2)) | AO62: =IF(OR(Y62="",AM62="",AM62=0),"",ROUND(Y62/AM62,2)) | AP62: =IF(OR(AM62="",Y62="",Y62=0),"",ROUND(AM62/Y62,2)) | AQ62: =IF(OR(L62="",V62="",V62=0),"",ROUND(L62/V62,1)) | AR62: =IF(OR('INFORME DIARIO MAQUINARIA'!$O62="",'INFORME DIARIO MAQUINARIA'!$AH62="",'INFORME DIARIO MAQUINARIA'!$AH62=0),"",ROUND('INFORME DIARIO MAQUINARIA'!$O62/'INFORME DIARIO MAQUINARIA'!$AH62,1)) | AS62: =IFERROR(IF(OR(V62="",AE62="",V62<=0,AE62<0),"",AE62/V62),"")
B63: 46157 | C63: VIERNES | D63: 1 | E63: VOLQUETA 6327 EHP | F63: WILDER NOGALES | G63: 8 | H63: 5TO ANILLO Y AV. SAN AURELIO | I63: 104 | K63: TRANSPORTE DE MATERIAL DE RELLENO EXCEDENTE | N63: 6 | O63: 72 | S63: ='INFORME DIARIO MAQUINARIA'!$R63-'INFORME DIARIO MAQUINARIA'!$Q63 -> 0 | V63: =IF(U63-T63=0,"",U63-T63) | Y63: =IF(X63-W63=0,"",X63-W63) | AB63: ='INFORME DIARIO MAQUINARIA'!$AA63-'INFORME DIARIO MAQUINARIA'!$Z63 -> 0 | AE63: =IF(AD63-AC63=0,"",AD63-AC63) | AH63: =IF(AG63-AF63=0,"",AG63-AF63) | AM63: =IF((AK63+AJ63)-AL63=0,"",(AK63+AJ63)-AL63) | AN63: =IF(OR(AM63="",V63="",V63=0),"",ROUND(AM63/V63,2)) | AO63: =IF(OR(Y63="",AM63="",AM63=0),"",ROUND(Y63/AM63,2)) | AP63: =IF(OR(AM63="",Y63="",Y63=0),"",ROUND(AM63/Y63,2)) | AQ63: =IF(OR(L63="",V63="",V63=0),"",ROUND(L63/V63,1)) | AR63: =IF(OR('INFORME DIARIO MAQUINARIA'!$O63="",'INFORME DIARIO MAQUINARIA'!$AH63="",'INFORME DIARIO MAQUINARIA'!$AH63=0),"",ROUND('INFORME DIARIO MAQUINARIA'!$O63/'INFORME DIARIO MAQUINARIA'!$AH63,1)) | AS63: =IFERROR(IF(OR(V63="",AE63="",V63<=0,AE63<0),"",AE63/V63),"")
B64: 46157 | C64: VIERNES | D64: 1 | E64: VOLQUETA 6327 EBR | F64: EMILIANO VARGAS | G64: 8 | H64: 5TO ANILLO Y AV. SAN AURELIO | I64: 104 | K64: TRANSPORTE DE MATERIAL DE RELLENO EXCEDENTE | N64: 6 | O64: 72 | S64: ='INFORME DIARIO MAQUINARIA'!$R64-'INFORME DIARIO MAQUINARIA'!$Q64 -> 0 | V64: =IF(U64-T64=0,"",U64-T64) | Y64: =IF(X64-W64=0,"",X64-W64) | AB64: ='INFORME DIARIO MAQUINARIA'!$AA64-'INFORME DIARIO MAQUINARIA'!$Z64 -> 0 | AE64: =IF(AD64-AC64=0,"",AD64-AC64) | AH64: =IF(AG64-AF64=0,"",AG64-AF64) | AM64: =IF((AK64+AJ64)-AL64=0,"",(AK64+AJ64)-AL64) | AN64: =IF(OR(AM64="",V64="",V64=0),"",ROUND(AM64/V64,2)) | AO64: =IF(OR(Y64="",AM64="",AM64=0),"",ROUND(Y64/AM64,2)) | AP64: =IF(OR(AM64="",Y64="",Y64=0),"",ROUND(AM64/Y64,2)) | AQ64: =IF(OR(L64="",V64="",V64=0),"",ROUND(L64/V64,1)) | AR64: =IF(OR('INFORME DIARIO MAQUINARIA'!$O64="",'INFORME DIARIO MAQUINARIA'!$AH64="",'INFORME DIARIO MAQUINARIA'!$AH64=0),"",ROUND('INFORME DIARIO MAQUINARIA'!$O64/'INFORME DIARIO MAQUINARIA'!$AH64,1)) | AS64: =IFERROR(IF(OR(V64="",AE64="",V64<=0,AE64<0),"",AE64/V64),"")
B65: 46157 | C65: VIERNES | D65: 1 | E65: RETROEXCAVADORA #17 | F65: ROLANDO RIOJA | G65: 8 | H65: 5TO ANILLO Y AV. SAN AURELIO | I65: 104 | K65: CARGUIO Y RANSPORTE DE MATERIAL DE RELLENO EXCEDENTE | M65: 216 | S65: ='INFORME DIARIO MAQUINARIA'!$R65-'INFORME DIARIO MAQUINARIA'!$Q65 -> 0 | V65: =IF(U65-T65=0,"",U65-T65) | Y65: =IF(X65-W65=0,"",X65-W65) | AB65: ='INFORME DIARIO MAQUINARIA'!$AA65-'INFORME DIARIO MAQUINARIA'!$Z65 -> 0 | AE65: =IF(AD65-AC65=0,"",AD65-AC65) | AH65: =IF(AG65-AF65=0,"",AG65-AF65) | AM65: =IF((AK65+AJ65)-AL65=0,"",(AK65+AJ65)-AL65) | AN65: =IF(OR(AM65="",V65="",V65=0),"",ROUND(AM65/V65,2)) | AO65: =IF(OR(Y65="",AM65="",AM65=0),"",ROUND(Y65/AM65,2)) | AP65: =IF(OR(AM65="",Y65="",Y65=0),"",ROUND(AM65/Y65,2)) | AQ65: =IF(OR(L65="",V65="",V65=0),"",ROUND(L65/V65,1)) | AR65: =IF(OR('INFORME DIARIO MAQUINARIA'!$O65="",'INFORME DIARIO MAQUINARIA'!$AH65="",'INFORME DIARIO MAQUINARIA'!$AH65=0),"",ROUND('INFORME DIARIO MAQUINARIA'!$O65/'INFORME DIARIO MAQUINARIA'!$AH65,1)) | AS65: =IFERROR(IF(OR(V65="",AE65="",V65<=0,AE65<0),"",AE65/V65),"")
B66: 46157 | C66: VIERNES | D66: 1 | E66: MOTONIVELADORA #46 | F66: FREDY QUISPE | G66: 8 | H66: BARRIO TURERE | I66: 237 | K66: MANTENIMIENTOD DE VIAS NO PAVIMENTADA | L66: 1740 | S66: ='INFORME DIARIO MAQUINARIA'!$R66-'INFORME DIARIO MAQUINARIA'!$Q66 -> 0 | V66: =IF(U66-T66=0,"",U66-T66) | Y66: =IF(X66-W66=0,"",X66-W66) | AB66: ='INFORME DIARIO MAQUINARIA'!$AA66-'INFORME DIARIO MAQUINARIA'!$Z66 -> 0 | AE66: =IF(AD66-AC66=0,"",AD66-AC66) | AH66: =IF(AG66-AF66=0,"",AG66-AF66) | AM66: =IF((AK66+AJ66)-AL66=0,"",(AK66+AJ66)-AL66) | AN66: =IF(OR(AM66="",V66="",V66=0),"",ROUND(AM66/V66,2)) | AO66: =IF(OR(Y66="",AM66="",AM66=0),"",ROUND(Y66/AM66,2)) | AP66: =IF(OR(AM66="",Y66="",Y66=0),"",ROUND(AM66/Y66,2)) | AQ66: =IF(OR(L66="",V66="",V66=0),"",ROUND(L66/V66,1)) | AR66: =IF(OR('INFORME DIARIO MAQUINARIA'!$O66="",'INFORME DIARIO MAQUINARIA'!$AH66="",'INFORME DIARIO MAQUINARIA'!$AH66=0),"",ROUND('INFORME DIARIO MAQUINARIA'!$O66/'INFORME DIARIO MAQUINARIA'!$AH66,1)) | AS66: =IFERROR(IF(OR(V66="",AE66="",V66<=0,AE66<0),"",AE66/V66),"")
B67: 46157 | C67: VIERNES | D67: 1 | E67: MOTONIVELADORA #49 | F67: ELVIS RIVERO | G67: 10 | H67: COMIBOL | I67: 188- A | K67: MANTENIMIENTO DE VIAS NO PAVIMENTADAS | L67: 630 | S67: ='INFORME DIARIO MAQUINARIA'!$R67-'INFORME DIARIO MAQUINARIA'!$Q67 -> 0 | V67: =IF(U67-T67=0,"",U67-T67) | Y67: =IF(X67-W67=0,"",X67-W67) | AB67: ='INFORME DIARIO MAQUINARIA'!$AA67-'INFORME DIARIO MAQUINARIA'!$Z67 -> 0 | AE67: =IF(AD67-AC67=0,"",AD67-AC67) | AH67: =IF(AG67-AF67=0,"",AG67-AF67) | AM67: =IF((AK67+AJ67)-AL67=0,"",(AK67+AJ67)-AL67) | AN67: =IF(OR(AM67="",V67="",V67=0),"",ROUND(AM67/V67,2)) | AO67: =IF(OR(Y67="",AM67="",AM67=0),"",ROUND(Y67/AM67,2)) | AP67: =IF(OR(AM67="",Y67="",Y67=0),"",ROUND(AM67/Y67,2)) | AQ67: =IF(OR(L67="",V67="",V67=0),"",ROUND(L67/V67,1)) | AR67: =IF(OR('INFORME DIARIO MAQUINARIA'!$O67="",'INFORME DIARIO MAQUINARIA'!$AH67="",'INFORME DIARIO MAQUINARIA'!$AH67=0),"",ROUND('INFORME DIARIO MAQUINARIA'!$O67/'INFORME DIARIO MAQUINARIA'!$AH67,1)) | AS67: =IFERROR(IF(OR(V67="",AE67="",V67<=0,AE67<0),"",AE67/V67),"")
B68: 46157 | C68: VIERNES | D68: 1 | E68: MOTONIVELADORA #49 | F68: ELVIS RIVERO | G68: 10 | H68: MAPAIZO | I68: 189-A | K68: MANTENIMIENTO DE CALLES Y VIAS NO PAVIMENTADAS | L68: 450 | S68: ='INFORME DIARIO MAQUINARIA'!$R68-'INFORME DIARIO MAQUINARIA'!$Q68 -> 0 | V68: =IF(U68-T68=0,"",U68-T68) | Y68: =IF(X68-W68=0,"",X68-W68) | AB68: ='INFORME DIARIO MAQUINARIA'!$AA68-'INFORME DIARIO MAQUINARIA'!$Z68 -> 0 | AE68: =IF(AD68-AC68=0,"",AD68-AC68) | AH68: =IF(AG68-AF68=0,"",AG68-AF68) | AM68: =IF((AK68+AJ68)-AL68=0,"",(AK68+AJ68)-AL68) | AN68: =IF(OR(AM68="",V68="",V68=0),"",ROUND(AM68/V68,2)) | AO68: =IF(OR(Y68="",AM68="",AM68=0),"",ROUND(Y68/AM68,2)) | AP68: =IF(OR(AM68="",Y68="",Y68=0),"",ROUND(AM68/Y68,2)) | AQ68: =IF(OR(L68="",V68="",V68=0),"",ROUND(L68/V68,1)) | AR68: =IF(OR('INFORME DIARIO MAQUINARIA'!$O68="",'INFORME DIARIO MAQUINARIA'!$AH68="",'INFORME DIARIO MAQUINARIA'!$AH68=0),"",ROUND('INFORME DIARIO MAQUINARIA'!$O68/'INFORME DIARIO MAQUINARIA'!$AH68,1)) | AS68: =IFERROR(IF(OR(V68="",AE68="",V68<=0,AE68<0),"",AE68/V68),"")
B69: 46157 | C69: VIERNES | D69: 1 | E69: RETROEXCAVADORA #14 | F69: VICTOR LAVERAN | G69: 10 | H69: COMIBOL | I69: 188- A | K69: CARGUIO DE MATERIAL PARA RELLENO | M69: 60 | S69: ='INFORME DIARIO MAQUINARIA'!$R69-'INFORME DIARIO MAQUINARIA'!$Q69 -> 0 | V69: =IF(U69-T69=0,"",U69-T69) | Y69: =IF(X69-W69=0,"",X69-W69) | AB69: ='INFORME DIARIO MAQUINARIA'!$AA69-'INFORME DIARIO MAQUINARIA'!$Z69 -> 0 | AE69: =IF(AD69-AC69=0,"",AD69-AC69) | AH69: =IF(AG69-AF69=0,"",AG69-AF69) | AM69: =IF((AK69+AJ69)-AL69=0,"",(AK69+AJ69)-AL69) | AN69: =IF(OR(AM69="",V69="",V69=0),"",ROUND(AM69/V69,2)) | AO69: =IF(OR(Y69="",AM69="",AM69=0),"",ROUND(Y69/AM69,2)) | AP69: =IF(OR(AM69="",Y69="",Y69=0),"",ROUND(AM69/Y69,2)) | AQ69: =IF(OR(L69="",V69="",V69=0),"",ROUND(L69/V69,1)) | AR69: =IF(OR('INFORME DIARIO MAQUINARIA'!$O69="",'INFORME DIARIO MAQUINARIA'!$AH69="",'INFORME DIARIO MAQUINARIA'!$AH69=0),"",ROUND('INFORME DIARIO MAQUINARIA'!$O69/'INFORME DIARIO MAQUINARIA'!$AH69,1)) | AS69: =IFERROR(IF(OR(V69="",AE69="",V69<=0,AE69<0),"",AE69/V69),"")
B70: 46157 | C70: VIERNES | D70: 1 | E70: RETROEXCAVADORA #14 | F70: VICTOR LAVERAN | G70: 10 | H70: MAPAIZO | I70: 189-A | K70: CARGIO DE MATERIAL PARA RELLENO | M70: 60 | S70: ='INFORME DIARIO MAQUINARIA'!$R70-'INFORME DIARIO MAQUINARIA'!$Q70 -> 0 | V70: =IF(U70-T70=0,"",U70-T70) | Y70: =IF(X70-W70=0,"",X70-W70) | AB70: ='INFORME DIARIO MAQUINARIA'!$AA70-'INFORME DIARIO MAQUINARIA'!$Z70 -> 0 | AE70: =IF(AD70-AC70=0,"",AD70-AC70) | AH70: =IF(AG70-AF70=0,"",AG70-AF70) | AM70: =IF((AK70+AJ70)-AL70=0,"",(AK70+AJ70)-AL70) | AN70: =IF(OR(AM70="",V70="",V70=0),"",ROUND(AM70/V70,2)) | AO70: =IF(OR(Y70="",AM70="",AM70=0),"",ROUND(Y70/AM70,2)) | AP70: =IF(OR(AM70="",Y70="",Y70=0),"",ROUND(AM70/Y70,2)) | AQ70: =IF(OR(L70="",V70="",V70=0),"",ROUND(L70/V70,1)) | AR70: =IF(OR('INFORME DIARIO MAQUINARIA'!$O70="",'INFORME DIARIO MAQUINARIA'!$AH70="",'INFORME DIARIO MAQUINARIA'!$AH70=0),"",ROUND('INFORME DIARIO MAQUINARIA'!$O70/'INFORME DIARIO MAQUINARIA'!$AH70,1)) | AS70: =IFERROR(IF(OR(V70="",AE70="",V70<=0,AE70<0),"",AE70/V70),"")
B71: 46157 | C71: VIERNES | D71: 1 | E71: VOLQUETA 2843 IRU | F71: FELIX RENGEL | G71: 10 | H71: COMIBOL | I71: 188 A | K71: TRANSPORTE DE MATERIAL PARA RELLENO | N71: 5 | O71: 60 | S71: ='INFORME DIARIO MAQUINARIA'!$R71-'INFORME DIARIO MAQUINARIA'!$Q71 -> 0 | V71: =IF(U71-T71=0,"",U71-T71) | Y71: =IF(X71-W71=0,"",X71-W71) | AB71: ='INFORME DIARIO MAQUINARIA'!$AA71-'INFORME DIARIO MAQUINARIA'!$Z71 -> 0 | AE71: =IF(AD71-AC71=0,"",AD71-AC71) | AH71: =IF(AG71-AF71=0,"",AG71-AF71) | AM71: =IF((AK71+AJ71)-AL71=0,"",(AK71+AJ71)-AL71) | AN71: =IF(OR(AM71="",V71="",V71=0),"",ROUND(AM71/V71,2)) | AO71: =IF(OR(Y71="",AM71="",AM71=0),"",ROUND(Y71/AM71,2)) | AP71: =IF(OR(AM71="",Y71="",Y71=0),"",ROUND(AM71/Y71,2)) | AQ71: =IF(OR(L71="",V71="",V71=0),"",ROUND(L71/V71,1)) | AR71: =IF(OR('INFORME DIARIO MAQUINARIA'!$O71="",'INFORME DIARIO MAQUINARIA'!$AH71="",'INFORME DIARIO MAQUINARIA'!$AH71=0),"",ROUND('INFORME DIARIO MAQUINARIA'!$O71/'INFORME DIARIO MAQUINARIA'!$AH71,1)) | AS71: =IFERROR(IF(OR(V71="",AE71="",V71<=0,AE71<0),"",AE71/V71),"")
B72: 46157 | C72: VIERNES | D72: 1 | E72: VOLQUETA 6327 ECU | F72: RAMON DAZA | G72: 10 | H72: MAPAIZO | I72: 189 A | K72: TRANSPORTE DE MATERIAL PARA RELLENO | N72: 5 | O72: 60 | S72: ='INFORME DIARIO MAQUINARIA'!$R72-'INFORME DIARIO MAQUINARIA'!$Q72 -> 0 | V72: =IF(U72-T72=0,"",U72-T72) | Y72: =IF(X72-W72=0,"",X72-W72) | AB72: ='INFORME DIARIO MAQUINARIA'!$AA72-'INFORME DIARIO MAQUINARIA'!$Z72 -> 0 | AE72: =IF(AD72-AC72=0,"",AD72-AC72) | AH72: =IF(AG72-AF72=0,"",AG72-AF72) | AM72: =IF((AK72+AJ72)-AL72=0,"",(AK72+AJ72)-AL72) | AN72: =IF(OR(AM72="",V72="",V72=0),"",ROUND(AM72/V72,2)) | AO72: =IF(OR(Y72="",AM72="",AM72=0),"",ROUND(Y72/AM72,2)) | AP72: =IF(OR(AM72="",Y72="",Y72=0),"",ROUND(AM72/Y72,2)) | AQ72: =IF(OR(L72="",V72="",V72=0),"",ROUND(L72/V72,1)) | AR72: =IF(OR('INFORME DIARIO MAQUINARIA'!$O72="",'INFORME DIARIO MAQUINARIA'!$AH72="",'INFORME DIARIO MAQUINARIA'!$AH72=0),"",ROUND('INFORME DIARIO MAQUINARIA'!$O72/'INFORME DIARIO MAQUINARIA'!$AH72,1)) | AS72: =IFERROR(IF(OR(V72="",AE72="",V72<=0,AE72<0),"",AE72/V72),"")
B73: 46157 | C73: VIERNES | D73: 1 | E73: VOLQUETA 6327 EIT | F73: HERNAN CANDIA | G73: 13 | H73: AMBORO SUR | K73: TRANSPORTE DE MATERIAL PARA RELLENO | N73: 9 | O73: 108 | S73: ='INFORME DIARIO MAQUINARIA'!$R73-'INFORME DIARIO MAQUINARIA'!$Q73 -> 0 | V73: =IF(U73-T73=0,"",U73-T73) | Y73: =IF(X73-W73=0,"",X73-W73) | AB73: ='INFORME DIARIO MAQUINARIA'!$AA73-'INFORME DIARIO MAQUINARIA'!$Z73 -> 0 | AE73: =IF(AD73-AC73=0,"",AD73-AC73) | AH73: =IF(AG73-AF73=0,"",AG73-AF73) | AM73: =IF((AK73+AJ73)-AL73=0,"",(AK73+AJ73)-AL73) | AN73: =IF(OR(AM73="",V73="",V73=0),"",ROUND(AM73/V73,2)) | AO73: =IF(OR(Y73="",AM73="",AM73=0),"",ROUND(Y73/AM73,2)) | AP73: =IF(OR(AM73="",Y73="",Y73=0),"",ROUND(AM73/Y73,2)) | AQ73: =IF(OR(L73="",V73="",V73=0),"",ROUND(L73/V73,1)) | AR73: =IF(OR('INFORME DIARIO MAQUINARIA'!$O73="",'INFORME DIARIO MAQUINARIA'!$AH73="",'INFORME DIARIO MAQUINARIA'!$AH73=0),"",ROUND('INFORME DIARIO MAQUINARIA'!$O73/'INFORME DIARIO MAQUINARIA'!$AH73,1)) | AS73: =IFERROR(IF(OR(V73="",AE73="",V73<=0,AE73<0),"",AE73/V73),"")
B74: 46157 | C74: VIERNES | D74: 1 | E74: RETROEXCAVADORA #33 | F74: ELEODORO ALBA | G74: 13 | H74: ESCUDORO | K74: CARGUIO DE MATERIAL PARA RELLENO | M74: 204 | S74: ='INFORME DIARIO MAQUINARIA'!$R74-'INFORME DIARIO MAQUINARIA'!$Q74 -> 0 | V74: =IF(U74-T74=0,"",U74-T74) | Y74: =IF(X74-W74=0,"",X74-W74) | AB74: ='INFORME DIARIO MAQUINARIA'!$AA74-'INFORME DIARIO MAQUINARIA'!$Z74 -> 0 | AE74: =IF(AD74-AC74=0,"",AD74-AC74) | AH74: =IF(AG74-AF74=0,"",AG74-AF74) | AM74: =IF((AK74+AJ74)-AL74=0,"",(AK74+AJ74)-AL74) | AN74: =IF(OR(AM74="",V74="",V74=0),"",ROUND(AM74/V74,2)) | AO74: =IF(OR(Y74="",AM74="",AM74=0),"",ROUND(Y74/AM74,2)) | AP74: =IF(OR(AM74="",Y74="",Y74=0),"",ROUND(AM74/Y74,2)) | AQ74: =IF(OR(L74="",V74="",V74=0),"",ROUND(L74/V74,1)) | AR74: =IF(OR('INFORME DIARIO MAQUINARIA'!$O74="",'INFORME DIARIO MAQUINARIA'!$AH74="",'INFORME DIARIO MAQUINARIA'!$AH74=0),"",ROUND('INFORME DIARIO MAQUINARIA'!$O74/'INFORME DIARIO MAQUINARIA'!$AH74,1)) | AS74: =IFERROR(IF(OR(V74="",AE74="",V74<=0,AE74<0),"",AE74/V74),"")
B75: 46157 | C75: VIERNES | D75: 1 | E75: MOTONIVELADORA #44 | F75: ROLY OSINAGA | G75: 13 | H75: AMBORO SUR | K75: MANTENIMIENTO DE VIAS NO PAVIMENTADAS | L75: 800 | S75: ='INFORME DIARIO MAQUINARIA'!$R75-'INFORME DIARIO MAQUINARIA'!$Q75 -> 0 | V75: =IF(U75-T75=0,"",U75-T75) | Y75: =IF(X75-W75=0,"",X75-W75) | AB75: ='INFORME DIARIO MAQUINARIA'!$AA75-'INFORME DIARIO MAQUINARIA'!$Z75 -> 0 | AE75: =IF(AD75-AC75=0,"",AD75-AC75) | AH75: =IF(AG75-AF75=0,"",AG75-AF75) | AM75: =IF((AK75+AJ75)-AL75=0,"",(AK75+AJ75)-AL75) | AN75: =IF(OR(AM75="",V75="",V75=0),"",ROUND(AM75/V75,2)) | AO75: =IF(OR(Y75="",AM75="",AM75=0),"",ROUND(Y75/AM75,2)) | AP75: =IF(OR(AM75="",Y75="",Y75=0),"",ROUND(AM75/Y75,2)) | AQ75: =IF(OR(L75="",V75="",V75=0),"",ROUND(L75/V75,1)) | AR75: =IF(OR('INFORME DIARIO MAQUINARIA'!$O75="",'INFORME DIARIO MAQUINARIA'!$AH75="",'INFORME DIARIO MAQUINARIA'!$AH75=0),"",ROUND('INFORME DIARIO MAQUINARIA'!$O75/'INFORME DIARIO MAQUINARIA'!$AH75,1)) | AS75: =IFERROR(IF(OR(V75="",AE75="",V75<=0,AE75<0),"",AE75/V75),"")
B76: 46157 | C76: VIERNES | D76: 1 | E76: MOTONIVELADORA #28 | F76: GABRIEL CABALLERO | G76: 13 | H76: PALMA SUR | I76: 249 | K76: MANTENIMIENTO DE VIAS NO PAVIMENTADAS | L76: 700 | S76: ='INFORME DIARIO MAQUINARIA'!$R76-'INFORME DIARIO MAQUINARIA'!$Q76 -> 0 | V76: =IF(U76-T76=0,"",U76-T76) | Y76: =IF(X76-W76=0,"",X76-W76) | AB76: ='INFORME DIARIO MAQUINARIA'!$AA76-'INFORME DIARIO MAQUINARIA'!$Z76 -> 0 | AE76: =IF(AD76-AC76=0,"",AD76-AC76) | AH76: =IF(AG76-AF76=0,"",AG76-AF76) | AM76: =IF((AK76+AJ76)-AL76=0,"",(AK76+AJ76)-AL76) | AN76: =IF(OR(AM76="",V76="",V76=0),"",ROUND(AM76/V76,2)) | AO76: =IF(OR(Y76="",AM76="",AM76=0),"",ROUND(Y76/AM76,2)) | AP76: =IF(OR(AM76="",Y76="",Y76=0),"",ROUND(AM76/Y76,2)) | AQ76: =IF(OR(L76="",V76="",V76=0),"",ROUND(L76/V76,1)) | AR76: =IF(OR('INFORME DIARIO MAQUINARIA'!$O76="",'INFORME DIARIO MAQUINARIA'!$AH76="",'INFORME DIARIO MAQUINARIA'!$AH76=0),"",ROUND('INFORME DIARIO MAQUINARIA'!$O76/'INFORME DIARIO MAQUINARIA'!$AH76,1)) | AS76: =IFERROR(IF(OR(V76="",AE76="",V76<=0,AE76<0),"",AE76/V76),"")
B77: 46157 | C77: VIERNES | D77: 1 | E77: VOLQUETA 6327 EFG | F77: FERNANDO OLLER | G77: 13 | H77: AMBORO SUR | K77: TRANSPORTE DE MATERIAL DE RELLENO | N77: 8 | O77: 96 | S77: ='INFORME DIARIO MAQUINARIA'!$R77-'INFORME DIARIO MAQUINARIA'!$Q77 -> 0 | V77: =IF(U77-T77=0,"",U77-T77) | Y77: =IF(X77-W77=0,"",X77-W77) | AB77: ='INFORME DIARIO MAQUINARIA'!$AA77-'INFORME DIARIO MAQUINARIA'!$Z77 -> 0 | AE77: =IF(AD77-AC77=0,"",AD77-AC77) | AH77: =IF(AG77-AF77=0,"",AG77-AF77) | AM77: =IF((AK77+AJ77)-AL77=0,"",(AK77+AJ77)-AL77) | AN77: =IF(OR(AM77="",V77="",V77=0),"",ROUND(AM77/V77,2)) | AO77: =IF(OR(Y77="",AM77="",AM77=0),"",ROUND(Y77/AM77,2)) | AP77: =IF(OR(AM77="",Y77="",Y77=0),"",ROUND(AM77/Y77,2)) | AQ77: =IF(OR(L77="",V77="",V77=0),"",ROUND(L77/V77,1)) | AR77: =IF(OR('INFORME DIARIO MAQUINARIA'!$O77="",'INFORME DIARIO MAQUINARIA'!$AH77="",'INFORME DIARIO MAQUINARIA'!$AH77=0),"",ROUND('INFORME DIARIO MAQUINARIA'!$O77/'INFORME DIARIO MAQUINARIA'!$AH77,1)) | AS77: =IFERROR(IF(OR(V77="",AE77="",V77<=0,AE77<0),"",AE77/V77),"")
B78: 46158 | C78: SABADO | D78: 1 | E78: VOLQUETA 6327 EGK | F78: GOEL ROSSEL | G78: 8 | H78: BARRIO LA CAMPIÑA | I78: 165 A | K78: TRANSPORTE DE MATERIAL DE RELLENO | N78: 12 | O78: 144 | S78: ='INFORME DIARIO MAQUINARIA'!$R78-'INFORME DIARIO MAQUINARIA'!$Q78 -> 0 | V78: =IF(U78-T78=0,"",U78-T78) | Y78: =IF(X78-W78=0,"",X78-W78) | AB78: ='INFORME DIARIO MAQUINARIA'!$AA78-'INFORME DIARIO MAQUINARIA'!$Z78 -> 0 | AE78: =IF(AD78-AC78=0,"",AD78-AC78) | AH78: =IF(AG78-AF78=0,"",AG78-AF78) | AM78: =IF((AK78+AJ78)-AL78=0,"",(AK78+AJ78)-AL78) | AN78: =IF(OR(AM78="",V78="",V78=0),"",ROUND(AM78/V78,2)) | AO78: =IF(OR(Y78="",AM78="",AM78=0),"",ROUND(Y78/AM78,2)) | AP78: =IF(OR(AM78="",Y78="",Y78=0),"",ROUND(AM78/Y78,2)) | AQ78: =IF(OR(L78="",V78="",V78=0),"",ROUND(L78/V78,1)) | AR78: =IF(OR('INFORME DIARIO MAQUINARIA'!$O78="",'INFORME DIARIO MAQUINARIA'!$AH78="",'INFORME DIARIO MAQUINARIA'!$AH78=0),"",ROUND('INFORME DIARIO MAQUINARIA'!$O78/'INFORME DIARIO MAQUINARIA'!$AH78,1)) | AS78: =IFERROR(IF(OR(V78="",AE78="",V78<=0,AE78<0),"",AE78/V78),"")
B79: 46158 | C79: SABADO | D79: 1 | E79: VOLQUETA 6327 EHP | F79: WILDER NOGALES | G79: 8 | H79: BARRIO LA CAMPIÑA | I79: 165 A | K79: TRANSPORTE DE MATERIAL DE RELLENO EXCEDENTE | N79: 12 | O79: 144 | S79: ='INFORME DIARIO MAQUINARIA'!$R79-'INFORME DIARIO MAQUINARIA'!$Q79 -> 0 | V79: =IF(U79-T79=0,"",U79-T79) | Y79: =IF(X79-W79=0,"",X79-W79) | AB79: ='INFORME DIARIO MAQUINARIA'!$AA79-'INFORME DIARIO MAQUINARIA'!$Z79 -> 0 | AE79: =IF(AD79-AC79=0,"",AD79-AC79) | AH79: =IF(AG79-AF79=0,"",AG79-AF79) | AM79: =IF((AK79+AJ79)-AL79=0,"",(AK79+AJ79)-AL79) | AN79: =IF(OR(AM79="",V79="",V79=0),"",ROUND(AM79/V79,2)) | AO79: =IF(OR(Y79="",AM79="",AM79=0),"",ROUND(Y79/AM79,2)) | AP79: =IF(OR(AM79="",Y79="",Y79=0),"",ROUND(AM79/Y79,2)) | AQ79: =IF(OR(L79="",V79="",V79=0),"",ROUND(L79/V79,1)) | AR79: =IF(OR('INFORME DIARIO MAQUINARIA'!$O79="",'INFORME DIARIO MAQUINARIA'!$AH79="",'INFORME DIARIO MAQUINARIA'!$AH79=0),"",ROUND('INFORME DIARIO MAQUINARIA'!$O79/'INFORME DIARIO MAQUINARIA'!$AH79,1)) | AS79: =IFERROR(IF(OR(V79="",AE79="",V79<=0,AE79<0),"",AE79/V79),"")
B80: 46158 | C80: SÁBADO | D80: 1 | E80: RETROEXCAVADORA #17 | F80: ROLANDO RIOJA | G80: 8 | H80: BARRIO LA CAMPIÑA | I80: 165 A | K80: CARGUIO DE MATERIAL DE RELLENO EXCEDENTE | M80: 288 | S80: ='INFORME DIARIO MAQUINARIA'!$R80-'INFORME DIARIO MAQUINARIA'!$Q80 -> 0 | V80: =IF(U80-T80=0,"",U80-T80) | Y80: =IF(X80-W80=0,"",X80-W80) | AB80: ='INFORME DIARIO MAQUINARIA'!$AA80-'INFORME DIARIO MAQUINARIA'!$Z80 -> 0 | AE80: =IF(AD80-AC80=0,"",AD80-AC80) | AH80: =IF(AG80-AF80=0,"",AG80-AF80) | AM80: =IF((AK80+AJ80)-AL80=0,"",(AK80+AJ80)-AL80) | AN80: =IF(OR(AM80="",V80="",V80=0),"",ROUND(AM80/V80,2)) | AO80: =IF(OR(Y80="",AM80="",AM80=0),"",ROUND(Y80/AM80,2)) | AP80: =IF(OR(AM80="",Y80="",Y80=0),"",ROUND(AM80/Y80,2)) | AQ80: =IF(OR(L80="",V80="",V80=0),"",ROUND(L80/V80,1)) | AR80: =IF(OR('INFORME DIARIO MAQUINARIA'!$O80="",'INFORME DIARIO MAQUINARIA'!$AH80="",'INFORME DIARIO MAQUINARIA'!$AH80=0),"",ROUND('INFORME DIARIO MAQUINARIA'!$O80/'INFORME DIARIO MAQUINARIA'!$AH80,1)) | AS80: =IFERROR(IF(OR(V80="",AE80="",V80<=0,AE80<0),"",AE80/V80),"")
B81: 46158 | C81: SÁBADO | D81: 1 | E81: MOTONIVELADORA #47 | F81: RUBEN SUAREZ | G81: 10 | H81: BEREA | I81: 138 | K81: MANTENIMIENTO DE CALLES Y VIAS NO PAVIMENTADAS | L81: 739 | S81: ='INFORME DIARIO MAQUINARIA'!$R81-'INFORME DIARIO MAQUINARIA'!$Q81 -> 0 | V81: =IF(U81-T81=0,"",U81-T81) | Y81: =IF(X81-W81=0,"",X81-W81) | AB81: ='INFORME DIARIO MAQUINARIA'!$AA81-'INFORME DIARIO MAQUINARIA'!$Z81 -> 0 | AE81: =IF(AD81-AC81=0,"",AD81-AC81) | AH81: =IF(AG81-AF81=0,"",AG81-AF81) | AM81: =IF((AK81+AJ81)-AL81=0,"",(AK81+AJ81)-AL81) | AN81: =IF(OR(AM81="",V81="",V81=0),"",ROUND(AM81/V81,2)) | AO81: =IF(OR(Y81="",AM81="",AM81=0),"",ROUND(Y81/AM81,2)) | AP81: =IF(OR(AM81="",Y81="",Y81=0),"",ROUND(AM81/Y81,2)) | AQ81: =IF(OR(L81="",V81="",V81=0),"",ROUND(L81/V81,1)) | AR81: =IF(OR('INFORME DIARIO MAQUINARIA'!$O81="",'INFORME DIARIO MAQUINARIA'!$AH81="",'INFORME DIARIO MAQUINARIA'!$AH81=0),"",ROUND('INFORME DIARIO MAQUINARIA'!$O81/'INFORME DIARIO MAQUINARIA'!$AH81,1)) | AS81: =IFERROR(IF(OR(V81="",AE81="",V81<=0,AE81<0),"",AE81/V81),"")
B82: 46160 | C82: LUNES | D82: 1 | E82: RETROEXCAVADORA #14 | F82: ELEODORO ALBA | G82: 10 | H82: CANAL REVESTIDO ZONA NUEVO ABASTO MAYORISTA | K82: APOYO LIMPIEZA CON CARGUIO DE MATERIAL DE SEDIMENTOS | S82: ='INFORME DIARIO MAQUINARIA'!$R82-'INFORME DIARIO MAQUINARIA'!$Q82 -> 0 | V82: =IF(U82-T82=0,"",U82-T82) | Y82: =IF(X82-W82=0,"",X82-W82) | AB82: ='INFORME DIARIO MAQUINARIA'!$AA82-'INFORME DIARIO MAQUINARIA'!$Z82 -> 0 | AE82: =IF(AD82-AC82=0,"",AD82-AC82) | AH82: =IF(AG82-AF82=0,"",AG82-AF82) | AM82: =IF((AK82+AJ82)-AL82=0,"",(AK82+AJ82)-AL82) | AN82: =IF(OR(AM82="",V82="",V82=0),"",ROUND(AM82/V82,2)) | AO82: =IF(OR(Y82="",AM82="",AM82=0),"",ROUND(Y82/AM82,2)) | AP82: =IF(OR(AM82="",Y82="",Y82=0),"",ROUND(AM82/Y82,2)) | AQ82: =IF(OR(L82="",V82="",V82=0),"",ROUND(L82/V82,1)) | AR82: =IF(OR('INFORME DIARIO MAQUINARIA'!$O82="",'INFORME DIARIO MAQUINARIA'!$AH82="",'INFORME DIARIO MAQUINARIA'!$AH82=0),"",ROUND('INFORME DIARIO MAQUINARIA'!$O82/'INFORME DIARIO MAQUINARIA'!$AH82,1)) | AS82: =IFERROR(IF(OR(V82="",AE82="",V82<=0,AE82<0),"",AE82/V82),"")
B83: 46160 | C83: LUNES | D83: 1 | E83: MINICARGADOR #8 | F83: PABLO ARIAS | G83: 10 | H83: CANAL REVESTIDO ZONA NUEVO ABASTO MAYORISTA | K83: APOYO LIMPIEZA DE CANAL REVESTIDO | S83: ='INFORME DIARIO MAQUINARIA'!$R83-'INFORME DIARIO MAQUINARIA'!$Q83 -> 0 | V83: =IF(U83-T83=0,"",U83-T83) | Y83: =IF(X83-W83=0,"",X83-W83) | AB83: ='INFORME DIARIO MAQUINARIA'!$AA83-'INFORME DIARIO MAQUINARIA'!$Z83 -> 0 | AE83: =IF(AD83-AC83=0,"",AD83-AC83) | AH83: =IF(AG83-AF83=0,"",AG83-AF83) | AM83: =IF((AK83+AJ83)-AL83=0,"",(AK83+AJ83)-AL83) | AN83: =IF(OR(AM83="",V83="",V83=0),"",ROUND(AM83/V83,2)) | AO83: =IF(OR(Y83="",AM83="",AM83=0),"",ROUND(Y83/AM83,2)) | AP83: =IF(OR(AM83="",Y83="",Y83=0),"",ROUND(AM83/Y83,2)) | AQ83: =IF(OR(L83="",V83="",V83=0),"",ROUND(L83/V83,1)) | AR83: =IF(OR('INFORME DIARIO MAQUINARIA'!$O83="",'INFORME DIARIO MAQUINARIA'!$AH83="",'INFORME DIARIO MAQUINARIA'!$AH83=0),"",ROUND('INFORME DIARIO MAQUINARIA'!$O83/'INFORME DIARIO MAQUINARIA'!$AH83,1)) | AS83: =IFERROR(IF(OR(V83="",AE83="",V83<=0,AE83<0),"",AE83/V83),"")
B84: 46160 | C84: LUNES | D84: 1 | E84: VOLQUETA 2254 ILF | F84: CARLOS SUAREZ | G84: 10 | H84: CANAL REVESTIDO ZONA NUEVO ABASTO MAYORISTA | K84: APOYO TRANSPORTE DE MATERIAL CON SEDIMENTOS | S84: ='INFORME DIARIO MAQUINARIA'!$R84-'INFORME DIARIO MAQUINARIA'!$Q84 -> 0 | V84: =IF(U84-T84=0,"",U84-T84) | Y84: =IF(X84-W84=0,"",X84-W84) | AB84: ='INFORME DIARIO MAQUINARIA'!$AA84-'INFORME DIARIO MAQUINARIA'!$Z84 -> 0 | AE84: =IF(AD84-AC84=0,"",AD84-AC84) | AH84: =IF(AG84-AF84=0,"",AG84-AF84) | AM84: =IF((AK84+AJ84)-AL84=0,"",(AK84+AJ84)-AL84) | AN84: =IF(OR(AM84="",V84="",V84=0),"",ROUND(AM84/V84,2)) | AO84: =IF(OR(Y84="",AM84="",AM84=0),"",ROUND(Y84/AM84,2)) | AP84: =IF(OR(AM84="",Y84="",Y84=0),"",ROUND(AM84/Y84,2)) | AQ84: =IF(OR(L84="",V84="",V84=0),"",ROUND(L84/V84,1)) | AR84: =IF(OR('INFORME DIARIO MAQUINARIA'!$O84="",'INFORME DIARIO MAQUINARIA'!$AH84="",'INFORME DIARIO MAQUINARIA'!$AH84=0),"",ROUND('INFORME DIARIO MAQUINARIA'!$O84/'INFORME DIARIO MAQUINARIA'!$AH84,1)) | AS84: =IFERROR(IF(OR(V84="",AE84="",V84<=0,AE84<0),"",AE84/V84),"")
B85: 46160 | C85: LUNES | D85: 1 | E85: EXCAVADORA DOOSAN | F85: IVER FLORES | G85: 10 | H85: CANAL REVESTIDO ZONA NUEVO ABASTO MAYORISTA | K85: APOYO LIMPIEZA CON CARGUIO DE CANAL REVESTIDOS | S85: ='INFORME DIARIO MAQUINARIA'!$R85-'INFORME DIARIO MAQUINARIA'!$Q85 -> 0 | V85: =IF(U85-T85=0,"",U85-T85) | Y85: =IF(X85-W85=0,"",X85-W85) | AB85: ='INFORME DIARIO MAQUINARIA'!$AA85-'INFORME DIARIO MAQUINARIA'!$Z85 -> 0 | AE85: =IF(AD85-AC85=0,"",AD85-AC85) | AH85: =IF(AG85-AF85=0,"",AG85-AF85) | AM85: =IF((AK85+AJ85)-AL85=0,"",(AK85+AJ85)-AL85) | AN85: =IF(OR(AM85="",V85="",V85=0),"",ROUND(AM85/V85,2)) | AO85: =IF(OR(Y85="",AM85="",AM85=0),"",ROUND(Y85/AM85,2)) | AP85: =IF(OR(AM85="",Y85="",Y85=0),"",ROUND(AM85/Y85,2)) | AQ85: =IF(OR(L85="",V85="",V85=0),"",ROUND(L85/V85,1)) | AR85: =IF(OR('INFORME DIARIO MAQUINARIA'!$O85="",'INFORME DIARIO MAQUINARIA'!$AH85="",'INFORME DIARIO MAQUINARIA'!$AH85=0),"",ROUND('INFORME DIARIO MAQUINARIA'!$O85/'INFORME DIARIO MAQUINARIA'!$AH85,1)) | AS85: =IFERROR(IF(OR(V85="",AE85="",V85<=0,AE85<0),"",AE85/V85),"")
B86: 46160 | C86: LUNES | D86: 1 | E86: VOLQUETA 2135 PKN | F86: HERNAN BEJARANO | G86: 10 | H86: CANAL REVESTIDO ZONA NUEVO ABASTO MAYORISTA | K86: APOYO TRANSPORTE DE MATERIAL CON SEDIMENTOS | S86: ='INFORME DIARIO MAQUINARIA'!$R86-'INFORME DIARIO MAQUINARIA'!$Q86 -> 0 | V86: =IF(U86-T86=0,"",U86-T86) | Y86: =IF(X86-W86=0,"",X86-W86) | AB86: ='INFORME DIARIO MAQUINARIA'!$AA86-'INFORME DIARIO MAQUINARIA'!$Z86 -> 0 | AE86: =IF(AD86-AC86=0,"",AD86-AC86) | AH86: =IF(AG86-AF86=0,"",AG86-AF86) | AM86: =IF((AK86+AJ86)-AL86=0,"",(AK86+AJ86)-AL86) | AN86: =IF(OR(AM86="",V86="",V86=0),"",ROUND(AM86/V86,2)) | AO86: =IF(OR(Y86="",AM86="",AM86=0),"",ROUND(Y86/AM86,2)) | AP86: =IF(OR(AM86="",Y86="",Y86=0),"",ROUND(AM86/Y86,2)) | AQ86: =IF(OR(L86="",V86="",V86=0),"",ROUND(L86/V86,1)) | AR86: =IF(OR('INFORME DIARIO MAQUINARIA'!$O86="",'INFORME DIARIO MAQUINARIA'!$AH86="",'INFORME DIARIO MAQUINARIA'!$AH86=0),"",ROUND('INFORME DIARIO MAQUINARIA'!$O86/'INFORME DIARIO MAQUINARIA'!$AH86,1)) | AS86: =IFERROR(IF(OR(V86="",AE86="",V86<=0,AE86<0),"",AE86/V86),"")
B87: 46161 | C87: MARTES | D87: 1 | E87: EXCAVADORA DOOSAN | F87: IVER FLORES | G87: 10 | H87: CANAL REVESTIDO ZONA NUEVO ABASTO MAYORISTA | K87: APOYO EN CANAL REVESTIDO CON MANTENIMIENTO Y LIMPIEZA CON CARGUIO DE MATERIAL EXCEDENTE | S87: ='INFORME DIARIO MAQUINARIA'!$R87-'INFORME DIARIO MAQUINARIA'!$Q87 -> 0 | V87: =IF(U87-T87=0,"",U87-T87) | Y87: =IF(X87-W87=0,"",X87-W87) | AB87: ='INFORME DIARIO MAQUINARIA'!$AA87-'INFORME DIARIO MAQUINARIA'!$Z87 -> 0 | AE87: =IF(AD87-AC87=0,"",AD87-AC87) | AH87: =IF(AG87-AF87=0,"",AG87-AF87) | AM87: =IF((AK87+AJ87)-AL87=0,"",(AK87+AJ87)-AL87) | AN87: =IF(OR(AM87="",V87="",V87=0),"",ROUND(AM87/V87,2)) | AO87: =IF(OR(Y87="",AM87="",AM87=0),"",ROUND(Y87/AM87,2)) | AP87: =IF(OR(AM87="",Y87="",Y87=0),"",ROUND(AM87/Y87,2)) | AQ87: =IF(OR(L87="",V87="",V87=0),"",ROUND(L87/V87,1)) | AR87: =IF(OR('INFORME DIARIO MAQUINARIA'!$O87="",'INFORME DIARIO MAQUINARIA'!$AH87="",'INFORME DIARIO MAQUINARIA'!$AH87=0),"",ROUND('INFORME DIARIO MAQUINARIA'!$O87/'INFORME DIARIO MAQUINARIA'!$AH87,1)) | AS87: =IFERROR(IF(OR(V87="",AE87="",V87<=0,AE87<0),"",AE87/V87),"")
B88: 46161 | C88: MARTES | D88: 1 | E88: VOLQUETA 6327 EGK | F88: GOEL ROSSEL | G88: 10 | H88: CANAL REVESTIDO ZONA NUEVO ABASTO MAYORISTA | K88: APOYO TRANSPORTE DE MATERIAL EXCEDENTE | S88: ='INFORME DIARIO MAQUINARIA'!$R88-'INFORME DIARIO MAQUINARIA'!$Q88 -> 0 | V88: =IF(U88-T88=0,"",U88-T88) | Y88: =IF(X88-W88=0,"",X88-W88) | AB88: ='INFORME DIARIO MAQUINARIA'!$AA88-'INFORME DIARIO MAQUINARIA'!$Z88 -> 0 | AE88: =IF(AD88-AC88=0,"",AD88-AC88) | AH88: =IF(AG88-AF88=0,"",AG88-AF88) | AM88: =IF((AK88+AJ88)-AL88=0,"",(AK88+AJ88)-AL88) | AN88: =IF(OR(AM88="",V88="",V88=0),"",ROUND(AM88/V88,2)) | AO88: =IF(OR(Y88="",AM88="",AM88=0),"",ROUND(Y88/AM88,2)) | AP88: =IF(OR(AM88="",Y88="",Y88=0),"",ROUND(AM88/Y88,2)) | AQ88: =IF(OR(L88="",V88="",V88=0),"",ROUND(L88/V88,1)) | AR88: =IF(OR('INFORME DIARIO MAQUINARIA'!$O88="",'INFORME DIARIO MAQUINARIA'!$AH88="",'INFORME DIARIO MAQUINARIA'!$AH88=0),"",ROUND('INFORME DIARIO MAQUINARIA'!$O88/'INFORME DIARIO MAQUINARIA'!$AH88,1)) | AS88: =IFERROR(IF(OR(V88="",AE88="",V88<=0,AE88<0),"",AE88/V88),"")
B89: 46161 | C89: MARTES | D89: 1 | E89: VOLQUETA 6327 EHP | F89: WILDER NOGALES | G89: 10 | H89: CANAL REVESTIDO ZONA NUEVO ABASTO MAYORISTA | K89: APOYO TRASPORTE DE MATERIAL EXCEDENTE | S89: ='INFORME DIARIO MAQUINARIA'!$R89-'INFORME DIARIO MAQUINARIA'!$Q89 -> 0 | V89: =IF(U89-T89=0,"",U89-T89) | Y89: =IF(X89-W89=0,"",X89-W89) | AB89: ='INFORME DIARIO MAQUINARIA'!$AA89-'INFORME DIARIO MAQUINARIA'!$Z89 -> 0 | AE89: =IF(AD89-AC89=0,"",AD89-AC89) | AH89: =IF(AG89-AF89=0,"",AG89-AF89) | AM89: =IF((AK89+AJ89)-AL89=0,"",(AK89+AJ89)-AL89) | AN89: =IF(OR(AM89="",V89="",V89=0),"",ROUND(AM89/V89,2)) | AO89: =IF(OR(Y89="",AM89="",AM89=0),"",ROUND(Y89/AM89,2)) | AP89: =IF(OR(AM89="",Y89="",Y89=0),"",ROUND(AM89/Y89,2)) | AQ89: =IF(OR(L89="",V89="",V89=0),"",ROUND(L89/V89,1)) | AR89: =IF(OR('INFORME DIARIO MAQUINARIA'!$O89="",'INFORME DIARIO MAQUINARIA'!$AH89="",'INFORME DIARIO MAQUINARIA'!$AH89=0),"",ROUND('INFORME DIARIO MAQUINARIA'!$O89/'INFORME DIARIO MAQUINARIA'!$AH89,1)) | AS89: =IFERROR(IF(OR(V89="",AE89="",V89<=0,AE89<0),"",AE89/V89),"")
B90: 46161 | C90: MARTES | D90: 1 | E90: VOLQUETA 2800 SPA | F90: JOSE LUIS CABA | G90: 10 | H90: CANAL REVESTIDO ZONA NUEVO ABASTO MAYORISTA | K90: APOYO TRANSPORTE DE MATERIAL EXCEDENTE | S90: ='INFORME DIARIO MAQUINARIA'!$R90-'INFORME DIARIO MAQUINARIA'!$Q90 -> 0 | V90: =IF(U90-T90=0,"",U90-T90) | Y90: =IF(X90-W90=0,"",X90-W90) | AB90: ='INFORME DIARIO MAQUINARIA'!$AA90-'INFORME DIARIO MAQUINARIA'!$Z90 -> 0 | AE90: =IF(AD90-AC90=0,"",AD90-AC90) | AH90: =IF(AG90-AF90=0,"",AG90-AF90) | AM90: =IF((AK90+AJ90)-AL90=0,"",(AK90+AJ90)-AL90) | AN90: =IF(OR(AM90="",V90="",V90=0),"",ROUND(AM90/V90,2)) | AO90: =IF(OR(Y90="",AM90="",AM90=0),"",ROUND(Y90/AM90,2)) | AP90: =IF(OR(AM90="",Y90="",Y90=0),"",ROUND(AM90/Y90,2)) | AQ90: =IF(OR(L90="",V90="",V90=0),"",ROUND(L90/V90,1)) | AR90: =IF(OR('INFORME DIARIO MAQUINARIA'!$O90="",'INFORME DIARIO MAQUINARIA'!$AH90="",'INFORME DIARIO MAQUINARIA'!$AH90=0),"",ROUND('INFORME DIARIO MAQUINARIA'!$O90/'INFORME DIARIO MAQUINARIA'!$AH90,1)) | AS90: =IFERROR(IF(OR(V90="",AE90="",V90<=0,AE90<0),"",AE90/V90),"")
B91: 46162 | C91: MIERCOLES | D91: 1 | E91: MOTONIVELADORA #13 | F91: LEONARDO MORENO | G91: 6 | H91: CAMPO GRANDE I | I91: 427 | K91: MANTENIMIENTO DE VIAS NO PAVIMENTADAS (PERFILADO Y NIVELACION) | L91: 1200 | S91: ='INFORME DIARIO MAQUINARIA'!$R91-'INFORME DIARIO MAQUINARIA'!$Q91 -> 0 | V91: =IF(U91-T91=0,"",U91-T91) | Y91: =IF(X91-W91=0,"",X91-W91) | AB91: ='INFORME DIARIO MAQUINARIA'!$AA91-'INFORME DIARIO MAQUINARIA'!$Z91 -> 0 | AE91: =IF(AD91-AC91=0,"",AD91-AC91) | AH91: =IF(AG91-AF91=0,"",AG91-AF91) | AM91: =IF((AK91+AJ91)-AL91=0,"",(AK91+AJ91)-AL91) | AN91: =IF(OR(AM91="",V91="",V91=0),"",ROUND(AM91/V91,2)) | AO91: =IF(OR(Y91="",AM91="",AM91=0),"",ROUND(Y91/AM91,2)) | AP91: =IF(OR(AM91="",Y91="",Y91=0),"",ROUND(AM91/Y91,2)) | AQ91: =IF(OR(L91="",V91="",V91=0),"",ROUND(L91/V91,1)) | AR91: =IF(OR('INFORME DIARIO MAQUINARIA'!$O91="",'INFORME DIARIO MAQUINARIA'!$AH91="",'INFORME DIARIO MAQUINARIA'!$AH91=0),"",ROUND('INFORME DIARIO MAQUINARIA'!$O91/'INFORME DIARIO MAQUINARIA'!$AH91,1)) | AS91: =IFERROR(IF(OR(V91="",AE91="",V91<=0,AE91<0),"",AE91/V91),"")
B92: 46162 | C92: MIERCOLES | D92: 1 | E92: RETROEXCAVADORA #16 | F92: JUAN CARLOS ROCA | G92: 6 | H92: CAMPO GRANDE I CEMENTERIO LOS CUSIS | I92: 427 | K92: CARGUIO DE MATERIAL DE RELLENO Y EXCAVACION DE FOSAS | M92: 72 | S92: ='INFORME DIARIO MAQUINARIA'!$R92-'INFORME DIARIO MAQUINARIA'!$Q92 -> 0 | V92: =IF(U92-T92=0,"",U92-T92) | Y92: =IF(X92-W92=0,"",X92-W92) | AB92: ='INFORME DIARIO MAQUINARIA'!$AA92-'INFORME DIARIO MAQUINARIA'!$Z92 -> 0 | AE92: =IF(AD92-AC92=0,"",AD92-AC92) | AH92: =IF(AG92-AF92=0,"",AG92-AF92) | AM92: =IF((AK92+AJ92)-AL92=0,"",(AK92+AJ92)-AL92) | AN92: =IF(OR(AM92="",V92="",V92=0),"",ROUND(AM92/V92,2)) | AO92: =IF(OR(Y92="",AM92="",AM92=0),"",ROUND(Y92/AM92,2)) | AP92: =IF(OR(AM92="",Y92="",Y92=0),"",ROUND(AM92/Y92,2)) | AQ92: =IF(OR(L92="",V92="",V92=0),"",ROUND(L92/V92,1)) | AR92: =IF(OR('INFORME DIARIO MAQUINARIA'!$O92="",'INFORME DIARIO MAQUINARIA'!$AH92="",'INFORME DIARIO MAQUINARIA'!$AH92=0),"",ROUND('INFORME DIARIO MAQUINARIA'!$O92/'INFORME DIARIO MAQUINARIA'!$AH92,1)) | AS92: =IFERROR(IF(OR(V92="",AE92="",V92<=0,AE92<0),"",AE92/V92),"")
B93: 46162 | C93: MIÉRCOLES | D93: 1 | E93: VOLQUETA 6327 EFG | F93: FERNANDO OLLER | G93: 6 | H93: CAMPO GRANDE I CEMENTERIO LOS CUSIS | I93: 427 | K93: TRANSPORTE DE MATERIAL DE RELLENO | N93: 3 | O93: 36 | S93: ='INFORME DIARIO MAQUINARIA'!$R93-'INFORME DIARIO MAQUINARIA'!$Q93 -> 0 | V93: =IF(U93-T93=0,"",U93-T93) | Y93: =IF(X93-W93=0,"",X93-W93) | AB93: ='INFORME DIARIO MAQUINARIA'!$AA93-'INFORME DIARIO MAQUINARIA'!$Z93 -> 0 | AE93: =IF(AD93-AC93=0,"",AD93-AC93) | AH93: =IF(AG93-AF93=0,"",AG93-AF93) | AM93: =IF((AK93+AJ93)-AL93=0,"",(AK93+AJ93)-AL93) | AN93: =IF(OR(AM93="",V93="",V93=0),"",ROUND(AM93/V93,2)) | AO93: =IF(OR(Y93="",AM93="",AM93=0),"",ROUND(Y93/AM93,2)) | AP93: =IF(OR(AM93="",Y93="",Y93=0),"",ROUND(AM93/Y93,2)) | AQ93: =IF(OR(L93="",V93="",V93=0),"",ROUND(L93/V93,1)) | AR93: =IF(OR('INFORME DIARIO MAQUINARIA'!$O93="",'INFORME DIARIO MAQUINARIA'!$AH93="",'INFORME DIARIO MAQUINARIA'!$AH93=0),"",ROUND('INFORME DIARIO MAQUINARIA'!$O93/'INFORME DIARIO MAQUINARIA'!$AH93,1)) | AS93: =IFERROR(IF(OR(V93="",AE93="",V93<=0,AE93<0),"",AE93/V93),"")
B94: 46162 | C94: MIÉRCOLES | D94: 1 | E94: VOLQUETA 6327 ECU | F94: RAMON DAZA | G94: 6 | H94: CAMPO GRANDE I CEMENTERIO LOS CUSIS | I94: 427 | K94: TRANSPORTE DE MATERIAL DE RELLENO | N94: 3 | O94: 36 | S94: ='INFORME DIARIO MAQUINARIA'!$R94-'INFORME DIARIO MAQUINARIA'!$Q94 -> 0 | V94: =IF(U94-T94=0,"",U94-T94) | Y94: =IF(X94-W94=0,"",X94-W94) | AB94: ='INFORME DIARIO MAQUINARIA'!$AA94-'INFORME DIARIO MAQUINARIA'!$Z94 -> 0 | AE94: =IF(AD94-AC94=0,"",AD94-AC94) | AH94: =IF(AG94-AF94=0,"",AG94-AF94) | AM94: =IF((AK94+AJ94)-AL94=0,"",(AK94+AJ94)-AL94) | AN94: =IF(OR(AM94="",V94="",V94=0),"",ROUND(AM94/V94,2)) | AO94: =IF(OR(Y94="",AM94="",AM94=0),"",ROUND(Y94/AM94,2)) | AP94: =IF(OR(AM94="",Y94="",Y94=0),"",ROUND(AM94/Y94,2)) | AQ94: =IF(OR(L94="",V94="",V94=0),"",ROUND(L94/V94,1)) | AR94: =IF(OR('INFORME DIARIO MAQUINARIA'!$O94="",'INFORME DIARIO MAQUINARIA'!$AH94="",'INFORME DIARIO MAQUINARIA'!$AH94=0),"",ROUND('INFORME DIARIO MAQUINARIA'!$O94/'INFORME DIARIO MAQUINARIA'!$AH94,1)) | AS94: =IFERROR(IF(OR(V94="",AE94="",V94<=0,AE94<0),"",AE94/V94),"")
B95: 46162 | C95: MIÉRCOLES | D95: 1 | E95: VOLQUETA 6327 EBR | F95: EMILIANO VARGAS | G95: 10 | H95: TIERRAS NUEVAS EL CARMEN | I95: 135 | K95: TRANSPORTE DE MATERIAL DE RELLENO | N95: 4 | O95: 48 | S95: ='INFORME DIARIO MAQUINARIA'!$R95-'INFORME DIARIO MAQUINARIA'!$Q95 -> 0 | V95: =IF(U95-T95=0,"",U95-T95) | Y95: =IF(X95-W95=0,"",X95-W95) | AB95: ='INFORME DIARIO MAQUINARIA'!$AA95-'INFORME DIARIO MAQUINARIA'!$Z95 -> 0 | AE95: =IF(AD95-AC95=0,"",AD95-AC95) | AH95: =IF(AG95-AF95=0,"",AG95-AF95) | AM95: =IF((AK95+AJ95)-AL95=0,"",(AK95+AJ95)-AL95) | AN95: =IF(OR(AM95="",V95="",V95=0),"",ROUND(AM95/V95,2)) | AO95: =IF(OR(Y95="",AM95="",AM95=0),"",ROUND(Y95/AM95,2)) | AP95: =IF(OR(AM95="",Y95="",Y95=0),"",ROUND(AM95/Y95,2)) | AQ95: =IF(OR(L95="",V95="",V95=0),"",ROUND(L95/V95,1)) | AR95: =IF(OR('INFORME DIARIO MAQUINARIA'!$O95="",'INFORME DIARIO MAQUINARIA'!$AH95="",'INFORME DIARIO MAQUINARIA'!$AH95=0),"",ROUND('INFORME DIARIO MAQUINARIA'!$O95/'INFORME DIARIO MAQUINARIA'!$AH95,1)) | AS95: =IFERROR(IF(OR(V95="",AE95="",V95<=0,AE95<0),"",AE95/V95),"")
B96: 46162 | C96: MIÉRCOLES | D96: 1 | E96: RETROEXCAVADORA #17 | F96: ROLANDO RIOJA | G96: 10 | H96: TIERRAS NUEVAS EL CARMEN | I96: 135 | K96: CARGUIO DE MATERIAL PARA RELLENO | M96: 80 | S96: ='INFORME DIARIO MAQUINARIA'!$R96-'INFORME DIARIO MAQUINARIA'!$Q96 -> 0 | V96: =IF(U96-T96=0,"",U96-T96) | Y96: =IF(X96-W96=0,"",X96-W96) | AB96: ='INFORME DIARIO MAQUINARIA'!$AA96-'INFORME DIARIO MAQUINARIA'!$Z96 -> 0 | AE96: =IF(AD96-AC96=0,"",AD96-AC96) | AH96: =IF(AG96-AF96=0,"",AG96-AF96) | AM96: =IF((AK96+AJ96)-AL96=0,"",(AK96+AJ96)-AL96) | AN96: =IF(OR(AM96="",V96="",V96=0),"",ROUND(AM96/V96,2)) | AO96: =IF(OR(Y96="",AM96="",AM96=0),"",ROUND(Y96/AM96,2)) | AP96: =IF(OR(AM96="",Y96="",Y96=0),"",ROUND(AM96/Y96,2)) | AQ96: =IF(OR(L96="",V96="",V96=0),"",ROUND(L96/V96,1)) | AR96: =IF(OR('INFORME DIARIO MAQUINARIA'!$O96="",'INFORME DIARIO MAQUINARIA'!$AH96="",'INFORME DIARIO MAQUINARIA'!$AH96=0),"",ROUND('INFORME DIARIO MAQUINARIA'!$O96/'INFORME DIARIO MAQUINARIA'!$AH96,1)) | AS96: =IFERROR(IF(OR(V96="",AE96="",V96<=0,AE96<0),"",AE96/V96),"")
B97: 46162 | C97: MIÉRCOLES | D97: 1 | E97: MOTONIVELADORA #47 | F97: RUBEN SUAREZ | G97: 10 | H97: TIERRAS NUEVAS EL CARMEN | I97: 135 | K97: MANTENIMIENTO DE CALLES Y VIAS NO PAVIMENTADAS | L97: 580 | S97: ='INFORME DIARIO MAQUINARIA'!$R97-'INFORME DIARIO MAQUINARIA'!$Q97 -> 0 | V97: =IF(U97-T97=0,"",U97-T97) | Y97: =IF(X97-W97=0,"",X97-W97) | AB97: ='INFORME DIARIO MAQUINARIA'!$AA97-'INFORME DIARIO MAQUINARIA'!$Z97 -> 0 | AE97: =IF(AD97-AC97=0,"",AD97-AC97) | AH97: =IF(AG97-AF97=0,"",AG97-AF97) | AM97: =IF((AK97+AJ97)-AL97=0,"",(AK97+AJ97)-AL97) | AN97: =IF(OR(AM97="",V97="",V97=0),"",ROUND(AM97/V97,2)) | AO97: =IF(OR(Y97="",AM97="",AM97=0),"",ROUND(Y97/AM97,2)) | AP97: =IF(OR(AM97="",Y97="",Y97=0),"",ROUND(AM97/Y97,2)) | AQ97: =IF(OR(L97="",V97="",V97=0),"",ROUND(L97/V97,1)) | AR97: =IF(OR('INFORME DIARIO MAQUINARIA'!$O97="",'INFORME DIARIO MAQUINARIA'!$AH97="",'INFORME DIARIO MAQUINARIA'!$AH97=0),"",ROUND('INFORME DIARIO MAQUINARIA'!$O97/'INFORME DIARIO MAQUINARIA'!$AH97,1)) | AS97: =IFERROR(IF(OR(V97="",AE97="",V97<=0,AE97<0),"",AE97/V97),"")
B98: 46162 | C98: MIÉRCOLES | D98: 1 | E98: VOLQUETA 2800 SPA | F98: JOSE LUIS CABA | G98: 10 | H98: TIERRAS NUEVAS EL CARMEN | I98: 135 | K98: TRANSPORTE DE MATERIAL PARA RELLENO | N98: 4 | O98: 32 | S98: ='INFORME DIARIO MAQUINARIA'!$R98-'INFORME DIARIO MAQUINARIA'!$Q98 -> 0 | V98: =IF(U98-T98=0,"",U98-T98) | Y98: =IF(X98-W98=0,"",X98-W98) | AB98: ='INFORME DIARIO MAQUINARIA'!$AA98-'INFORME DIARIO MAQUINARIA'!$Z98 -> 0 | AE98: =IF(AD98-AC98=0,"",AD98-AC98) | AH98: =IF(AG98-AF98=0,"",AG98-AF98) | AM98: =IF((AK98+AJ98)-AL98=0,"",(AK98+AJ98)-AL98) | AN98: =IF(OR(AM98="",V98="",V98=0),"",ROUND(AM98/V98,2)) | AO98: =IF(OR(Y98="",AM98="",AM98=0),"",ROUND(Y98/AM98,2)) | AP98: =IF(OR(AM98="",Y98="",Y98=0),"",ROUND(AM98/Y98,2)) | AQ98: =IF(OR(L98="",V98="",V98=0),"",ROUND(L98/V98,1)) | AR98: =IF(OR('INFORME DIARIO MAQUINARIA'!$O98="",'INFORME DIARIO MAQUINARIA'!$AH98="",'INFORME DIARIO MAQUINARIA'!$AH98=0),"",ROUND('INFORME DIARIO MAQUINARIA'!$O98/'INFORME DIARIO MAQUINARIA'!$AH98,1)) | AS98: =IFERROR(IF(OR(V98="",AE98="",V98<=0,AE98<0),"",AE98/V98),"")
B99: 46162 | C99: MIÉRCOLES | D99: 1 | E99: EXCAVADORA DOOSAN | F99: IVER FLORES | G99: 10 | H99: CANAL REVESTIDO ZONA NUEVO ABASTO MAYORISTA | K99: APOYO EN MANTENIMIENTO DE CANAL REVESTIDO EN LIMPIEZA Y CARGUIO DE MTERIAL CON SEDIMENTOS | S99: ='INFORME DIARIO MAQUINARIA'!$R99-'INFORME DIARIO MAQUINARIA'!$Q99 -> 0 | V99: =IF(U99-T99=0,"",U99-T99) | Y99: =IF(X99-W99=0,"",X99-W99) | AB99: ='INFORME DIARIO MAQUINARIA'!$AA99-'INFORME DIARIO MAQUINARIA'!$Z99 -> 0 | AE99: =IF(AD99-AC99=0,"",AD99-AC99) | AH99: =IF(AG99-AF99=0,"",AG99-AF99) | AM99: =IF((AK99+AJ99)-AL99=0,"",(AK99+AJ99)-AL99) | AN99: =IF(OR(AM99="",V99="",V99=0),"",ROUND(AM99/V99,2)) | AO99: =IF(OR(Y99="",AM99="",AM99=0),"",ROUND(Y99/AM99,2)) | AP99: =IF(OR(AM99="",Y99="",Y99=0),"",ROUND(AM99/Y99,2)) | AQ99: =IF(OR(L99="",V99="",V99=0),"",ROUND(L99/V99,1)) | AR99: =IF(OR('INFORME DIARIO MAQUINARIA'!$O99="",'INFORME DIARIO MAQUINARIA'!$AH99="",'INFORME DIARIO MAQUINARIA'!$AH99=0),"",ROUND('INFORME DIARIO MAQUINARIA'!$O99/'INFORME DIARIO MAQUINARIA'!$AH99,1)) | AS99: =IFERROR(IF(OR(V99="",AE99="",V99<=0,AE99<0),"",AE99/V99),"")
B100: 46162 | C100: MIÉRCOLES | D100: 1 | E100: VOLQUETA 6327 EHP | F100: WILDER NOGALES | G100: 10 | H100: CANAL REVESTIDO ZONA NUEVO ABASTO MAYORISTA | K100: APOYO EN TRANSPORTE DE MATERIAL CON SEDIMENTOS | S100: ='INFORME DIARIO MAQUINARIA'!$R100-'INFORME DIARIO MAQUINARIA'!$Q100 -> 0 | V100: =IF(U100-T100=0,"",U100-T100) | Y100: =IF(X100-W100=0,"",X100-W100) | AB100: ='INFORME DIARIO MAQUINARIA'!$AA100-'INFORME DIARIO MAQUINARIA'!$Z100 -> 0 | AE100: =IF(AD100-AC100=0,"",AD100-AC100) | AH100: =IF(AG100-AF100=0,"",AG100-AF100) | AM100: =IF((AK100+AJ100)-AL100=0,"",(AK100+AJ100)-AL100) | AN100: =IF(OR(AM100="",V100="",V100=0),"",ROUND(AM100/V100,2)) | AO100: =IF(OR(Y100="",AM100="",AM100=0),"",ROUND(Y100/AM100,2)) | AP100: =IF(OR(AM100="",Y100="",Y100=0),"",ROUND(AM100/Y100,2)) | AQ100: =IF(OR(L100="",V100="",V100=0),"",ROUND(L100/V100,1)) | AR100: =IF(OR('INFORME DIARIO MAQUINARIA'!$O100="",'INFORME DIARIO MAQUINARIA'!$AH100="",'INFORME DIARIO MAQUINARIA'!$AH100=0),"",ROUND('INFORME DIARIO MAQUINARIA'!$O100/'INFORME DIARIO MAQUINARIA'!$AH100,1)) | AS100: =IFERROR(IF(OR(V100="",AE100="",V100<=0,AE100<0),"",AE100/V100),"")
...
