Workbook

Sheet BACHEO
B1: INFORME SEMANAL DE LOS TRABAJOS DEL DPTO. MANTENIMIENTO DE OBRAS VIALES Y PUENTES (GESTIÓN 2026)
B3: SOL. N° | C3: Nº DE SEMANA | D3: FECHA | E3: GRUPO / CUADRILLA N° | F3: TURNO | G3: UBICACIÓN | H3: DIST.N° | I3: ACTIVIDAD PRINCIPAL | J3: DETALLE DE LOS TRABAJOS | K3: CANT EJECUTADA | L3: UNIDAD | M3: MATERIAL UTILIZADO | T3: OBSERVACIONES
M4: losetas pza. | N4: cap. Asfaltica Bolsa | O4: arena m3 | P4: ripio m3 | Q4: capa base m3 | R4: ladrillos pza | S4: cemento kg.
B5: 1 | C5: 43 | D5: 46325 | E5: 1 | F5: Dia | G5: Calle campero entre calle vaca diez y Av. Uruguay | H5: 11 | I5: Reposición de pavimento articulado | J5: Se realizo el trabajo de reposicion de pavimento articulado losetas | K5: =3.5*2.2+2*1+1.5*1 -> 11.2 | L5: m²
B6: 2 | C6: 43 | D6: 46325 | E6: 1 | F6: Dia | G6: Calle Suarez Arana entre calle campero y calle Avaroa | H6: 11 | I6: Reposición de pavimento articulado | J6: Se realizo el trabajo de reposicion de pavimento articulado losetas | K6: =2*2+3*1+2*1.5 -> 10 | L6: m²
B7: 3 | C7: 43 | D7: 46325 | E7: 2 | F7: Noche | G7: Calle 8 la plata entre av. Sam Martin y av. la Salle | H7: 1 | I7: Reposición de pavimento articulado | J7: Se realizo el trabajo de reposicion de pavimento articulado losetas | K7: =7*3 -> 21 | L7: m²
B8: 4 | C8: 43 | D8: 46325 | E8: 3 | F8: Dia | G8: Av. clara cuta zona mercado los pozos barrio universitario | H8: 5 | I8: Picado de pavimento rígido y colocado de pavimento articulado | J8: Se realizo el trabajo de reposicion de pavimento articulado losetas | K8: =3*1.8 -> 5.4 | L8: m²
B9: 5 | C9: 43 | D9: 46325 | E9: 4 | F9: Dia | G9: Av. los vallecitos frente Facultad de agronomía | H9: 5 | I9: Reposición de pavimento articulado | J9: Se realizo el trabajo de reposicion de pavimento articulado losetas | K9: 12.96 | L9: m²
B10: 6 | C10: 44 | D10: 46329 | E10: 1 | F10: Dia | G10: Calle Beni entre 2do y 1er anillo | H10: 11 | I10: Reposición de pavimento articulado | J10: Se realizo el trabajo de reposicion de pavimento articulado losetas | K10: =(6*8)+1*1 -> 49 | L10: m²
B11: 7 | C11: 44 | D11: 46329 | E11: 2 | F11: Noche | G11: Av. Ana barba entre calle chóferes del chaco y av. Omar Chávez | H11: 11 | I11: Reposición de pavimento articulado | J11: Se realizo el trabajo de reposicion de pavimento articulado losetas | K11: =3*1.8+2.1*1.8+2.6*2+1*1 -> 15.38 | L11: m²
B12: 8 | C12: 44 | D12: 46329 | E12: 3 | F12: Dia | G12: Av. Beni y 5to anillo al frente de saguapac | H12: 5 | I12: Reposición de pavimento articulado | J12: Se realizo el trabajo de reposicion de pavimento articulado losetas | K12: =1.4*0.5 -> 0.7 | L12: m²
B13: 9 | C13: 44 | D13: 46329 | E13: 3 | F13: Dia | G13: Av. clara cuta zona mercado los pozos barrio universitario | H13: 5 | I13: Reposición de pavimento articulado | J13: Se realizo el trabajo de reposicion de pavimento articulado losetas | K13: =1.8*3 -> 5.4 | L13: m²
B14: 10 | C14: 44 | D14: 46329 | E14: 4 | F14: Dia | G14: Av. los vallecitos frente Facultad de agronomía | H14: 5 | I14: Reposición de pavimento articulado | J14: Se realizo el trabajo de reposicion de pavimento articulado losetas | K14: 18.4 | L14: m²
B15: 11 | C15: 44 | D15: 46330 | E15: 1 | F15: Dia | G15: Calle Beni entre. 2 do y 1er anillo | H15: 11 | I15: Reposición de pavimento articulado | J15: Se realizo el trabajo de reposicion de pavimento articulado losetas | K15: =13*5.3 -> 68.9 | L15: m²
B16: 12 | C16: 44 | D16: 46330 | E16: 2 | F16: Noche | G16: Barrio San Isidro. Parque urbano la nueva Santa Cruz | H16: 8 | I16: Retiro de letrero en mal estado | J16: Se realizo el retiro de un letrero en mal estado | K16: 1 | L16: pto.
B17: 13 | C17: 44 | D17: 46330 | E17: 3 | F17: Dia | G17: Av. 18 de Marzo 2 cuadra antes del obelisco zona del plan 3000 | H17: 8 | I17: Calafateado de unión de losetas y cordones | J17: Se realizo el colocado de cento en las uniones del los cordones y las losetas | K17: =3*1.2 -> 3.6 | L17: m²
B18: 14 | C18: 44 | D18: 46330 | E18: 4 | F18: Dia | G18: Av. los vallecitos frente Facultad de agronomía | H18: 5 | I18: Reposición de pavimento articulado | J18: Se realizo el trabajo de reposicion de pavimento articulado losetas | K18: 35 | L18: m²
B19: 15 | C19: 44 | D19: 46331 | E19: 1 | F19: Dia | G19: Av. mamerto Cuellar Esquina calle Tte. Aponte | H19: 11 | I19: Reposición de pavimento articulado | J19: Se realizo el trabajo de reposicion de pavimento articulado losetas | K19: =4*2.3 -> 9.2 | L19: m²
B20: 16 | C20: 44 | D20: 46331 | E20: 1 | F20: Dia | G20: Calle Canadá esquina Av. Cristóbal de Mendoza 2do. Anillo | H20: 11 | I20: Reposición de pavimento articulado | J20: Se realizo el trabajo de reposicion de pavimento articulado losetas | K20: =2*1 -> 2 | L20: m²
B21: 17 | C21: 44 | D21: 46331 | E21: 1 | F21: Dia | G21: Calle Canadá esquina Av. Cristóbal de Mendoza 2do. Anillo | H21: 11 | I21: Limpieza de cámara de sumidero | J21: Se realizo la limpieza de camara de sumideros | K21: 1 | L21: pto.
B22: 18 | C22: 44 | D22: 46331 | E22: 2 | F22: Noche | G22: Calle 27de mayo entre av. Viedma y calle Félix romero | H22: 11 | I22: Hundimiento en pavimento articulado por tubo de alcantarillado roto de saguapac | J22: Se realizo la verificacion de un hundimiento a consecuencia de un tubo roto de saguapac | K22: 1 | L22: pto.
B23: 19 | C23: 44 | D23: 46331 | E23: 2 | F23: Noche | G23: Calle 27de mayo entre av. Viedma y calle Félix romero | H23: 11 | I23: Reposición de pavimento articulado | J23: Se realizo el trabajo de reposicion de pavimento articulado losetas | K23: 7.2 | L23: m²
B26: CANTIDAD DE TRABAJO REALIZADOS
B27: REP DE LOSETAS EN PAVIMENTO ARTICULADO (M2) | K27: =+K5+K6+K7+K8+K9+K10+K11+K12+K13+K14+K18+K19+K20+K23 -> 202.84
B28: RETIRO DE LETRERO | K28: =+K16 -> 1
B29: LIMPIEZA DE CAMARA DE SUMIDERO | K29: =+K21 -> 1
L30: =+UPPER(B30)

Sheet INFORME DIARIO MAQUINARIA
B1: CRONOGRAMA DE AVANCE DE MAQUINARIAS SECRETARIA DE OBRAS PUBLICAS - DIRECCION DE MANTENIMIENTO - DEPARTAMENTO DE MANTENIMIENTO DE OBRAS VIALES Y PUENTES | L1: DATOS Y PRODUCCION | Q1: TIEMPOS Y RECORRIDOS TOTALES | Z1: TIEMPO Y RECORRIDOS EFECTIVO | AI1: COMBUSTIBLE (L) | AN1: RENDIMIENTO COMBUSTIBLE | AQ1: RENDIMIENTO PRODUCCION | AS1: EFICIENCIA | AT1: FISCALIZACION Y OBSERVACIONES
B2: FECHA | C2: DIA | D2: CAN. | E2: MAQUINARIA/EQUIPO | F2: OPERADOR/CHOFER | G2: D.M. | H2: BARRIO | I2: UV | J2: AREA DE APOYO | K2: TRABAJOS REALIZADOS | L2: PERFILADO DE VIAS ML | M2: CARGUIO RETRO M3 | N2: N° VIAJES | O2: ACARREO VOLQUETA M3 | P2: ML CANAL | Q2: HORA INICIAL | R2: HORA FINAL | S2: HORA TOTAL | T2: HOROMETRO INICIAL | U2: HOROMETRO FINAL | V2: HOMOMETRO TOTAL | W2: ODOMETRO INICIAL | X2: ODOMETRO FINAL | Y2: ODOMETRO TOTAL | Z2: HORA INICIAL2 | AA2: HORA FINAL2 | AB2: HORA EFECTIVA | AC2: HOROMETRO INICIAL EFECTIVO | AD2: HOROMETRO FINAL EFECTIVO | AE2: HOROMETRO TOTAL EFECTIVO | AF2: ODOMETRO INICIAL EFECTIVO | AG2: ODOMETRO FINAL EFECTIVO | AH2: ODOMETRO TOTAL EFECTIVO | AI2: CAPACIDAD DE TANQUE | AJ2: CARGUIO DE COMBUSTIBLE | AK2: INICIAL | AL2: FINAL | AM2: CONSUMIDO | AN2: L/H | AO2: KM/L | AP2: KM/H | AQ2: ML/H | AR2: M3/H | AS2: % | AT2: OBSERVACIONES | AU2: ESTADO DEL EQUIPO | AV2: INSPECTOR | AW2: UBICACIÓN | AX2: PRESIDENTE DE BARRIO | AY2: NUMERO TELEFONICO | AZ2: FISCAL
B3: 46149 | C3: JUEVES | D3: 1 | E3: MOTONIVELADORA #48 | F3: LEONARDO MORENO | G3: 12 | H3: EL TRIUNFO | I3: 178 | K3: MANTENIMIENTO DE VIAS NO PAVIMENTADAS | L3: 1250 | S3: ='INFORME DIARIO MAQUINARIA'!$R3-'INFORME DIARIO MAQUINARIA'!$Q3 -> 0 | T3: 1858.1 | U3: 1864.9 | V3: =IF(U3-T3=0,"",U3-T3) -> 6.8 | Y3: =IF(X3-W3=0,"",X3-W3) | AB3: ='INFORME DIARIO MAQUINARIA'!$AA3-'INFORME DIARIO MAQUINARIA'!$Z3 -> 0 | AE3: =IF(AD3-AC3=0,"",AD3-AC3) | AH3: =IF(AG3-AF3=0,"",AG3-AF3) | AM3: =IF((AK3+AJ3)-AL3=0,"",(AK3+AJ3)-AL3) | AN3: =IF(OR(AM3="",V3="",V3=0),"",ROUND(AM3/V3,2)) | AO3: =IF(OR(Y3="",AM3="",AM3=0),"",ROUND(Y3/AM3,2)) | AP3: =IF(OR(AM3="",Y3="",Y3=0),"",ROUND(AM3/Y3,2)) | AQ3: =IF(OR(L3="",V3="",V3=0),"",ROUND(L3/V3,1)) -> 183.8 | AR3: =IF(OR('INFORME DIARIO MAQUINARIA'!$O3="",'INFORME DIARIO MAQUINARIA'!$AH3="",'INFORME DIARIO MAQUINARIA'!$AH3=0),"",ROUND('INFORME DIARIO MAQUINARIA'!$O3/'INFORME DIARIO MAQUINARIA'!$AH3,1)) | AS3: =IFERROR(IF(OR(V3="",AE3="",V3<=0,AE3<0),"",AE3/V3),"")
B4: 46149 | C4: JUEVES | D4: 1 | E4: MOTONIVELADORA #44 | F4: ROLY OSINAGA | G4: 12 | H4: MAGISTERIO SUR | I4: 184 | K4: MANTENIMIENTO DE VIAS NO PAVIMENTADAS | L4: 1100 | S4: ='INFORME DIARIO MAQUINARIA'!$R4-'INFORME DIARIO MAQUINARIA'!$Q4 -> 0 | V4: =IF(U4-T4=0,"",U4-T4) | Y4: =IF(X4-W4=0,"",X4-W4) | AB4: ='INFORME DIARIO MAQUINARIA'!$AA4-'INFORME DIARIO MAQUINARIA'!$Z4 -> 0 | AE4: =IF(AD4-AC4=0,"",AD4-AC4) | AH4: =IF(AG4-AF4=0,"",AG4-AF4) | AM4: =IF((AK4+AJ4)-AL4=0,"",(AK4+AJ4)-AL4) | AN4: =IF(OR(AM4="",V4="",V4=0),"",ROUND(AM4/V4,2)) | AO4: =IF(OR(Y4="",AM4="",AM4=0),"",ROUND(Y4/AM4,2)) | AP4: =IF(OR(AM4="",Y4="",Y4=0),"",ROUND(AM4/Y4,2)) | AQ4: =IF(OR(L4="",V4="",V4=0),"",ROUND(L4/V4,1)) | AR4: =IF(OR('INFORME DIARIO MAQUINARIA'!$O4="",'INFORME DIARIO MAQUINARIA'!$AH4="",'INFORME DIARIO MAQUINARIA'!$AH4=0),"",ROUND('INFORME DIARIO MAQUINARIA'!$O4/'INFORME DIARIO MAQUINARIA'!$AH4,1)) | AS4: =IFERROR(IF(OR(V4="",AE4="",V4<=0,AE4<0),"",AE4/V4),"")
B5: 46149 | C5: JUEVES | D5: 1 | E5: RETROEXCAVADORA #33 | F5: ELEODORO ALBA | G5: 12 | H5: MAGISTERIO SUR | I5: 184 | K5: CARGUIO DE MATERIAL DE RELLENO | M5: 252 | S5: ='INFORME DIARIO MAQUINARIA'!$R5-'INFORME DIARIO MAQUINARIA'!$Q5 -> 0 | V5: =IF(U5-T5=0,"",U5-T5) | Y5: =IF(X5-W5=0,"",X5-W5) | AB5: ='INFORME DIARIO MAQUINARIA'!$AA5-'INFORME DIARIO MAQUINARIA'!$Z5 -> 0 | AE5: =IF(AD5-AC5=0,"",AD5-AC5) | AH5: =IF(AG5-AF5=0,"",AG5-AF5) | AM5: =IF((AK5+AJ5)-AL5=0,"",(AK5+AJ5)-AL5) | AN5: =IF(OR(AM5="",V5="",V5=0),"",ROUND(AM5/V5,2)) | AO5: =IF(OR(Y5="",AM5="",AM5=0),"",ROUND(Y5/AM5,2)) | AP5: =IF(OR(AM5="",Y5="",Y5=0),"",ROUND(AM5/Y5,2)) | AQ5: =IF(OR(L5="",V5="",V5=0),"",ROUND(L5/V5,1)) | AR5: =IF(OR('INFORME DIARIO MAQUINARIA'!$O5="",'INFORME DIARIO MAQUINARIA'!$AH5="",'INFORME DIARIO MAQUINARIA'!$AH5=0),"",ROUND('INFORME DIARIO MAQUINARIA'!$O5/'INFORME DIARIO MAQUINARIA'!$AH5,1)) | AS5: =IFERROR(IF(OR(V5="",AE5="",V5<=0,AE5<0),"",AE5/V5),"")
B6: 46149 | C6: JUEVES | D6: 1 | E6: VOLQUETA 2843 IRU | F6: FELIX RENGEL | G6: 12 | H6: MAGISTERIO SUR | I6: 184 | K6: TRASLADO DE MATERIAL DE RELLENO | N6: 12 | O6: 144 | S6: ='INFORME DIARIO MAQUINARIA'!$R6-'INFORME DIARIO MAQUINARIA'!$Q6 -> 0 | V6: =IF(U6-T6=0,"",U6-T6) | Y6: =IF(X6-W6=0,"",X6-W6) | AB6: ='INFORME DIARIO MAQUINARIA'!$AA6-'INFORME DIARIO MAQUINARIA'!$Z6 -> 0 | AE6: =IF(AD6-AC6=0,"",AD6-AC6) | AH6: =IF(AG6-AF6=0,"",AG6-AF6) | AM6: =IF((AK6+AJ6)-AL6=0,"",(AK6+AJ6)-AL6) | AN6: =IF(OR(AM6="",V6="",V6=0),"",ROUND(AM6/V6,2)) | AO6: =IF(OR(Y6="",AM6="",AM6=0),"",ROUND(Y6/AM6,2)) | AP6: =IF(OR(AM6="",Y6="",Y6=0),"",ROUND(AM6/Y6,2)) | AQ6: =IF(OR(L6="",V6="",V6=0),"",ROUND(L6/V6,1)) | AR6: =IF(OR('INFORME DIARIO MAQUINARIA'!$O6="",'INFORME DIARIO MAQUINARIA'!$AH6="",'INFORME DIARIO MAQUINARIA'!$AH6=0),"",ROUND('INFORME DIARIO MAQUINARIA'!$O6/'INFORME DIARIO MAQUINARIA'!$AH6,1)) | AS6: =IFERROR(IF(OR(V6="",AE6="",V6<=0,AE6<0),"",AE6/V6),"")
B7: 46149 | C7: JUEVES | D7: 1 | E7: VOLQUETA 6327 ECU | F7: RAMON DAZA | G7: 12 | H7: TRIUNFO | I7: 178 | K7: TRASLADO DE MATERIAL DE RELLENO | N7: 9 | O7: 108 | S7: ='INFORME DIARIO MAQUINARIA'!$R7-'INFORME DIARIO MAQUINARIA'!$Q7 -> 0 | V7: =IF(U7-T7=0,"",U7-T7) | Y7: =IF(X7-W7=0,"",X7-W7) | AB7: ='INFORME DIARIO MAQUINARIA'!$AA7-'INFORME DIARIO MAQUINARIA'!$Z7 -> 0 | AE7: =IF(AD7-AC7=0,"",AD7-AC7) | AH7: =IF(AG7-AF7=0,"",AG7-AF7) | AM7: =IF((AK7+AJ7)-AL7=0,"",(AK7+AJ7)-AL7) | AN7: =IF(OR(AM7="",V7="",V7=0),"",ROUND(AM7/V7,2)) | AO7: =IF(OR(Y7="",AM7="",AM7=0),"",ROUND(Y7/AM7,2)) | AP7: =IF(OR(AM7="",Y7="",Y7=0),"",ROUND(AM7/Y7,2)) | AQ7: =IF(OR(L7="",V7="",V7=0),"",ROUND(L7/V7,1)) | AR7: =IF(OR('INFORME DIARIO MAQUINARIA'!$O7="",'INFORME DIARIO MAQUINARIA'!$AH7="",'INFORME DIARIO MAQUINARIA'!$AH7=0),"",ROUND('INFORME DIARIO MAQUINARIA'!$O7/'INFORME DIARIO MAQUINARIA'!$AH7,1)) | AS7: =IFERROR(IF(OR(V7="",AE7="",V7<=0,AE7<0),"",AE7/V7),"")
B8: 46149 | C8: JUEVES | D8: 1 | E8: RETROEXCAVADORA #17 | F8: ROLANDO RIOJA | G8: 13 | H8: ESCUDERO PUNTO DE ACOPIO | K8: CARGUIO DE MATERIAL PARA RELLENO | M8: 204 | S8: ='INFORME DIARIO MAQUINARIA'!$R8-'INFORME DIARIO MAQUINARIA'!$Q8 -> 0 | V8: =IF(U8-T8=0,"",U8-T8) | Y8: =IF(X8-W8=0,"",X8-W8) | AB8: ='INFORME DIARIO MAQUINARIA'!$AA8-'INFORME DIARIO MAQUINARIA'!$Z8 -> 0 | AE8: =IF(AD8-AC8=0,"",AD8-AC8) | AH8: =IF(AG8-AF8=0,"",AG8-AF8) | AM8: =IF((AK8+AJ8)-AL8=0,"",(AK8+AJ8)-AL8) | AN8: =IF(OR(AM8="",V8="",V8=0),"",ROUND(AM8/V8,2)) | AO8: =IF(OR(Y8="",AM8="",AM8=0),"",ROUND(Y8/AM8,2)) | AP8: =IF(OR(AM8="",Y8="",Y8=0),"",ROUND(AM8/Y8,2)) | AQ8: =IF(OR(L8="",V8="",V8=0),"",ROUND(L8/V8,1)) | AR8: =IF(OR('INFORME DIARIO MAQUINARIA'!$O8="",'INFORME DIARIO MAQUINARIA'!$AH8="",'INFORME DIARIO MAQUINARIA'!$AH8=0),"",ROUND('INFORME DIARIO MAQUINARIA'!$O8/'INFORME DIARIO MAQUINARIA'!$AH8,1)) | AS8: =IFERROR(IF(OR(V8="",AE8="",V8<=0,AE8<0),"",AE8/V8),"")
B9: 46149 | C9: JUEVES | D9: 1 | E9: MOTONIVELADORA #33 | F9: EDIL CARBAJAL | G9: 13 | H9: RECREO CENTRAL | I9: 418 | K9: MANTENIMIENTO DE VIAS NO PAVIMENTADAS | L9: 2000 | S9: ='INFORME DIARIO MAQUINARIA'!$R9-'INFORME DIARIO MAQUINARIA'!$Q9 -> 0 | V9: =IF(U9-T9=0,"",U9-T9) | Y9: =IF(X9-W9=0,"",X9-W9) | AB9: ='INFORME DIARIO MAQUINARIA'!$AA9-'INFORME DIARIO MAQUINARIA'!$Z9 -> 0 | AE9: =IF(AD9-AC9=0,"",AD9-AC9) | AH9: =IF(AG9-AF9=0,"",AG9-AF9) | AM9: =IF((AK9+AJ9)-AL9=0,"",(AK9+AJ9)-AL9) | AN9: =IF(OR(AM9="",V9="",V9=0),"",ROUND(AM9/V9,2)) | AO9: =IF(OR(Y9="",AM9="",AM9=0),"",ROUND(Y9/AM9,2)) | AP9: =IF(OR(AM9="",Y9="",Y9=0),"",ROUND(AM9/Y9,2)) | AQ9: =IF(OR(L9="",V9="",V9=0),"",ROUND(L9/V9,1)) | AR9: =IF(OR('INFORME DIARIO MAQUINARIA'!$O9="",'INFORME DIARIO MAQUINARIA'!$AH9="",'INFORME DIARIO MAQUINARIA'!$AH9=0),"",ROUND('INFORME DIARIO MAQUINARIA'!$O9/'INFORME DIARIO MAQUINARIA'!$AH9,1)) | AS9: =IFERROR(IF(OR(V9="",AE9="",V9<=0,AE9<0),"",AE9/V9),"")
B10: 46149 | C10: JUEVES | D10: 1 | E10: VOLQUETA 6327 EIT | F10: HERNAN CANDIA | G10: 13 | H10: VILLS CAROLINA | I10: 240 | K10: TRANSPORTE DE MAERIAL PARA RELLENO | N10: 6 | O10: 72 | S10: ='INFORME DIARIO MAQUINARIA'!$R10-'INFORME DIARIO MAQUINARIA'!$Q10 -> 0 | V10: =IF(U10-T10=0,"",U10-T10) | Y10: =IF(X10-W10=0,"",X10-W10) | AB10: ='INFORME DIARIO MAQUINARIA'!$AA10-'INFORME DIARIO MAQUINARIA'!$Z10 -> 0 | AE10: =IF(AD10-AC10=0,"",AD10-AC10) | AH10: =IF(AG10-AF10=0,"",AG10-AF10) | AM10: =IF((AK10+AJ10)-AL10=0,"",(AK10+AJ10)-AL10) | AN10: =IF(OR(AM10="",V10="",V10=0),"",ROUND(AM10/V10,2)) | AO10: =IF(OR(Y10="",AM10="",AM10=0),"",ROUND(Y10/AM10,2)) | AP10: =IF(OR(AM10="",Y10="",Y10=0),"",ROUND(AM10/Y10,2)) | AQ10: =IF(OR(L10="",V10="",V10=0),"",ROUND(L10/V10,1)) | AR10: =IF(OR('INFORME DIARIO MAQUINARIA'!$O10="",'INFORME DIARIO MAQUINARIA'!$AH10="",'INFORME DIARIO MAQUINARIA'!$AH10=0),"",ROUND('INFORME DIARIO MAQUINARIA'!$O10/'INFORME DIARIO MAQUINARIA'!$AH10,1)) | AS10: =IFERROR(IF(OR(V10="",AE10="",V10<=0,AE10<0),"",AE10/V10),"")
B11: 46149 | C11: JUEVES | D11: 1 | E11: VOLQUETA 6327 EFG | F11: FERNANDO OLLER | G11: 13 | H11: VILLA CAROLINA | I11: 240 | K11: TRANSPORTE DE MAERIAL PARA RELLENO | N11: 7 | O11: 84 | S11: ='INFORME DIARIO MAQUINARIA'!$R11-'INFORME DIARIO MAQUINARIA'!$Q11 -> 0 | V11: =IF(U11-T11=0,"",U11-T11) | Y11: =IF(X11-W11=0,"",X11-W11) | AB11: ='INFORME DIARIO MAQUINARIA'!$AA11-'INFORME DIARIO MAQUINARIA'!$Z11 -> 0 | AE11: =IF(AD11-AC11=0,"",AD11-AC11) | AH11: =IF(AG11-AF11=0,"",AG11-AF11) | AM11: =IF((AK11+AJ11)-AL11=0,"",(AK11+AJ11)-AL11) | AN11: =IF(OR(AM11="",V11="",V11=0),"",ROUND(AM11/V11,2)) | AO11: =IF(OR(Y11="",AM11="",AM11=0),"",ROUND(Y11/AM11,2)) | AP11: =IF(OR(AM11="",Y11="",Y11=0),"",ROUND(AM11/Y11,2)) | AQ11: =IF(OR(L11="",V11="",V11=0),"",ROUND(L11/V11,1)) | AR11: =IF(OR('INFORME DIARIO MAQUINARIA'!$O11="",'INFORME DIARIO MAQUINARIA'!$AH11="",'INFORME DIARIO MAQUINARIA'!$AH11=0),"",ROUND('INFORME DIARIO MAQUINARIA'!$O11/'INFORME DIARIO MAQUINARIA'!$AH11,1)) | AS11: =IFERROR(IF(OR(V11="",AE11="",V11<=0,AE11<0),"",AE11/V11),"")
B12: 46149 | C12: JUEVES | D12: 1 | E12: VOLQUETA 2254 ILF | F12: CARLOS SUAREZ | G12: 13 | H12: PANIAGUA | K12: TRANSPORTE DE MAERIAL PARA RELLENO | N12: 4 | O12: 48 | S12: ='INFORME DIARIO MAQUINARIA'!$R12-'INFORME DIARIO MAQUINARIA'!$Q12 -> 0 | V12: =IF(U12-T12=0,"",U12-T12) | Y12: =IF(X12-W12=0,"",X12-W12) | AB12: ='INFORME DIARIO MAQUINARIA'!$AA12-'INFORME DIARIO MAQUINARIA'!$Z12 -> 0 | AE12: =IF(AD12-AC12=0,"",AD12-AC12) | AH12: =IF(AG12-AF12=0,"",AG12-AF12) | AM12: =IF((AK12+AJ12)-AL12=0,"",(AK12+AJ12)-AL12) | AN12: =IF(OR(AM12="",V12="",V12=0),"",ROUND(AM12/V12,2)) | AO12: =IF(OR(Y12="",AM12="",AM12=0),"",ROUND(Y12/AM12,2)) | AP12: =IF(OR(AM12="",Y12="",Y12=0),"",ROUND(AM12/Y12,2)) | AQ12: =IF(OR(L12="",V12="",V12=0),"",ROUND(L12/V12,1)) | AR12: =IF(OR('INFORME DIARIO MAQUINARIA'!$O12="",'INFORME DIARIO MAQUINARIA'!$AH12="",'INFORME DIARIO MAQUINARIA'!$AH12=0),"",ROUND('INFORME DIARIO MAQUINARIA'!$O12/'INFORME DIARIO MAQUINARIA'!$AH12,1)) | AS12: =IFERROR(IF(OR(V12="",AE12="",V12<=0,AE12<0),"",AE12/V12),"")
B13: 46149 | C13: JUEVES | D13: 1 | E13: MOTONIVELADORA #35 | F13: JUSTO ARIAS | G13: 13 | H13: VILLA CAROLINA | K13: MANTENIMIENTO DE VIAS NO PAVIMENTADAS | L13: 1800 | S13: ='INFORME DIARIO MAQUINARIA'!$R13-'INFORME DIARIO MAQUINARIA'!$Q13 -> 0 | V13: =IF(U13-T13=0,"",U13-T13) | Y13: =IF(X13-W13=0,"",X13-W13) | AB13: ='INFORME DIARIO MAQUINARIA'!$AA13-'INFORME DIARIO MAQUINARIA'!$Z13 -> 0 | AE13: =IF(AD13-AC13=0,"",AD13-AC13) | AH13: =IF(AG13-AF13=0,"",AG13-AF13) | AM13: =IF((AK13+AJ13)-AL13=0,"",(AK13+AJ13)-AL13) | AN13: =IF(OR(AM13="",V13="",V13=0),"",ROUND(AM13/V13,2)) | AO13: =IF(OR(Y13="",AM13="",AM13=0),"",ROUND(Y13/AM13,2)) | AP13: =IF(OR(AM13="",Y13="",Y13=0),"",ROUND(AM13/Y13,2)) | AQ13: =IF(OR(L13="",V13="",V13=0),"",ROUND(L13/V13,1)) | AR13: =IF(OR('INFORME DIARIO MAQUINARIA'!$O13="",'INFORME DIARIO MAQUINARIA'!$AH13="",'INFORME DIARIO MAQUINARIA'!$AH13=0),"",ROUND('INFORME DIARIO MAQUINARIA'!$O13/'INFORME DIARIO MAQUINARIA'!$AH13,1)) | AS13: =IFERROR(IF(OR(V13="",AE13="",V13<=0,AE13<0),"",AE13/V13),"")
B14: 46149 | C14: JUEVES | D14: 1 | E14: VOLQUETA 2135 PKN | F14: HERNAN BEJARANO | K14: APOYO A GRUPO OPERATIVO | N14: 1 | S14: ='INFORME DIARIO MAQUINARIA'!$R14-'INFORME DIARIO MAQUINARIA'!$Q14 -> 0 | V14: =IF(U14-T14=0,"",U14-T14) | Y14: =IF(X14-W14=0,"",X14-W14) | AB14: ='INFORME DIARIO MAQUINARIA'!$AA14-'INFORME DIARIO MAQUINARIA'!$Z14 -> 0 | AE14: =IF(AD14-AC14=0,"",AD14-AC14) | AH14: =IF(AG14-AF14=0,"",AG14-AF14) | AM14: =IF((AK14+AJ14)-AL14=0,"",(AK14+AJ14)-AL14) | AN14: =IF(OR(AM14="",V14="",V14=0),"",ROUND(AM14/V14,2)) | AO14: =IF(OR(Y14="",AM14="",AM14=0),"",ROUND(Y14/AM14,2)) | AP14: =IF(OR(AM14="",Y14="",Y14=0),"",ROUND(AM14/Y14,2)) | AQ14: =IF(OR(L14="",V14="",V14=0),"",ROUND(L14/V14,1)) | AR14: =IF(OR('INFORME DIARIO MAQUINARIA'!$O14="",'INFORME DIARIO MAQUINARIA'!$AH14="",'INFORME DIARIO MAQUINARIA'!$AH14=0),"",ROUND('INFORME DIARIO MAQUINARIA'!$O14/'INFORME DIARIO MAQUINARIA'!$AH14,1)) | AS14: =IFERROR(IF(OR(V14="",AE14="",V14<=0,AE14<0),"",AE14/V14),"")
B15: 46150 | C15: VIERNES | J15: SIN OPERACIONES | K15: NO SE REALIZO ACTIVIDAD MOTIVO CONDICIONES CLIMATICAS | S15: ='INFORME DIARIO MAQUINARIA'!$R15-'INFORME DIARIO MAQUINARIA'!$Q15 -> 0 | V15: =IF(U15-T15=0,"",U15-T15) | Y15: =IF(X15-W15=0,"",X15-W15) | AB15: ='INFORME DIARIO MAQUINARIA'!$AA15-'INFORME DIARIO MAQUINARIA'!$Z15 -> 0 | AE15: =IF(AD15-AC15=0,"",AD15-AC15) | AH15: =IF(AG15-AF15=0,"",AG15-AF15) | AM15: =IF((AK15+AJ15)-AL15=0,"",(AK15+AJ15)-AL15) | AN15: =IF(OR(AM15="",V15="",V15=0),"",ROUND(AM15/V15,2)) | AO15: =IF(OR(Y15="",AM15="",AM15=0),"",ROUND(Y15/AM15,2)) | AP15: =IF(OR(AM15="",Y15="",Y15=0),"",ROUND(AM15/Y15,2)) | AQ15: =IF(OR(L15="",V15="",V15=0),"",ROUND(L15/V15,1)) | AR15: =IF(OR('INFORME DIARIO MAQUINARIA'!$O15="",'INFORME DIARIO MAQUINARIA'!$AH15="",'INFORME DIARIO MAQUINARIA'!$AH15=0),"",ROUND('INFORME DIARIO MAQUINARIA'!$O15/'INFORME DIARIO MAQUINARIA'!$AH15,1)) | AS15: =IFERROR(IF(OR(V15="",AE15="",V15<=0,AE15<0),"",AE15/V15),"")
B16: 46153 | C16: LUNES | D16: 1 | E16: MOTONIVELADORA #47 | F16: RUBEN SUAREZ | G16: 8 | H16: BARRIO LAS ORQUIDEAS | I16: 163 | K16: MANTENIMIENTO DE VIAS NO PAVIMENTADAS | L16: 1710 | S16: ='INFORME DIARIO MAQUINARIA'!$R16-'INFORME DIARIO MAQUINARIA'!$Q16 -> 0 | V16: =IF(U16-T16=0,"",U16-T16) | Y16: =IF(X16-W16=0,"",X16-W16) | AB16: ='INFORME DIARIO MAQUINARIA'!$AA16-'INFORME DIARIO MAQUINARIA'!$Z16 -> 0 | AE16: =IF(AD16-AC16=0,"",AD16-AC16) | AH16: =IF(AG16-AF16=0,"",AG16-AF16) | AM16: =IF((AK16+AJ16)-AL16=0,"",(AK16+AJ16)-AL16) | AN16: =IF(OR(AM16="",V16="",V16=0),"",ROUND(AM16/V16,2)) | AO16: =IF(OR(Y16="",AM16="",AM16=0),"",ROUND(Y16/AM16,2)) | AP16: =IF(OR(AM16="",Y16="",Y16=0),"",ROUND(AM16/Y16,2)) | AQ16: =IF(OR(L16="",V16="",V16=0),"",ROUND(L16/V16,1)) | AR16: =IF(OR('INFORME DIARIO MAQUINARIA'!$O16="",'INFORME DIARIO MAQUINARIA'!$AH16="",'INFORME DIARIO MAQUINARIA'!$AH16=0),"",ROUND('INFORME DIARIO MAQUINARIA'!$O16/'INFORME DIARIO MAQUINARIA'!$AH16,1)) | AS16: =IFERROR(IF(OR(V16="",AE16="",V16<=0,AE16<0),"",AE16/V16),"")
B17: 46153 | C17: LUNES | D17: 1 | E17: RETROEXCAVADORA #33 | F17: ELEODORO ALBA | G17: 8 | H17: BARRIO LAS ORQUIDEAS | I17: 163 | K17: CARGUIO DE MATERIAL PARA RELLENO | M17: 72 | S17: ='INFORME DIARIO MAQUINARIA'!$R17-'INFORME DIARIO MAQUINARIA'!$Q17 -> 0 | V17: =IF(U17-T17=0,"",U17-T17) | Y17: =IF(X17-W17=0,"",X17-W17) | AB17: ='INFORME DIARIO MAQUINARIA'!$AA17-'INFORME DIARIO MAQUINARIA'!$Z17 -> 0 | AE17: =IF(AD17-AC17=0,"",AD17-AC17) | AH17: =IF(AG17-AF17=0,"",AG17-AF17) | AM17: =IF((AK17+AJ17)-AL17=0,"",(AK17+AJ17)-AL17) | AN17: =IF(OR(AM17="",V17="",V17=0),"",ROUND(AM17/V17,2)) | AO17: =IF(OR(Y17="",AM17="",AM17=0),"",ROUND(Y17/AM17,2)) | AP17: =IF(OR(AM17="",Y17="",Y17=0),"",ROUND(AM17/Y17,2)) | AQ17: =IF(OR(L17="",V17="",V17=0),"",ROUND(L17/V17,1)) | AR17: =IF(OR('INFORME DIARIO MAQUINARIA'!$O17="",'INFORME DIARIO MAQUINARIA'!$AH17="",'INFORME DIARIO MAQUINARIA'!$AH17=0),"",ROUND('INFORME DIARIO MAQUINARIA'!$O17/'INFORME DIARIO MAQUINARIA'!$AH17,1)) | AS17: =IFERROR(IF(OR(V17="",AE17="",V17<=0,AE17<0),"",AE17/V17),"")
B18: 46153 | C18: LUNES | D18: 1 | E18: VOLQUETA 6327 ECU | F18: RAMON DAZA | G18: 8 | H18: BARRIO LAS ORQUIDEAS | I18: 163 | K18: TRANSPORTE DE MATERIAL PARA RELLENO | N18: 6 | O18: 72 | S18: ='INFORME DIARIO MAQUINARIA'!$R18-'INFORME DIARIO MAQUINARIA'!$Q18 -> 0 | V18: =IF(U18-T18=0,"",U18-T18) | Y18: =IF(X18-W18=0,"",X18-W18) | AB18: ='INFORME DIARIO MAQUINARIA'!$AA18-'INFORME DIARIO MAQUINARIA'!$Z18 -> 0 | AE18: =IF(AD18-AC18=0,"",AD18-AC18) | AH18: =IF(AG18-AF18=0,"",AG18-AF18) | AM18: =IF((AK18+AJ18)-AL18=0,"",(AK18+AJ18)-AL18) | AN18: =IF(OR(AM18="",V18="",V18=0),"",ROUND(AM18/V18,2)) | AO18: =IF(OR(Y18="",AM18="",AM18=0),"",ROUND(Y18/AM18,2)) | AP18: =IF(OR(AM18="",Y18="",Y18=0),"",ROUND(AM18/Y18,2)) | AQ18: =IF(OR(L18="",V18="",V18=0),"",ROUND(L18/V18,1)) | AR18: =IF(OR('INFORME DIARIO MAQUINARIA'!$O18="",'INFORME DIARIO MAQUINARIA'!$AH18="",'INFORME DIARIO MAQUINARIA'!$AH18=0),"",ROUND('INFORME DIARIO MAQUINARIA'!$O18/'INFORME DIARIO MAQUINARIA'!$AH18,1)) | AS18: =IFERROR(IF(OR(V18="",AE18="",V18<=0,AE18<0),"",AE18/V18),"")
B19: 46154 | C19: MARTES | D19: 1 | E19: MOTONIVELADORA #47 | F19: RUBEN SUAREZ | G19: 8 | H19: BARRIO 27 DE MAYO | I19: 1149 | K19: MANTENIMIENTO DE VIAS NO PAVIMENTADAS | L19: 1560 | S19: ='INFORME DIARIO MAQUINARIA'!$R19-'INFORME DIARIO MAQUINARIA'!$Q19 -> 0 | V19: =IF(U19-T19=0,"",U19-T19) | Y19: =IF(X19-W19=0,"",X19-W19) | AB19: ='INFORME DIARIO MAQUINARIA'!$AA19-'INFORME DIARIO MAQUINARIA'!$Z19 -> 0 | AE19: =IF(AD19-AC19=0,"",AD19-AC19) | AH19: =IF(AG19-AF19=0,"",AG19-AF19) | AM19: =IF((AK19+AJ19)-AL19=0,"",(AK19+AJ19)-AL19) | AN19: =IF(OR(AM19="",V19="",V19=0),"",ROUND(AM19/V19,2)) | AO19: =IF(OR(Y19="",AM19="",AM19=0),"",ROUND(Y19/AM19,2)) | AP19: =IF(OR(AM19="",Y19="",Y19=0),"",ROUND(AM19/Y19,2)) | AQ19: =IF(OR(L19="",V19="",V19=0),"",ROUND(L19/V19,1)) | AR19: =IF(OR('INFORME DIARIO MAQUINARIA'!$O19="",'INFORME DIARIO MAQUINARIA'!$AH19="",'INFORME DIARIO MAQUINARIA'!$AH19=0),"",ROUND('INFORME DIARIO MAQUINARIA'!$O19/'INFORME DIARIO MAQUINARIA'!$AH19,1)) | AS19: =IFERROR(IF(OR(V19="",AE19="",V19<=0,AE19<0),"",AE19/V19),"")
B20: 46154 | C20: MARTES | D20: 1 | E20: RETROEXCAVADORA #12 | F20: PABLO ARIAS | G20: 8 | H20: BARRIO 27 DE MAYO | I20: 149 | K20: CARGUIO DE MATERIAL PARA RELLENO | N20: 3 | O20: 24 | S20: ='INFORME DIARIO MAQUINARIA'!$R20-'INFORME DIARIO MAQUINARIA'!$Q20 -> 0 | V20: =IF(U20-T20=0,"",U20-T20) | Y20: =IF(X20-W20=0,"",X20-W20) | AB20: ='INFORME DIARIO MAQUINARIA'!$AA20-'INFORME DIARIO MAQUINARIA'!$Z20 -> 0 | AE20: =IF(AD20-AC20=0,"",AD20-AC20) | AH20: =IF(AG20-AF20=0,"",AG20-AF20) | AM20: =IF((AK20+AJ20)-AL20=0,"",(AK20+AJ20)-AL20) | AN20: =IF(OR(AM20="",V20="",V20=0),"",ROUND(AM20/V20,2)) | AO20: =IF(OR(Y20="",AM20="",AM20=0),"",ROUND(Y20/AM20,2)) | AP20: =IF(OR(AM20="",Y20="",Y20=0),"",ROUND(AM20/Y20,2)) | AQ20: =IF(OR(L20="",V20="",V20=0),"",ROUND(L20/V20,1)) | AR20: =IF(OR('INFORME DIARIO MAQUINARIA'!$O20="",'INFORME DIARIO MAQUINARIA'!$AH20="",'INFORME DIARIO MAQUINARIA'!$AH20=0),"",ROUND('INFORME DIARIO MAQUINARIA'!$O20/'INFORME DIARIO MAQUINARIA'!$AH20,1)) | AS20: =IFERROR(IF(OR(V20="",AE20="",V20<=0,AE20<0),"",AE20/V20),"")
B21: 46154 | C21: MARTES | D21: 1 | E21: RETROEXCAVADORA #12 | F21: PABLO ARIAS | G21: 8 | H21: AV. 5TO ANILLO SAN AURELIO | I21: 104 | K21: CARGUIO DE MATERIAL PARA RELLENO | M21: 108 | S21: ='INFORME DIARIO MAQUINARIA'!$R21-'INFORME DIARIO MAQUINARIA'!$Q21 -> 0 | V21: =IF(U21-T21=0,"",U21-T21) | Y21: =IF(X21-W21=0,"",X21-W21) | AB21: ='INFORME DIARIO MAQUINARIA'!$AA21-'INFORME DIARIO MAQUINARIA'!$Z21 -> 0 | AE21: =IF(AD21-AC21=0,"",AD21-AC21) | AH21: =IF(AG21-AF21=0,"",AG21-AF21) | AM21: =IF((AK21+AJ21)-AL21=0,"",(AK21+AJ21)-AL21) | AN21: =IF(OR(AM21="",V21="",V21=0),"",ROUND(AM21/V21,2)) | AO21: =IF(OR(Y21="",AM21="",AM21=0),"",ROUND(Y21/AM21,2)) | AP21: =IF(OR(AM21="",Y21="",Y21=0),"",ROUND(AM21/Y21,2)) | AQ21: =IF(OR(L21="",V21="",V21=0),"",ROUND(L21/V21,1)) | AR21: =IF(OR('INFORME DIARIO MAQUINARIA'!$O21="",'INFORME DIARIO MAQUINARIA'!$AH21="",'INFORME DIARIO MAQUINARIA'!$AH21=0),"",ROUND('INFORME DIARIO MAQUINARIA'!$O21/'INFORME DIARIO MAQUINARIA'!$AH21,1)) | AS21: =IFERROR(IF(OR(V21="",AE21="",V21<=0,AE21<0),"",AE21/V21),"")
B22: 46154 | C22: MARTES | D22: 1 | E22: VOLQUETA 6327 ECU | F22: RAMON DAZA | G22: 8 | H22: BARRIO 27 DE MAYO | I22: 149 | K22: TRANSPORTE DE MATERIAL PARA RELLENO | N22: 2 | O22: 24 | S22: ='INFORME DIARIO MAQUINARIA'!$R22-'INFORME DIARIO MAQUINARIA'!$Q22 -> 0 | V22: =IF(U22-T22=0,"",U22-T22) | Y22: =IF(X22-W22=0,"",X22-W22) | AB22: ='INFORME DIARIO MAQUINARIA'!$AA22-'INFORME DIARIO MAQUINARIA'!$Z22 -> 0 | AE22: =IF(AD22-AC22=0,"",AD22-AC22) | AH22: =IF(AG22-AF22=0,"",AG22-AF22) | AM22: =IF((AK22+AJ22)-AL22=0,"",(AK22+AJ22)-AL22) | AN22: =IF(OR(AM22="",V22="",V22=0),"",ROUND(AM22/V22,2)) | AO22: =IF(OR(Y22="",AM22="",AM22=0),"",ROUND(Y22/AM22,2)) | AP22: =IF(OR(AM22="",Y22="",Y22=0),"",ROUND(AM22/Y22,2)) | AQ22: =IF(OR(L22="",V22="",V22=0),"",ROUND(L22/V22,1)) | AR22: =IF(OR('INFORME DIARIO MAQUINARIA'!$O22="",'INFORME DIARIO MAQUINARIA'!$AH22="",'INFORME DIARIO MAQUINARIA'!$AH22=0),"",ROUND('INFORME DIARIO MAQUINARIA'!$O22/'INFORME DIARIO MAQUINARIA'!$AH22,1)) | AS22: =IFERROR(IF(OR(V22="",AE22="",V22<=0,AE22<0),"",AE22/V22),"")
B23: 46154 | C23: MARTES | D23: 1 | E23: VOLQUETA 6327 ECU | F23: RAMON DAZA | G23: 8 | H23: AV. 5TO ANILLO SAN AURELIO | I23: 104 | K23: TRANSPORTE DE MATERIAL PARA RELLENO | N23: 5 | O23: 60 | S23: ='INFORME DIARIO MAQUINARIA'!$R23-'INFORME DIARIO MAQUINARIA'!$Q23 -> 0 | V23: =IF(U23-T23=0,"",U23-T23) | Y23: =IF(X23-W23=0,"",X23-W23) | AB23: ='INFORME DIARIO MAQUINARIA'!$AA23-'INFORME DIARIO MAQUINARIA'!$Z23 -> 0 | AE23: =IF(AD23-AC23=0,"",AD23-AC23) | AH23: =IF(AG23-AF23=0,"",AG23-AF23) | AM23: =IF((AK23+AJ23)-AL23=0,"",(AK23+AJ23)-AL23) | AN23: =IF(OR(AM23="",V23="",V23=0),"",ROUND(AM23/V23,2)) | AO23: =IF(OR(Y23="",AM23="",AM23=0),"",ROUND(Y23/AM23,2)) | AP23: =IF(OR(AM23="",Y23="",Y23=0),"",ROUND(AM23/Y23,2)) | AQ23: =IF(OR(L23="",V23="",V23=0),"",ROUND(L23/V23,1)) | AR23: =IF(OR('INFORME DIARIO MAQUINARIA'!$O23="",'INFORME DIARIO MAQUINARIA'!$AH23="",'INFORME DIARIO MAQUINARIA'!$AH23=0),"",ROUND('INFORME DIARIO MAQUINARIA'!$O23/'INFORME DIARIO MAQUINARIA'!$AH23,1)) | AS23: =IFERROR(IF(OR(V23="",AE23="",V23<=0,AE23<0),"",AE23/V23),"")
B24: 46154 | C24: MARTES | D24: 1 | E24: VOLQUETA 6327 EFG | F24: FERNANDO OLLER | G24: 13 | H24: LOMA GRANDE | K24: TRANSPORTE DE MATERIAL PARA RELLENO | N24: 5 | O24: 60 | S24: ='INFORME DIARIO MAQUINARIA'!$R24-'INFORME DIARIO MAQUINARIA'!$Q24 -> 0 | V24: =IF(U24-T24=0,"",U24-T24) | Y24: =IF(X24-W24=0,"",X24-W24) | AB24: ='INFORME DIARIO MAQUINARIA'!$AA24-'INFORME DIARIO MAQUINARIA'!$Z24 -> 0 | AE24: =IF(AD24-AC24=0,"",AD24-AC24) | AH24: =IF(AG24-AF24=0,"",AG24-AF24) | AM24: =IF((AK24+AJ24)-AL24=0,"",(AK24+AJ24)-AL24) | AN24: =IF(OR(AM24="",V24="",V24=0),"",ROUND(AM24/V24,2)) | AO24: =IF(OR(Y24="",AM24="",AM24=0),"",ROUND(Y24/AM24,2)) | AP24: =IF(OR(AM24="",Y24="",Y24=0),"",ROUND(AM24/Y24,2)) | AQ24: =IF(OR(L24="",V24="",V24=0),"",ROUND(L24/V24,1)) | AR24: =IF(OR('INFORME DIARIO MAQUINARIA'!$O24="",'INFORME DIARIO MAQUINARIA'!$AH24="",'INFORME DIARIO MAQUINARIA'!$AH24=0),"",ROUND('INFORME DIARIO MAQUINARIA'!$O24/'INFORME DIARIO MAQUINARIA'!$AH24,1)) | AS24: =IFERROR(IF(OR(V24="",AE24="",V24<=0,AE24<0),"",AE24/V24),"")
B25: 46154 | C25: MARTES | D25: 1 | E25: RETROEXCAVADORA #17 | F25: ROLANDO RIOJA | G25: 13 | H25: ESCUDORO | K25: CARGUIO DE MATERIAL PARA RELLENO | M25: 120 | S25: ='INFORME DIARIO MAQUINARIA'!$R25-'INFORME DIARIO MAQUINARIA'!$Q25 -> 0 | V25: =IF(U25-T25=0,"",U25-T25) | Y25: =IF(X25-W25=0,"",X25-W25) | AB25: ='INFORME DIARIO MAQUINARIA'!$AA25-'INFORME DIARIO MAQUINARIA'!$Z25 -> 0 | AE25: =IF(AD25-AC25=0,"",AD25-AC25) | AH25: =IF(AG25-AF25=0,"",AG25-AF25) | AM25: =IF((AK25+AJ25)-AL25=0,"",(AK25+AJ25)-AL25) | AN25: =IF(OR(AM25="",V25="",V25=0),"",ROUND(AM25/V25,2)) | AO25: =IF(OR(Y25="",AM25="",AM25=0),"",ROUND(Y25/AM25,2)) | AP25: =IF(OR(AM25="",Y25="",Y25=0),"",ROUND(AM25/Y25,2)) | AQ25: =IF(OR(L25="",V25="",V25=0),"",ROUND(L25/V25,1)) | AR25: =IF(OR('INFORME DIARIO MAQUINARIA'!$O25="",'INFORME DIARIO MAQUINARIA'!$AH25="",'INFORME DIARIO MAQUINARIA'!$AH25=0),"",ROUND('INFORME DIARIO MAQUINARIA'!$O25/'INFORME DIARIO MAQUINARIA'!$AH25,1)) | AS25: =IFERROR(IF(OR(V25="",AE25="",V25<=0,AE25<0),"",AE25/V25),"")
B26: 46154 | C26: MARTES | D26: 1 | E26: RETROEXCAVADORA #33 | F26: ELEODORO ALBA | G26: 13 | H26: LOMA GRANDE | K26: CARGUIO DE MATERIAL PARA RELLENO | M26: 132 | S26: ='INFORME DIARIO MAQUINARIA'!$R26-'INFORME DIARIO MAQUINARIA'!$Q26 -> 0 | V26: =IF(U26-T26=0,"",U26-T26) | Y26: =IF(X26-W26=0,"",X26-W26) | AB26: ='INFORME DIARIO MAQUINARIA'!$AA26-'INFORME DIARIO MAQUINARIA'!$Z26 -> 0 | AE26: =IF(AD26-AC26=0,"",AD26-AC26) | AH26: =IF(AG26-AF26=0,"",AG26-AF26) | AM26: =IF((AK26+AJ26)-AL26=0,"",(AK26+AJ26)-AL26) | AN26: =IF(OR(AM26="",V26="",V26=0),"",ROUND(AM26/V26,2)) | AO26: =IF(OR(Y26="",AM26="",AM26=0),"",ROUND(Y26/AM26,2)) | AP26: =IF(OR(AM26="",Y26="",Y26=0),"",ROUND(AM26/Y26,2)) | AQ26: =IF(OR(L26="",V26="",V26=0),"",ROUND(L26/V26,1)) | AR26: =IF(OR('INFORME DIARIO MAQUINARIA'!$O26="",'INFORME DIARIO MAQUINARIA'!$AH26="",'INFORME DIARIO MAQUINARIA'!$AH26=0),"",ROUND('INFORME DIARIO MAQUINARIA'!$O26/'INFORME DIARIO MAQUINARIA'!$AH26,1)) | AS26: =IFERROR(IF(OR(V26="",AE26="",V26<=0,AE26<0),"",AE26/V26),"")
B27: 46154 | C27: MARTES | D27: 1 | E27: MOTONIVELADORA #13 | F27: LEONARDO MORENO | G27: 13 | H27: ESCUDORO | K27: MANTENIMIENTO DE VIAS NO PAVIMENTADAS | L27: 850 | S27: ='INFORME DIARIO MAQUINARIA'!$R27-'INFORME DIARIO MAQUINARIA'!$Q27 -> 0 | V27: =IF(U27-T27=0,"",U27-T27) | Y27: =IF(X27-W27=0,"",X27-W27) | AB27: ='INFORME DIARIO MAQUINARIA'!$AA27-'INFORME DIARIO MAQUINARIA'!$Z27 -> 0 | AE27: =IF(AD27-AC27=0,"",AD27-AC27) | AH27: =IF(AG27-AF27=0,"",AG27-AF27) | AM27: =IF((AK27+AJ27)-AL27=0,"",(AK27+AJ27)-AL27) | AN27: =IF(OR(AM27="",V27="",V27=0),"",ROUND(AM27/V27,2)) | AO27: =IF(OR(Y27="",AM27="",AM27=0),"",ROUND(Y27/AM27,2)) | AP27: =IF(OR(AM27="",Y27="",Y27=0),"",ROUND(AM27/Y27,2)) | AQ27: =IF(OR(L27="",V27="",V27=0),"",ROUND(L27/V27,1)) | AR27: =IF(OR('INFORME DIARIO MAQUINARIA'!$O27="",'INFORME DIARIO MAQUINARIA'!$AH27="",'INFORME DIARIO MAQUINARIA'!$AH27=0),"",ROUND('INFORME DIARIO MAQUINARIA'!$O27/'INFORME DIARIO MAQUINARIA'!$AH27,1)) | AS27: =IFERROR(IF(OR(V27="",AE27="",V27<=0,AE27<0),"",AE27/V27),"")
B28: 46154 | C28: MARTES | D28: 1 | E28: EXCAVADORA DOOSAN | F28: IVER FLORES | G28: 13 | H28: AV. RADIAL 12 FINAL | J28: CANALES NO REVESTIDO | K28: LIMPIEZA DE CANAL NO REVESTIDO | P28: 200 | S28: ='INFORME DIARIO MAQUINARIA'!$R28-'INFORME DIARIO MAQUINARIA'!$Q28 -> 0 | V28: =IF(U28-T28=0,"",U28-T28) | Y28: =IF(X28-W28=0,"",X28-W28) | AB28: ='INFORME DIARIO MAQUINARIA'!$AA28-'INFORME DIARIO MAQUINARIA'!$Z28 -> 0 | AE28: =IF(AD28-AC28=0,"",AD28-AC28) | AH28: =IF(AG28-AF28=0,"",AG28-AF28) | AM28: =IF((AK28+AJ28)-AL28=0,"",(AK28+AJ28)-AL28) | AN28: =IF(OR(AM28="",V28="",V28=0),"",ROUND(AM28/V28,2)) | AO28: =IF(OR(Y28="",AM28="",AM28=0),"",ROUND(Y28/AM28,2)) | AP28: =IF(OR(AM28="",Y28="",Y28=0),"",ROUND(AM28/Y28,2)) | AQ28: =IF(OR(L28="",V28="",V28=0),"",ROUND(L28/V28,1)) | AR28: =IF(OR('INFORME DIARIO MAQUINARIA'!$O28="",'INFORME DIARIO MAQUINARIA'!$AH28="",'INFORME DIARIO MAQUINARIA'!$AH28=0),"",ROUND('INFORME DIARIO MAQUINARIA'!$O28/'INFORME DIARIO MAQUINARIA'!$AH28,1)) | AS28: =IFERROR(IF(OR(V28="",AE28="",V28<=0,AE28<0),"",AE28/V28),"")
B29: 46154 | C29: MARTES | D29: 1 | E29: VOLQUETA 6327 EBR | F29: EMILIANO VARGAS | G29: 13 | H29: LOMA GRANDE | K29: TRANSPORTE DE MATERIAL PARA RELLENO | N29: 6 | O29: 72 | S29: ='INFORME DIARIO MAQUINARIA'!$R29-'INFORME DIARIO MAQUINARIA'!$Q29 -> 0 | V29: =IF(U29-T29=0,"",U29-T29) | Y29: =IF(X29-W29=0,"",X29-W29) | AB29: ='INFORME DIARIO MAQUINARIA'!$AA29-'INFORME DIARIO MAQUINARIA'!$Z29 -> 0 | AE29: =IF(AD29-AC29=0,"",AD29-AC29) | AH29: =IF(AG29-AF29=0,"",AG29-AF29) | AM29: =IF((AK29+AJ29)-AL29=0,"",(AK29+AJ29)-AL29) | AN29: =IF(OR(AM29="",V29="",V29=0),"",ROUND(AM29/V29,2)) | AO29: =IF(OR(Y29="",AM29="",AM29=0),"",ROUND(Y29/AM29,2)) | AP29: =IF(OR(AM29="",Y29="",Y29=0),"",ROUND(AM29/Y29,2)) | AQ29: =IF(OR(L29="",V29="",V29=0),"",ROUND(L29/V29,1)) | AR29: =IF(OR('INFORME DIARIO MAQUINARIA'!$O29="",'INFORME DIARIO MAQUINARIA'!$AH29="",'INFORME DIARIO MAQUINARIA'!$AH29=0),"",ROUND('INFORME DIARIO MAQUINARIA'!$O29/'INFORME DIARIO MAQUINARIA'!$AH29,1)) | AS29: =IFERROR(IF(OR(V29="",AE29="",V29<=0,AE29<0),"",AE29/V29),"")
B30: 46154 | C30: MARTES | D30: 1 | E30: VOLQUETA 6327 EGK | F30: GOEL ROSSEL | G30: 13 | H30: LOMA GRANDE | K30: TRANSPORTE DE MATERIAL PARA RELLENO | N30: 5 | O30: 60 | S30: ='INFORME DIARIO MAQUINARIA'!$R30-'INFORME DIARIO MAQUINARIA'!$Q30 -> 0 | V30: =IF(U30-T30=0,"",U30-T30) | Y30: =IF(X30-W30=0,"",X30-W30) | AB30: ='INFORME DIARIO MAQUINARIA'!$AA30-'INFORME DIARIO MAQUINARIA'!$Z30 -> 0 | AE30: =IF(AD30-AC30=0,"",AD30-AC30) | AH30: =IF(AG30-AF30=0,"",AG30-AF30) | AM30: =IF((AK30+AJ30)-AL30=0,"",(AK30+AJ30)-AL30) | AN30: =IF(OR(AM30="",V30="",V30=0),"",ROUND(AM30/V30,2)) | AO30: =IF(OR(Y30="",AM30="",AM30=0),"",ROUND(Y30/AM30,2)) | AP30: =IF(OR(AM30="",Y30="",Y30=0),"",ROUND(AM30/Y30,2)) | AQ30: =IF(OR(L30="",V30="",V30=0),"",ROUND(L30/V30,1)) | AR30: =IF(OR('INFORME DIARIO MAQUINARIA'!$O30="",'INFORME DIARIO MAQUINARIA'!$AH30="",'INFORME DIARIO MAQUINARIA'!$AH30=0),"",ROUND('INFORME DIARIO MAQUINARIA'!$O30/'INFORME DIARIO MAQUINARIA'!$AH30,1)) | AS30: =IFERROR(IF(OR(V30="",AE30="",V30<=0,AE30<0),"",AE30/V30),"")
B31: 46154 | C31: MARTES | D31: 1 | E31: MOTONIVELADORA #49 | F31: ELVIS RIVERO | G31: 13 | H31: LOMA GRANDE | K31: MANTENIMIENTO DE VIAS NO PAVIMENTADAS | L31: 1200 | S31: ='INFORME DIARIO MAQUINARIA'!$R31-'INFORME DIARIO MAQUINARIA'!$Q31 -> 0 | V31: =IF(U31-T31=0,"",U31-T31) | Y31: =IF(X31-W31=0,"",X31-W31) | AB31: ='INFORME DIARIO MAQUINARIA'!$AA31-'INFORME DIARIO MAQUINARIA'!$Z31 -> 0 | AE31: =IF(AD31-AC31=0,"",AD31-AC31) | AH31: =IF(AG31-AF31=0,"",AG31-AF31) | AM31: =IF((AK31+AJ31)-AL31=0,"",(AK31+AJ31)-AL31) | AN31: =IF(OR(AM31="",V31="",V31=0),"",ROUND(AM31/V31,2)) | AO31: =IF(OR(Y31="",AM31="",AM31=0),"",ROUND(Y31/AM31,2)) | AP31: =IF(OR(AM31="",Y31="",Y31=0),"",ROUND(AM31/Y31,2)) | AQ31: =IF(OR(L31="",V31="",V31=0),"",ROUND(L31/V31,1)) | AR31: =IF(OR('INFORME DIARIO MAQUINARIA'!$O31="",'INFORME DIARIO MAQUINARIA'!$AH31="",'INFORME DIARIO MAQUINARIA'!$AH31=0),"",ROUND('INFORME DIARIO MAQUINARIA'!$O31/'INFORME DIARIO MAQUINARIA'!$AH31,1)) | AS31: =IFERROR(IF(OR(V31="",AE31="",V31<=0,AE31<0),"",AE31/V31),"")
B32: 46154 | C32: MARTES | D32: 1 | E32: VOLQUETA 6327 EIT | F32: HERNAN CANDIA | G32: 13 | H32: RECREO 1 | K32: CARGUIO DE MATERIAL PARA RELLENO | N32: 5 | O32: 60 | S32: ='INFORME DIARIO MAQUINARIA'!$R32-'INFORME DIARIO MAQUINARIA'!$Q32 -> 0 | V32: =IF(U32-T32=0,"",U32-T32) | Y32: =IF(X32-W32=0,"",X32-W32) | AB32: ='INFORME DIARIO MAQUINARIA'!$AA32-'INFORME DIARIO MAQUINARIA'!$Z32 -> 0 | AE32: =IF(AD32-AC32=0,"",AD32-AC32) | AH32: =IF(AG32-AF32=0,"",AG32-AF32) | AM32: =IF((AK32+AJ32)-AL32=0,"",(AK32+AJ32)-AL32) | AN32: =IF(OR(AM32="",V32="",V32=0),"",ROUND(AM32/V32,2)) | AO32: =IF(OR(Y32="",AM32="",AM32=0),"",ROUND(Y32/AM32,2)) | AP32: =IF(OR(AM32="",Y32="",Y32=0),"",ROUND(AM32/Y32,2)) | AQ32: =IF(OR(L32="",V32="",V32=0),"",ROUND(L32/V32,1)) | AR32: =IF(OR('INFORME DIARIO MAQUINARIA'!$O32="",'INFORME DIARIO MAQUINARIA'!$AH32="",'INFORME DIARIO MAQUINARIA'!$AH32=0),"",ROUND('INFORME DIARIO MAQUINARIA'!$O32/'INFORME DIARIO MAQUINARIA'!$AH32,1)) | AS32: =IFERROR(IF(OR(V32="",AE32="",V32<=0,AE32<0),"",AE32/V32),"")
B33: 46154 | C33: MARTES | D33: 1 | E33: MOTONIVELADORA #33 | F33: EDIL CARBAJAL | G33: 14 | H33: BARRIO SAMARIA II | K33: MANTENIMIENTO DE VIAS NO PAVIMENTADAS | L33: 1680 | S33: ='INFORME DIARIO MAQUINARIA'!$R33-'INFORME DIARIO MAQUINARIA'!$Q33 -> 0 | V33: =IF(U33-T33=0,"",U33-T33) | Y33: =IF(X33-W33=0,"",X33-W33) | AB33: ='INFORME DIARIO MAQUINARIA'!$AA33-'INFORME DIARIO MAQUINARIA'!$Z33 -> 0 | AE33: =IF(AD33-AC33=0,"",AD33-AC33) | AH33: =IF(AG33-AF33=0,"",AG33-AF33) | AM33: =IF((AK33+AJ33)-AL33=0,"",(AK33+AJ33)-AL33) | AN33: =IF(OR(AM33="",V33="",V33=0),"",ROUND(AM33/V33,2)) | AO33: =IF(OR(Y33="",AM33="",AM33=0),"",ROUND(Y33/AM33,2)) | AP33: =IF(OR(AM33="",Y33="",Y33=0),"",ROUND(AM33/Y33,2)) | AQ33: =IF(OR(L33="",V33="",V33=0),"",ROUND(L33/V33,1)) | AR33: =IF(OR('INFORME DIARIO MAQUINARIA'!$O33="",'INFORME DIARIO MAQUINARIA'!$AH33="",'INFORME DIARIO MAQUINARIA'!$AH33=0),"",ROUND('INFORME DIARIO MAQUINARIA'!$O33/'INFORME DIARIO MAQUINARIA'!$AH33,1)) | AS33: =IFERROR(IF(OR(V33="",AE33="",V33<=0,AE33<0),"",AE33/V33),"")
B34: 46155 | C34: MIERCOLES | D34: 1 | E34: MOTONIVELADORA #44 | F34: ROLY OSINAGA | G34: 7 | H34: 15 DE MAYO | I34: 156 B | K34: MANTENIMIENTO DE CALLES Y VIAS NO PAVIMENTADAS | L34: 1500 | S34: ='INFORME DIARIO MAQUINARIA'!$R34-'INFORME DIARIO MAQUINARIA'!$Q34 -> 0 | V34: =IF(U34-T34=0,"",U34-T34) | Y34: =IF(X34-W34=0,"",X34-W34) | AB34: ='INFORME DIARIO MAQUINARIA'!$AA34-'INFORME DIARIO MAQUINARIA'!$Z34 -> 0 | AE34: =IF(AD34-AC34=0,"",AD34-AC34) | AH34: =IF(AG34-AF34=0,"",AG34-AF34) | AM34: =IF((AK34+AJ34)-AL34=0,"",(AK34+AJ34)-AL34) | AN34: =IF(OR(AM34="",V34="",V34=0),"",ROUND(AM34/V34,2)) | AO34: =IF(OR(Y34="",AM34="",AM34=0),"",ROUND(Y34/AM34,2)) | AP34: =IF(OR(AM34="",Y34="",Y34=0),"",ROUND(AM34/Y34,2)) | AQ34: =IF(OR(L34="",V34="",V34=0),"",ROUND(L34/V34,1)) | AR34: =IF(OR('INFORME DIARIO MAQUINARIA'!$O34="",'INFORME DIARIO MAQUINARIA'!$AH34="",'INFORME DIARIO MAQUINARIA'!$AH34=0),"",ROUND('INFORME DIARIO MAQUINARIA'!$O34/'INFORME DIARIO MAQUINARIA'!$AH34,1)) | AS34: =IFERROR(IF(OR(V34="",AE34="",V34<=0,AE34<0),"",AE34/V34),"")
B35: 46155 | C35: MIERCOLES | D35: 1 | E35: MOTONIVELADORA #35 | F35: JUSTO ARIAS | G35: 10 | H35: BAJO BENI | I35: 191 | K35: MANTENIMIENTO DE CALLES Y VIAS NO PAVIMENTADAS | L35: 1450 | S35: ='INFORME DIARIO MAQUINARIA'!$R35-'INFORME DIARIO MAQUINARIA'!$Q35 -> 0 | V35: =IF(U35-T35=0,"",U35-T35) | Y35: =IF(X35-W35=0,"",X35-W35) | AB35: ='INFORME DIARIO MAQUINARIA'!$AA35-'INFORME DIARIO MAQUINARIA'!$Z35 -> 0 | AE35: =IF(AD35-AC35=0,"",AD35-AC35) | AH35: =IF(AG35-AF35=0,"",AG35-AF35) | AM35: =IF((AK35+AJ35)-AL35=0,"",(AK35+AJ35)-AL35) | AN35: =IF(OR(AM35="",V35="",V35=0),"",ROUND(AM35/V35,2)) | AO35: =IF(OR(Y35="",AM35="",AM35=0),"",ROUND(Y35/AM35,2)) | AP35: =IF(OR(AM35="",Y35="",Y35=0),"",ROUND(AM35/Y35,2)) | AQ35: =IF(OR(L35="",V35="",V35=0),"",ROUND(L35/V35,1)) | AR35: =IF(OR('INFORME DIARIO MAQUINARIA'!$O35="",'INFORME DIARIO MAQUINARIA'!$AH35="",'INFORME DIARIO MAQUINARIA'!$AH35=0),"",ROUND('INFORME DIARIO MAQUINARIA'!$O35/'INFORME DIARIO MAQUINARIA'!$AH35,1)) | AS35: =IFERROR(IF(OR(V35="",AE35="",V35<=0,AE35<0),"",AE35/V35),"")
B36: 46155 | C36: MIÉRCOLES | D36: 1 | E36: RETROEXCAVADORA #12 | F36: PABLO ARIAS | G36: 10 | H36: BAJO BENI | I36: 191 | K36: CARGUIO DE MATERIAL PARA RELLENO | M36: 132 | S36: ='INFORME DIARIO MAQUINARIA'!$R36-'INFORME DIARIO MAQUINARIA'!$Q36 -> 0 | V36: =IF(U36-T36=0,"",U36-T36) | Y36: =IF(X36-W36=0,"",X36-W36) | AB36: ='INFORME DIARIO MAQUINARIA'!$AA36-'INFORME DIARIO MAQUINARIA'!$Z36 -> 0 | AE36: =IF(AD36-AC36=0,"",AD36-AC36) | AH36: =IF(AG36-AF36=0,"",AG36-AF36) | AM36: =IF((AK36+AJ36)-AL36=0,"",(AK36+AJ36)-AL36) | AN36: =IF(OR(AM36="",V36="",V36=0),"",ROUND(AM36/V36,2)) | AO36: =IF(OR(Y36="",AM36="",AM36=0),"",ROUND(Y36/AM36,2)) | AP36: =IF(OR(AM36="",Y36="",Y36=0),"",ROUND(AM36/Y36,2)) | AQ36: =IF(OR(L36="",V36="",V36=0),"",ROUND(L36/V36,1)) | AR36: =IF(OR('INFORME DIARIO MAQUINARIA'!$O36="",'INFORME DIARIO MAQUINARIA'!$AH36="",'INFORME DIARIO MAQUINARIA'!$AH36=0),"",ROUND('INFORME DIARIO MAQUINARIA'!$O36/'INFORME DIARIO MAQUINARIA'!$AH36,1)) | AS36: =IFERROR(IF(OR(V36="",AE36="",V36<=0,AE36<0),"",AE36/V36),"")
B37: 46155 | C37: MIÉRCOLES | D37: 1 | E37: VOLQUETA 6327 EFG | F37: FERNANDO OLLER | G37: 10 | H37: BAJO BENI | I37: 191 | K37: TRANSPORTE DE MATERIAL PARA RELLENO | N37: 5 | O37: 60 | S37: ='INFORME DIARIO MAQUINARIA'!$R37-'INFORME DIARIO MAQUINARIA'!$Q37 -> 0 | V37: =IF(U37-T37=0,"",U37-T37) | Y37: =IF(X37-W37=0,"",X37-W37) | AB37: ='INFORME DIARIO MAQUINARIA'!$AA37-'INFORME DIARIO MAQUINARIA'!$Z37 -> 0 | AE37: =IF(AD37-AC37=0,"",AD37-AC37) | AH37: =IF(AG37-AF37=0,"",AG37-AF37) | AM37: =IF((AK37+AJ37)-AL37=0,"",(AK37+AJ37)-AL37) | AN37: =IF(OR(AM37="",V37="",V37=0),"",ROUND(AM37/V37,2)) | AO37: =IF(OR(Y37="",AM37="",AM37=0),"",ROUND(Y37/AM37,2)) | AP37: =IF(OR(AM37="",Y37="",Y37=0),"",ROUND(AM37/Y37,2)) | AQ37: =IF(OR(L37="",V37="",V37=0),"",ROUND(L37/V37,1)) | AR37: =IF(OR('INFORME DIARIO MAQUINARIA'!$O37="",'INFORME DIARIO MAQUINARIA'!$AH37="",'INFORME DIARIO MAQUINARIA'!$AH37=0),"",ROUND('INFORME DIARIO MAQUINARIA'!$O37/'INFORME DIARIO MAQUINARIA'!$AH37,1)) | AS37: =IFERROR(IF(OR(V37="",AE37="",V37<=0,AE37<0),"",AE37/V37),"")
B38: 46155 | C38: MIÉRCOLES | D38: 1 | E38: VOLQUETA 6327 EHP | F38: WILDER NOGALES | G38: 10 | H38: BAJO BENI | I38: 191 | K38: TRANSPORTE DE MATERIAL PARA RELLENO | N38: 6 | O38: 72 | S38: ='INFORME DIARIO MAQUINARIA'!$R38-'INFORME DIARIO MAQUINARIA'!$Q38 -> 0 | V38: =IF(U38-T38=0,"",U38-T38) | Y38: =IF(X38-W38=0,"",X38-W38) | AB38: ='INFORME DIARIO MAQUINARIA'!$AA38-'INFORME DIARIO MAQUINARIA'!$Z38 -> 0 | AE38: =IF(AD38-AC38=0,"",AD38-AC38) | AH38: =IF(AG38-AF38=0,"",AG38-AF38) | AM38: =IF((AK38+AJ38)-AL38=0,"",(AK38+AJ38)-AL38) | AN38: =IF(OR(AM38="",V38="",V38=0),"",ROUND(AM38/V38,2)) | AO38: =IF(OR(Y38="",AM38="",AM38=0),"",ROUND(Y38/AM38,2)) | AP38: =IF(OR(AM38="",Y38="",Y38=0),"",ROUND(AM38/Y38,2)) | AQ38: =IF(OR(L38="",V38="",V38=0),"",ROUND(L38/V38,1)) | AR38: =IF(OR('INFORME DIARIO MAQUINARIA'!$O38="",'INFORME DIARIO MAQUINARIA'!$AH38="",'INFORME DIARIO MAQUINARIA'!$AH38=0),"",ROUND('INFORME DIARIO MAQUINARIA'!$O38/'INFORME DIARIO MAQUINARIA'!$AH38,1)) | AS38: =IFERROR(IF(OR(V38="",AE38="",V38<=0,AE38<0),"",AE38/V38),"")
B39: 46155 | C39: MIÉRCOLES | D39: 1 | E39: EXCAVADORA DOOSAN | F39: IVER FLORES | G39: 13 | H39: AV. RADIAL 12 FINAL | J39: CANAL NO REVESTIDO | K39: LIMPIEZA DE CANAL REVESTIDO CON CARGUIO Y TRANSPORTE DE MATERIAL PARA RELLENO | M39: 72 | P39: 450 | S39: ='INFORME DIARIO MAQUINARIA'!$R39-'INFORME DIARIO MAQUINARIA'!$Q39 -> 0 | V39: =IF(U39-T39=0,"",U39-T39) | Y39: =IF(X39-W39=0,"",X39-W39) | AB39: ='INFORME DIARIO MAQUINARIA'!$AA39-'INFORME DIARIO MAQUINARIA'!$Z39 -> 0 | AE39: =IF(AD39-AC39=0,"",AD39-AC39) | AH39: =IF(AG39-AF39=0,"",AG39-AF39) | AM39: =IF((AK39+AJ39)-AL39=0,"",(AK39+AJ39)-AL39) | AN39: =IF(OR(AM39="",V39="",V39=0),"",ROUND(AM39/V39,2)) | AO39: =IF(OR(Y39="",AM39="",AM39=0),"",ROUND(Y39/AM39,2)) | AP39: =IF(OR(AM39="",Y39="",Y39=0),"",ROUND(AM39/Y39,2)) | AQ39: =IF(OR(L39="",V39="",V39=0),"",ROUND(L39/V39,1)) | AR39: =IF(OR('INFORME DIARIO MAQUINARIA'!$O39="",'INFORME DIARIO MAQUINARIA'!$AH39="",'INFORME DIARIO MAQUINARIA'!$AH39=0),"",ROUND('INFORME DIARIO MAQUINARIA'!$O39/'INFORME DIARIO MAQUINARIA'!$AH39,1)) | AS39: =IFERROR(IF(OR(V39="",AE39="",V39<=0,AE39<0),"",AE39/V39),"")
B40: 46155 | C40: MIÉRCOLES | D40: 1 | E40: VOLQUETA 6327 EIT | F40: HERNAN CANDIA | G40: 13 | H40: AV. RADIAL 12 FINAL | K40: TRANSPORTE DE MATERIAL EXCEDENTE | N40: 6 | O40: 72 | S40: ='INFORME DIARIO MAQUINARIA'!$R40-'INFORME DIARIO MAQUINARIA'!$Q40 -> 0 | V40: =IF(U40-T40=0,"",U40-T40) | Y40: =IF(X40-W40=0,"",X40-W40) | AB40: ='INFORME DIARIO MAQUINARIA'!$AA40-'INFORME DIARIO MAQUINARIA'!$Z40 -> 0 | AE40: =IF(AD40-AC40=0,"",AD40-AC40) | AH40: =IF(AG40-AF40=0,"",AG40-AF40) | AM40: =IF((AK40+AJ40)-AL40=0,"",(AK40+AJ40)-AL40) | AN40: =IF(OR(AM40="",V40="",V40=0),"",ROUND(AM40/V40,2)) | AO40: =IF(OR(Y40="",AM40="",AM40=0),"",ROUND(Y40/AM40,2)) | AP40: =IF(OR(AM40="",Y40="",Y40=0),"",ROUND(AM40/Y40,2)) | AQ40: =IF(OR(L40="",V40="",V40=0),"",ROUND(L40/V40,1)) | AR40: =IF(OR('INFORME DIARIO MAQUINARIA'!$O40="",'INFORME DIARIO MAQUINARIA'!$AH40="",'INFORME DIARIO MAQUINARIA'!$AH40=0),"",ROUND('INFORME DIARIO MAQUINARIA'!$O40/'INFORME DIARIO MAQUINARIA'!$AH40,1)) | AS40: =IFERROR(IF(OR(V40="",AE40="",V40<=0,AE40<0),"",AE40/V40),"")
...
